{"text_format":"1","workbook":"xlsx","n_sheets":7,"sheets":["Round B1","Round B","build 70B1","Flow charts","build 63","340 table","450 table"],"not_rendered":{"charts":9,"images":4,"macros":1,"external_links":0,"defined_names":0,"comments":6,"pivot_tables":0},"unopened":[],"bounds":{"document_bytes":16777216,"sheet_cells":100000,"rows_first":2000,"rows_last":500,"rows_between":2000,"halvings":0,"cell_chars":16384,"cell_head_chars":4096},"cells_cut":0,"cells_raw":0,"read":"whole","date_system":"1900"}

{"sheet":"Round B1","index":0,"n_rows":148,"n_cols":37,"rows_kept":148,"cut":false,"hidden":false,"merged":[[137,0,142,0],[121,2,121,3],[54,2,55,2],[54,3,55,3],[54,8,55,8],[121,7,121,9],[123,0,128,0],[130,0,135,0],[54,9,55,9],[54,10,55,10],[54,11,55,11],[111,0,119,0],[54,12,55,12],[78,0,88,0],[75,0,75,4],[66,0,66,4],[76,2,76,3],[54,13,55,13],[89,18,89,20],[89,21,89,23],[89,24,89,26],[89,27,89,29],[4,7,4,8],[6,7,6,8],[6,3,6,4],[13,6,14,13],[5,3,5,4],[5,7,5,8],[4,3,4,4],[7,3,7,4],[8,3,8,4],[14,2,14,3],[144,0,147,0],[7,7,7,8],[8,7,8,8],[75,7,76,13],[66,7,67,13],[20,0,27,0],[16,0,18,0],[101,0,109,0],[69,0,72,0],[38,0,45,0],[47,0,53,0],[56,0,63,0],[91,0,99,0],[29,0,36,0],[67,2,67,3],[54,4,55,4]]}
[null,null,"Legend"]
[null,null,"Published Flow Equation Parameters"]
[null,null,"For sample flow calculations: enter pressure data "]
[null,null,"identifies the same Range but depending on PrA sign (or if 'set to 0 Pa' is implemented), different flow equation parameters are used"]
[null,null,"\"Round\"","Date released",null,null,null,"Version released"]
[null,null,1,"2025-06-17",null,null,null,"1.1.5 12A-3D"]
[null,null,"B1","2015-12-01",null,null,null,"2.4.71B1"]
[null,null,"B","2015-06-23",null,null,null,"2.3.62"]
[null,null,"A","2014-11-09",null,null,null,"2.2.49"]
[]
[null,null,"Hide detailed specs:",null,"Yes"]
[null,null,"Metric Units:",null,"m3/h"]
[]
[null,null,null,null,null,null,"Flow = (P-|PrA|*K1)N*(K+P*K3)                \n                                                                                                                                                                                                                                                                                                                                                                                                                                                                                                                                                              Since K1 and K3 are 0 for 300 & 340 & 350 & 450 systems, this equation can be simplified to:  Flow = PN*K , i.e. no backpressure compensation because PrA becomes irrelevant\n\nCondition that must be true, or else “- -“ is displayed for flow result:  \n                                                                                                                                                                                                                                         PrB>=MF, PrB>=|PrA|*K2, PrB>0     "]
[null,null,"Enter Pressures appearing on gauge",null,"Fan Pressure used in flow equation",null,null,null,null,null,null,null,null,null,"min Fan Pressure, Pa",null,null,null,"max Fan Pressure, Pa",null,"min Flow, CFM",null,null,"max Flow, CFM",null,null,"Master plug S/N"]
["Device","Range","PrA,           Pa","PrB,          Pa ","P,                  Pa","CFM calculation",{"$f":"IF($E$12=\"m3/h\",\"m3/h displayed on DM32\",IF($E$12=\"m3/s\",\"m3/s displayed on DM32\",IF($E$12=\"L/s\",\"L/s displayed on DM32\",\"Metric displayed on DM32\")))","v":"m3/h displayed on DM32"},"CFM displayed on DM32","N","K","K1","K2","K3","MF",0,25,50,0,50,null,0,25,50,0,50]
[240,"Open",25,300,{"$f":"IF(OR(C17=\"\",D17=\"\", D17<0),\"---\",        IF(AND(D17>=N17,D17>=ABS(C17)*L17),D17,\"---\"))","v":300},{"$f":"IF(OR(#REF!=\"\", E17=\"\"),\"\",(E17-#REF!*K17)^I17*(J17+E17*M17))","v":{"$error":"#REF!"}},{"$f":"IF($E$12=\"m3/h\",IF(H17=\"---\",\"---\",(H17*(1/0.58857777866))),IF($E$12=\"m3/s\",IF(H17=\"---\",\"---\",FIXED((H17*0.0004719474432),5,FALSE)),IF($E$12=\"L/s\",IF(H17=\"---\",\"---\",(H17*0.47194745)),\"---\")))","v":967.10936567185036},{"$f":"IF(E17=\"---\",\"---\", (E17-ABS(C17)*K17)^I17*(J17+E17*M17))","v":569.21908216841939},0.51149999999999995,30.7774,0,0.2,0,10,{"$f":"IF($L17*O$16>$N17, $L17*O$16, $N17)","v":10},{"$f":"IF($L17*P$16>$N17, $L17*P$16, $N17)","v":10},{"$f":"IF($L17*Q$16>$N17, $L17*Q$16, $N17)","v":10},null,null,null,{"$f":"(O$17-ABS(U$16)*$K17)^$I17*($J17+O$17*$M17)","v":99.938293394953206},{"$f":"(P$17-ABS(V$16)*$K17)^$I17*($J17+P$17*$M17)","v":99.938293394953206},{"$f":"(Q$17-ABS(W$16)*$K17)^$I17*($J17+Q$17*$M17)","v":99.938293394953206}]
[null,"Mid",25,200,{"$f":"IF(OR(C18=\"\",D18=\"\", D18<0),\"---\",        IF(AND(D18>=N18,D18>=ABS(C18)*L18),D18,\"---\"))","v":200},{"$f":"IF(OR(#REF!=\"\", E18=\"\"),\"\",(E18-#REF!*K18)^I18*(J18+E18*M18))","v":{"$error":"#REF!"}},{"$f":"IF($E$12=\"m3/h\",IF(H18=\"---\",\"---\",(H18*(1/0.58857777866))),IF($E$12=\"m3/s\",IF(H18=\"---\",\"---\",FIXED((H18*0.0004719474432),5,FALSE)),IF($E$12=\"L/s\",IF(H18=\"---\",\"---\",(H18*0.47194745)),\"---\")))","v":177.06358780847512},{"$f":"IF(E18=\"---\",\"---\", (E18-ABS(C18)*K18)^I18*(J18+E18*M18))","v":104.21569319388215},0.54149999999999998,5.9146000000000001,0,0.5,0,25,{"$f":"IF($L18*O$16>$N18, $L18*O$16, $N18)","v":25},25,25,null,null,null,{"$f":"(O$18-ABS(U$16)*$K18)^$I18*($J18+O$18*$M18)","v":33.79947026141047},{"$f":"(P$18-ABS(V$16)*$K18)^$I18*($J18+P$18*$M18)","v":33.79947026141047},{"$f":"(Q$18-ABS(W$16)*$K18)^$I18*($J18+Q$18*$M18)","v":33.79947026141047}]
[null,"Low",25,300,{"$f":"IF(OR(C19=\"\",D19=\"\", D19<0),\"---\",        IF(AND(D19>=N19,D19>=ABS(C19)*L19),D19,\"---\"))","v":300},{"$f":"IF(OR(#REF!=\"\", E19=\"\"),\"\",(E19-#REF!*K19)^I19*(J19+E19*M19))","v":{"$error":"#REF!"}},56.284608686178409,{"$f":"IF(E19=\"---\",\"---\", (E19-ABS(C19)*K19)^I19*(J19+E19*M19))","v":33.127869953258234},0.61250000000000004,1.0056,-2.4E-2,0.5,0,25,25,25,25,null,null,null,{"$f":"(O$19-ABS(U$16)*$K19)^$I19*($J19+O$19*$M19)","v":7.2221003732841851},{"$f":"(P$19-ABS(V$16)*$K19)^$I19*($J19+P$19*$M19)","v":7.3277769845581542},{"$f":"(Q$19-ABS(W$16)*$K19)^$I19*($J19+Q$19*$M19)","v":7.4324980786886217}]
[null,null,null,null,null,null,null,null,null,null,null,null,null,null,null,null,null,null,null,"@50 Pa  with 10\" flex",null,null,null,null,null,"@50 Pa  with 10\" flex",null,null,null,null,null,null,"high","low","delta",null,"Flow Chart:"]
[300,"Open",25,100,{"$f":"IF(OR(C21=\"\",D21=\"\", D21<0),\"---\",        IF(AND(D21>=N21,D21>=ABS(C21)*L21),D21,\"---\"))","v":100},{"$f":"IF(OR(#REF!=\"\", E21=\"\"),\"\",(E21-#REF!*K21)^I21*(J21+E21*M21))","v":{"$error":"#REF!"}},472.37259769724415,{"$f":"IF(E21=\"---\",\"---\", (E21-ABS(C21)*K21)^I21*(J21+E21*M21))","v":278.02801425249783},0.49199999999999999,28.846196518042184,0,0.4,0,20,{"$f":"IF($L21*O$16>$N21, $L21*O$16, $N21)","v":20},{"$f":"IF($L21*P$16>$N21, $L21*P$16, $N21)","v":20},{"$f":"IF($L21*Q$16>$N21, $L21*Q$16, $N21)","v":20},730,690,605,{"$f":"O21^$I21*$J21","v":125.94917170386564},125.94917170386564,{"$f":"Q21^$I21*$J21","v":125.94917170386564},739.33864128943105,719.12156160650659,674.08118026144086,null,null,null,null,null,null,{"$f":"IF('Flow charts'!$A$7=$O$16,X21, IF('Flow charts'!$A$7=$Q$16,Y21,\"NO DATA\"))","v":719.12156160650659},{"$f":"IF('Flow charts'!$A$7=$O$16,U21,  IF('Flow charts'!$A$7=$Q$16,W21,\"NO DATA\"))","v":125.94917170386564},{"$f":"AG21-AH21","v":593.17238990264093},null,{"$f":"O16","v":0}]
[null,102,25,100,{"$f":"IF(OR(C22=\"\",D22=\"\", D22<0),\"---\",        IF(AND(D22>=N22,D22>=ABS(C22)*L22),D22,\"---\"))","v":100},{"$f":"IF(OR(#REF!=\"\", E22=\"\"),\"\",(E22-#REF!*K22)^I22*(J22+E22*M22))","v":{"$error":"#REF!"}},286.38481586318125,{"$f":"IF(E22=\"---\",\"---\", (E22-ABS(C22)*K22)^I22*(J22+E22*M22))","v":168.55973876270437},0.56499999999999995,12.49550606158,0,0.4,0,100,{"$f":"IF($L22*O$16>$N22, $L22*O$16, $N22)","v":100},100,100,730,695,null,{"$f":"O22^$I22*$J22","v":168.55973876270437},{"$f":"P22^$I22*$J22","v":168.55973876270437},{"$f":"Q22^$I22*$J22","v":168.55973876270437},{"$f":"R22^$I22*$J22","v":518.24039954302179},{"$f":"S22^$I22*$J22","v":504.05190926324633},null,null,null,null,null,null,null,{"$f":"IF('Flow charts'!$A$7=$O$16,X22, IF('Flow charts'!$A$7=$Q$16,Y22,\"NO DATA\"))","v":504.05190926324633},{"$f":"IF('Flow charts'!$A$7=$O$16,U22,  IF('Flow charts'!$A$7=$Q$16,W22,\"NO DATA\"))","v":168.55973876270437},{"$f":"AG22-AH22","v":335.49217050054199},null,{"$f":"Q16","v":50}]
[null,74,25,100,100,{"$f":"IF(OR(#REF!=\"\", E23=\"\"),\"\",(E23-#REF!*K23)^I23*(J23+E23*M23))","v":{"$error":"#REF!"}},121.75943203389643,71.66489603741401,0.501,7.1335625749575859,0,0.25,0,25,25,25,25,760,695,686.5,35.782808113783553,35.782808113783553,35.782808113783553,197.96758488558646,189.29574949270605,{"$f":"T23^$I23*$J23","v":188.13230933359097},1026580,null,null,null,null,null,{"$f":"IF('Flow charts'!$A$7=$O$16,X23, IF('Flow charts'!$A$7=$Q$16,Y23,\"NO DATA\"))","v":189.29574949270605},{"$f":"IF('Flow charts'!$A$7=$O$16,U23,  IF('Flow charts'!$A$7=$Q$16,W23,\"NO DATA\"))","v":35.782808113783553},153.51294137892251]
[null,47,25,100,100,{"$f":"IF(OR(#REF!=\"\", E24=\"\"),\"\",(E24-#REF!*K24)^I24*(J24+E24*M24))","v":{"$error":"#REF!"}},52.963207618114176,31.172967090578034,0.497,3.1606626260331878,0,0.1,0,30,30,30,30,860,805,null,17.135919159053074,{"$f":"P24^$I24*$J24","v":17.135919159053074},17.135919159053074,90.828861665728766,87.893891565288683,null,1000962,null,null,null,null,null,{"$f":"IF('Flow charts'!$A$7=$O$16,X24, IF('Flow charts'!$A$7=$Q$16,Y24,\"NO DATA\"))","v":87.893891565288683},{"$f":"IF('Flow charts'!$A$7=$O$16,U24,  IF('Flow charts'!$A$7=$Q$16,W24,\"NO DATA\"))","v":17.135919159053074},70.757972406235609]
[null,29,25,100,100,{"$f":"IF(OR(#REF!=\"\", E25=\"\"),\"\",(E25-#REF!*K25)^I25*(J25+E25*M25))","v":{"$error":"#REF!"}},19.622466427787909,11.549347701897833,0.50700000000000001,1.1182977634009417,0,0.2,0,30,30,30,30,915,850,null,6.2727493261362532,6.2727493261362532,6.2727493261362532,35.481171522964509,34.18006243160351,null,1000986,null,null,null,null,null,{"$f":"IF('Flow charts'!$A$7=$O$16,X25, IF('Flow charts'!$A$7=$Q$16,Y25,\"NO DATA\"))","v":34.18006243160351},{"$f":"IF('Flow charts'!$A$7=$O$16,U25,  IF('Flow charts'!$A$7=$Q$16,W25,\"NO DATA\"))","v":6.2727493261362532},27.907313105467257]
[null,18,25,100,100,{"$f":"IF(OR(#REF!=\"\", E26=\"\"),\"\",(E26-#REF!*K26)^I26*(J26+E26*M26))","v":{"$error":"#REF!"}},7.8037982935858254,4.593142264749444,0.51900000000000002,0.42083310570088067,0,0.25,0,30,30,30,30,940,890,null,2.4588714725083878,2.4588714725083878,2.4588714725083878,14.694785571852394,14.283785199008951,null,1000405,"Optional ",null,null,null,null,{"$f":"IF('Flow charts'!$A$7=$O$16,X26, IF('Flow charts'!$A$7=$Q$16,Y26,\"NO DATA\"))","v":14.283785199008951},{"$f":"IF('Flow charts'!$A$7=$O$16,U26,  IF('Flow charts'!$A$7=$Q$16,W26,\"NO DATA\"))","v":2.4588714725083878},11.824913726500563]
[null,11,25,100,100,{"$f":"IF(OR(#REF!=\"\", E27=\"\"),\"\",(E27-#REF!*K27)^I27*(J27+E27*M27))","v":{"$error":"#REF!"}},3.1999123124971449,1.8833972807963535,0.49199999999999999,0.1954078197100593,0,0.25,0,30,30,30,30,695,660,null,1.0415631260528506,1.0415631260528506,1.0415631260528506,4.8887571363242657,4.7660385998298187,null,1000481,"Optional ",null,null,null,null,{"$f":"IF('Flow charts'!$A$7=$O$16,X27, IF('Flow charts'!$A$7=$Q$16,Y27,\"NO DATA\"))","v":4.7660385998298187},{"$f":"IF('Flow charts'!$A$7=$O$16,U27,  IF('Flow charts'!$A$7=$Q$16,W27,\"NO DATA\"))","v":1.0415631260528506},3.7244754737769679]
[null,7,25,100,100,{"$f":"IF(OR(#REF!=\"\", E28=\"\"),\"\",(E28-#REF!*K28)^I28*(J28+E28*M28))","v":{"$error":"#REF!"}},1.2129743989312276,0.71392977729439067,0.48,7.828084343806592E-2,0,0.11,0,30,30,30,30,940,885,null,0.40056564484198981,0.40056564484198981,0.40056564484198981,2.0929404231444679,2.0332382268194409,null,1003185,"Optional ",null,null,null,null,{"$f":"IF('Flow charts'!$A$7=$O$16,X28, IF('Flow charts'!$A$7=$Q$16,Y28,\"NO DATA\"))","v":2.0332382268194409},{"$f":"IF('Flow charts'!$A$7=$O$16,U28,  IF('Flow charts'!$A$7=$Q$16,W28,\"NO DATA\"))","v":0.40056564484198981},1.632672581977451]
[null,null,null,null,null,null,null,null,null,null,null,null,null,null,null,null,null,null,null,"@25 Pa with 10\" flex",null,null,null,null,null,"@25 Pa with 10\" flex",null,null,null,"@25w/flex - @50 ",null,null,null,null,null,null,"Flow Chart:"]
[340,"Open",25,300,{"$f":"IF(OR(C30=\"\",D30=\"\", D30<0),\"---\",        IF(AND(D30>=N30,D30>=ABS(C30)*L30),D30,\"---\"))","v":300},{"$f":"IF(OR(#REF!=\"\", E30=\"\"),\"\",(E30-#REF!*K30)^I30*(J30+E30*M30))","v":{"$error":"#REF!"}},{"$f":"IF($E$12=\"m3/h\",IF(H30=\"---\",\"---\",(H30*(1/0.58857777866))),IF($E$12=\"m3/s\",IF(H30=\"---\",\"---\",FIXED((H30*0.0004719474432),5,FALSE)),IF($E$12=\"L/s\",IF(H30=\"---\",\"---\",(H30*0.47194745)),\"---\")))","v":811.01400445430693},{"$f":"IF(E30=\"---\",\"---\", (E30-ABS(C30)*K30)^I30*(J30+E30*M30))","v":477.34482120386735},0.49199999999999999,28.846196518042184,0,0.4,0,20,{"$f":"IF($L30*O$16>$N30, $L30*O$16, $N30)","v":20},20,20,730,690,731.7,125.94917170386564,125.94917170386564,125.94917170386564,739.33864128943105,{"$f":"S30^$I30*$J30","v":719.12156160650659},{"$f":"T30^$I30*$J30","v":740.18524059003676},null,null,null,{"$f":"Z30-Y30","v":21.063678983530167},null,null,{"$f":"IF('Flow charts'!$A$40=$O$16,X30, IF('Flow charts'!$A$40=$T$29,Z30,\"NO DATA\"))","v":739.33864128943105},{"$f":"IF('Flow charts'!$A$40=$O$16,U30, IF('Flow charts'!$A$40=$T$29,V30, \"NO DATA\"))","v":125.94917170386564},{"$f":"AG30-AH30","v":613.38946958556539},null,{"$f":"O16","v":0}]
[null,102,25,300,{"$f":"IF(OR(C31=\"\",D31=\"\", D31<0),\"---\",        IF(AND(D31>=N31,D31>=ABS(C31)*L31),D31,\"---\"))","v":300},{"$f":"IF(OR(#REF!=\"\", E31=\"\"),\"\",(E31-#REF!*K31)^I31*(J31+E31*M31))","v":{"$error":"#REF!"}},{"$f":"IF($E$12=\"m3/h\",IF(H31=\"---\",\"---\",(H31*(1/0.58857777866))),IF($E$12=\"m3/s\",IF(H31=\"---\",\"---\",FIXED((H31*0.0004719474432),5,FALSE)),IF($E$12=\"L/s\",IF(H31=\"---\",\"---\",(H31*0.47194745)),\"---\")))","v":532.75004718156003},{"$f":"IF(E31=\"---\",\"---\", (E31-ABS(C31)*K31)^I31*(J31+E31*M31))","v":313.56483935113283},0.56499999999999995,12.495506061579997,0,0.4,0,100,100,100,100,730,695,695,{"$f":"O31^$I31*$J31","v":168.55973876270431},168.55973876270431,168.55973876270431,518.24039954302157,504.05190926324616,504.05190926324616,null,null,null,0,null,null,{"$f":"IF('Flow charts'!$A$40=$O$16,X31, IF('Flow charts'!$A$40=$T$29,Z31,\"NO DATA\"))","v":518.24039954302157},{"$f":"IF('Flow charts'!$A$40=$O$16,U31, IF('Flow charts'!$A$40=$T$29,V31, \"NO DATA\"))","v":168.55973876270431},{"$f":"AG31-AH31","v":349.68066078031723}]
[null,74,25,300,300,{"$f":"IF(OR(#REF!=\"\", E32=\"\"),\"\",(E32-#REF!*K32)^I32*(J32+E32*M32))","v":{"$error":"#REF!"}},211.12534011442685,124.26368370338636,0.501,7.1335625749575859,0,0.25,0,25,25,25,25,760,695,330,35.782808113783553,35.782808113783553,35.782808113783553,197.96758488558646,189.29574949270605,130.34127323252318,null,null,null,-58.954476260182872,null,null,{"$f":"IF('Flow charts'!$A$40=$O$16,X32, IF('Flow charts'!$A$40=$T$29,Z32,\"NO DATA\"))","v":197.96758488558646},{"$f":"IF('Flow charts'!$A$40=$O$16,U32, IF('Flow charts'!$A$40=$T$29,V32, \"NO DATA\"))","v":35.782808113783553},162.18477677180292]
[null,47,25,300,300,{"$f":"IF(OR(#REF!=\"\", E33=\"\"),\"\",(E33-#REF!*K33)^I33*(J33+E33*M33))","v":{"$error":"#REF!"}},91.433120732295734,53.815503096566218,0.497,3.1606626260331878,0,0.1,0,30,30,30,30,860,805,415,17.135919159053074,17.135919159053074,17.135919159053074,90.828861665728766,87.893891565288683,63.233620013746616,null,null,null,-24.660271551542067,null,null,{"$f":"IF('Flow charts'!$A$40=$O$16,X33, IF('Flow charts'!$A$40=$T$29,Z33,\"NO DATA\"))","v":90.828861665728766},{"$f":"IF('Flow charts'!$A$40=$O$16,U33, IF('Flow charts'!$A$40=$T$29,V33, \"NO DATA\"))","v":17.135919159053074},73.692942506675692]
[null,29,25,300,300,{"$f":"IF(OR(#REF!=\"\", E34=\"\"),\"\",(E34-#REF!*K34)^I34*(J34+E34*M34))","v":{"$error":"#REF!"}},34.249486999120194,20.158486978186716,0.50700000000000001,1.1182977634009417,0,0.2,0,30,30,30,30,915,850,425.73199093128164,6.2727493261362532,6.2727493261362532,6.2727493261362532,35.481171522964509,34.18006243160351,24.072963269110492,null,"Optional ",null,-10.107099162493018,null,null,{"$f":"IF('Flow charts'!$A$40=$O$16,X34, IF('Flow charts'!$A$40=$T$29,Z34,\"NO DATA\"))","v":35.481171522964509},{"$f":"IF('Flow charts'!$A$40=$O$16,U34, IF('Flow charts'!$A$40=$T$29,V34, \"NO DATA\"))","v":6.2727493261362532},29.208422196828256]
[null,18,25,300,300,{"$f":"IF(OR(#REF!=\"\", E35=\"\"),\"\",(E35-#REF!*K35)^I35*(J35+E35*M35))","v":{"$error":"#REF!"}},13.80168041155985,8.1233623984111318,0.51900000000000002,0.42083310570088067,0,0.25,0,30,30,30,30,940,890,472.30751104175147,2.4588714725083878,2.4588714725083878,2.4588714725083878,14.694785571852394,14.283785199008951,10.280934574942295,null,"Optional ",null,-4.0028506240666566,null,null,{"$f":"IF('Flow charts'!$A$40=$O$16,X35, IF('Flow charts'!$A$40=$T$29,Z35,\"NO DATA\"))","v":14.694785571852394},{"$f":"IF('Flow charts'!$A$40=$O$16,U35, IF('Flow charts'!$A$40=$T$29,V35, \"NO DATA\"))","v":2.4588714725083878},12.235914099344006]
[null,11,25,300,300,{"$f":"IF(OR(#REF!=\"\", E36=\"\"),\"\",(E36-#REF!*K36)^I36*(J36+E36*M36))","v":{"$error":"#REF!"}},5.4939124562095483,3.2335947896283206,0.49199999999999999,0.1954078197100593,0,0.25,0,30,30,30,30,695,660,478.75696062461873,1.0415631260528506,1.0415631260528506,1.0415631260528506,4.8887571363242657,4.7660385998298187,4.0696641350670086,null,"Optional ",null,-0.69637446476281006,null,null,{"$f":"IF('Flow charts'!$A$40=$O$16,X36, IF('Flow charts'!$A$40=$T$29,Z36,\"NO DATA\"))","v":4.8887571363242657},{"$f":"IF('Flow charts'!$A$40=$O$16,U36, IF('Flow charts'!$A$40=$T$29,V36, \"NO DATA\"))","v":1.0415631260528506},3.8471940102714148]
[null,7,25,300,300,{"$f":"IF(OR(#REF!=\"\", E37=\"\"),\"\",(E37-#REF!*K37)^I37*(J37+E37*M37))","v":{"$error":"#REF!"}},2.0552745144891085,1.2096889082745095,0.48,7.828084343806592E-2,0,0.11,0,30,30,30,30,940,885,479.80761949161706,0.40056564484198981,0.40056564484198981,0.40056564484198981,2.0929404231444679,2.0332382268194409,1.5155411182009155,null,"Optional ",null,-0.51769710861852536,null,null,{"$f":"IF('Flow charts'!$A$40=$O$16,X37, IF('Flow charts'!$A$40=$T$29,Z37,\"NO DATA\"))","v":2.0929404231444679},{"$f":"IF('Flow charts'!$A$40=$O$16,U37, IF('Flow charts'!$A$40=$T$29,V37, \"NO DATA\"))","v":0.40056564484198981},1.6923747783024781]
[null,null,null,null,null,null,null,null,null,null,null,null,null,null,null,null,250,null,null,"@250 Pa with 10-4\" flex ",null,null,250,null,null,"@250 Pa with 10-4\" flex ",null,null,null,null,null,null,null,null,null,null,"Flow Chart:"]
[350,102,25,300,{"$f":"IF(OR(C39=\"\",D39=\"\", D39<0),\"---\",        IF(AND(D39>=N39,D39>=ABS(C39)*L39),D39,\"---\"))","v":300},{"$f":"IF(OR(#REF!=\"\", E39=\"\"),\"\",(E39-#REF!*K39)^I39*(J39+E39*M39))","v":{"$error":"#REF!"}},{"$f":"IF($E$12=\"m3/h\",IF(H39=\"---\",\"---\",(H39*(1/0.58857777866))),IF($E$12=\"m3/s\",IF(H39=\"---\",\"---\",FIXED((H39*0.0004719474432),5,FALSE)),IF($E$12=\"L/s\",IF(H39=\"---\",\"---\",(H39*0.47194745)),\"---\")))","v":532.75004718156003},{"$f":"IF(E39=\"---\",\"---\", (E39-ABS(C39)*K39)^I39*(J39+E39*M39))","v":313.56483935113283},0.56499999999999995,12.495506061579997,0,0.4,0,100,{"$f":"IF($L39*O$16>$N39, $L39*O$16, $N39)","v":100},100,{"$f":"IF($L39*Q$38>$N39, $L39*Q$38, $N39)","v":100},730,695,496,{"$f":"O39^$I39*$J39","v":168.55973876270431},168.55973876270431,168.55973876270431,518.24039954302157,504.05190926324616,416.58247582559835,null,null,null,null,null,null,535.87537092484104,161.95105358267432,373.92431734216672,null,{"$f":"O16","v":0}]
[null,74,25,300,300,{"$f":"IF(OR(#REF!=\"\", E40=\"\"),\"\",(E40-#REF!*K40)^I40*(J40+E40*M40))","v":{"$error":"#REF!"}},211.12534011442685,124.26368370338636,0.501,7.1335625749575859,0,0.25,0,25,25,25,62.5,760,695,553,35.782808113783553,35.782808113783553,56.629452635290455,197.96758488558646,189.29574949270605,168.81528487711543,null,null,null,null,null,null,201.01998736756497,27.746411586175977,173.27357578138898,null,{"$f":"T38","v":"@250 Pa with 10-4\" flex "}]
[null,47,25,300,300,{"$f":"IF(OR(#REF!=\"\", E41=\"\"),\"\",(E41-#REF!*K41)^I41*(J41+E41*M41))","v":{"$error":"#REF!"}},91.433120732295734,53.815503096566218,0.497,3.1606626260331878,0,0.1,0,30,30,30,30,860,805,479,17.135919159053074,17.135919159053074,17.135919159053074,90.828861665728766,87.893891565288683,67.905490598856886,null,null,null,null,null,null,87.565267199033741,10.248739327510611,77.316527871523135]
[null,29,25,300,300,{"$f":"IF(OR(#REF!=\"\", E42=\"\"),\"\",(E42-#REF!*K42)^I42*(J42+E42*M42))","v":{"$error":"#REF!"}},34.249486999120194,20.158486978186716,0.50700000000000001,1.1182977634009417,0,0.2,0,30,30,30,50,915,850,502.9747314453125,6.2727493261362532,6.2727493261362532,8.1270933556440319,35.481171522964509,34.18006243160351,26.196384921570324,null,null,null,null,null,null,32.58563827896009,5.3549474623502169,27.230690816609872]
[null,18,25,300,300,{"$f":"IF(OR(#REF!=\"\", E43=\"\"),\"\",(E43-#REF!*K43)^I43*(J43+E43*M43))","v":{"$error":"#REF!"}},13.80168041155985,8.1233623984111318,0.51900000000000002,0.42083310570088067,0,0.25,0,30,30,30,62.5,940,890,502,2.4588714725083878,2.4588714725083878,3.598915303723929,14.694785571852394,14.283785199008951,10.611459634108751,null,null,null,null,null,null,12.266320480978111,2.2776566936762075,9.9886637873019026]
[null,11,25,300,300,{"$f":"IF(OR(#REF!=\"\", E44=\"\"),\"\",(E44-#REF!*K44)^I44*(J44+E44*M44))","v":{"$error":"#REF!"}},5.4939124562095483,3.2335947896283206,0.49199999999999999,0.1954078197100593,0,0.25,0,30,30,30,62.5,695,660,500,1.0415631260528506,1.0415631260528506,1.4945653439398205,4.8887571363242657,4.7660385998298187,4.1575279848568671,null,null,null,null,null,null,4.9255905551350345,0.97515699216209595,3.9504335629729388]
[null,7,25,300,300,{"$f":"IF(OR(#REF!=\"\", E45=\"\"),\"\",(E45-#REF!*K45)^I45*(J45+E45*M45))","v":{"$error":"#REF!"}},2.0552745144891085,1.2096889082745095,0.48,7.828084343806592E-2,0,0.11,0,30,30,30,30,940,885,500,0.40056564484198981,0.40056564484198981,0.40056564484198981,2.0929404231444679,2.0332382268194409,1.5458277468490442,null,null,null,null,null,null,1.9399291739648641,0.35899999999999999,1.5809291739648641]
[null,3,25,300,300,{"$f":"IF(OR(#REF!=\"\", E46=\"\"),\"\",(E46-#REF!*K46)^I46*(J46+E46*M46))","v":{"$error":"#REF!"}},0.58351724847899189,0.34344528591956036,0.48499999999999999,2.1600000000000001E-2,0,0.3,0,30,30,30,75,655,635,500,0.11242361854577014,0.11242361854577014,0.17533090072042251,0.50156910974190327,0.49408197225109551,0.4400015468282521,1006322,"Optional ",null,null,null,null,0.10155976754801681,1.8201419627220106E-2,8.3358347920796702E-2]
[null,null,null,null,null,null,null,null,null,null,null,null,null,null,250,1000,4980,{"$f":"O47","v":250},{"$f":"P47","v":1000},{"$f":"Q47","v":4980},{"$f":"O47","v":250},{"$f":"P47","v":1000},{"$f":"Q47","v":4980},{"$f":"O47","v":250},{"$f":"P47","v":1000},{"$f":"Q47","v":4980}]
[450,74,250,300,{"$f":"IF(OR(C48=\"\",D48=\"\", D48<0),\"---\",        IF(AND(C48>0, D48>=N48,D48>=ABS(C48)*L48),D48,\"---\"))","v":300},{"$f":"IF(OR(#REF!=\"\", E48=\"\"),\"\",(E48-#REF!*K48)^I48*(J48+E48*M48))","v":{"$error":"#REF!"}},213.12108432498289,{"$f":"IF(E48=\"---\",\"---\", (E48-ABS(C48)*K48)^I48*(J48+E48*M48))","v":125.43833439760898},0.504,7.0788248423279603,0,0.15,0,250,{"$f":"IF($L48*O$47>$N48, $L48*O$47, $N48)","v":250},250,747,1680,1530,1480,{"$f":"O48^$I48*$J48","v":114.4255294765717},114.4255294765717,198.66197543056029,298.89389485208955,285.1317945678407,280.39681155961597,null,null,null,null,null,null,{"$f":"IF('Flow charts'!$A$106=$O$47,X48, IF('Flow charts'!$A$106=$P$47,Y48, IF('Flow charts'!$A$106=$Q$47,Z48,\"SELECT BP\")))","v":280.39681155961597},{"$f":"IF('Flow charts'!$A$106=$O$47,U48, IF('Flow charts'!$A$106=$P$47,V48, IF('Flow charts'!$A$106=$Q$47,W48,\"SELECT BP\")))","v":198.66197543056029},{"$f":"AG48-AH48","v":81.73483612905568}]
[null,47,250,300,{"$f":"IF(OR(C49=\"\",D49=\"\", D49<0),\"---\",        IF(AND(D49>=N49,D49>=ABS(C49)*L49),D49,\"---\"))","v":300},{"$f":"IF(OR(#REF!=\"\", E49=\"\"),\"\",(E49-#REF!*K49)^I49*(J49+E49*M49))","v":{"$error":"#REF!"}},89.98672229038776,52.964185114570739,0.4975,3.1018048490120855,0,0.12,0,250,250,250,597.6,4985,4500,4000,48.371507776054202,48.371507776054202,74.624036787291047,214.38919273867083,203.74534548640466,192.14952546149468,null,null,null,null,null,null,{"$f":"IF('Flow charts'!$A$106=$O$47,X49, IF('Flow charts'!$A$106=$P$47,Y49, IF('Flow charts'!$A$106=$Q$47,Z49,\"SELECT BP\")))","v":192.14952546149468},{"$f":"IF('Flow charts'!$A$106=$O$47,U49, IF('Flow charts'!$A$106=$P$47,V49, IF('Flow charts'!$A$106=$Q$47,W49,\"SELECT BP\")))","v":74.624036787291047},{"$f":"AG49-AH49","v":117.52548867420363}]
[null,29,250,300,300,{"$f":"IF(OR(#REF!=\"\", E50=\"\"),\"\",(E50-#REF!*K50)^I50*(J50+E50*M50))","v":{"$error":"#REF!"}},32.393255674408067,19.065950468408541,0.49,1.1653839850178234,0,0.15,0,250,250,250,747,4985,4500,4000,17.436513479649058,17.436513479649058,29.812345143885068,75.565746203285329,71.869260693367195,67.83884440640665,null,null,null,null,null,null,{"$f":"IF('Flow charts'!$A$106=$O$47,X50, IF('Flow charts'!$A$106=$P$47,Y50, IF('Flow charts'!$A$106=$Q$47,Z50,\"SELECT BP\")))","v":67.83884440640665},{"$f":"IF('Flow charts'!$A$106=$O$47,U50, IF('Flow charts'!$A$106=$P$47,V50, IF('Flow charts'!$A$106=$Q$47,W50,\"SELECT BP\")))","v":29.812345143885068},38.026499262521583]
[null,18,250,300,300,{"$f":"IF(OR(#REF!=\"\", E51=\"\"),\"\",(E51-#REF!*K51)^I51*(J51+E51*M51))","v":{"$error":"#REF!"}},12.470765635479259,7.3400155359198456,0.5,0.42377599455193576,0,0.15,0,250,250,250,747,4985,4500,4000,6.7004868024361164,6.7004868024361164,11.582349152403681,29.920505951421244,28.427757931521267,26.801947209744466,null,null,null,null,null,null,{"$f":"IF('Flow charts'!$A$106=$O$47,X51, IF('Flow charts'!$A$106=$P$47,Y51, IF('Flow charts'!$A$106=$Q$47,Z51,\"SELECT BP\")))","v":26.801947209744466},{"$f":"IF('Flow charts'!$A$106=$O$47,U51, IF('Flow charts'!$A$106=$P$47,V51, IF('Flow charts'!$A$106=$Q$47,W51,\"SELECT BP\")))","v":11.582349152403681},15.219598057340784]
[null,11,250,300,300,{"$f":"IF(OR(#REF!=\"\", E52=\"\"),\"\",(E52-#REF!*K52)^I52*(J52+E52*M52))","v":{"$error":"#REF!"}},5.1615113324622488,3.0379508745890473,0.5,0.17539617552288453,0,0.14000000000000001,0,250,250,250,697.2,4985,4500,4000,2.7732570376749481,2.7732570376749481,4.6312562205250112,12.383764963227128,11.765933143879636,11.093028150699793,null,"Optional ",null,null,null,null,{"$f":"IF('Flow charts'!$A$106=$O$47,X52, IF('Flow charts'!$A$106=$P$47,Y52, IF('Flow charts'!$A$106=$Q$47,Z52,\"SELECT BP\")))","v":11.093028150699793},{"$f":"IF('Flow charts'!$A$106=$O$47,U52, IF('Flow charts'!$A$106=$P$47,V52, IF('Flow charts'!$A$106=$Q$47,W52,\"SELECT BP\")))","v":4.6312562205250112},6.4617719301747814]
[null,7,250,300,300,{"$f":"IF(OR(#REF!=\"\", E53=\"\"),\"\",(E53-#REF!*K53)^I53*(J53+E53*M53))","v":{"$error":"#REF!"}},1.8186533218407253,1.0704189323216442,0.5,6.1800665872157302E-2,0,0.08,0,250,250,250,398.40000000000003,4985,4500,4000,0.97715432535526703,0.97715432535526703,1.2335388138251768,4.3634071179155987,4.1457146983468514,3.9086173014210681,null,"Optional ",null,null,null,null,{"$f":"IF('Flow charts'!$A$106=$O$47,X53, IF('Flow charts'!$A$106=$P$47,Y53, IF('Flow charts'!$A$106=$Q$47,Z53,\"SELECT BP\")))","v":3.9086173014210681},{"$f":"IF('Flow charts'!$A$106=$O$47,U53, IF('Flow charts'!$A$106=$P$47,V53, IF('Flow charts'!$A$106=$Q$47,W53,\"SELECT BP\")))","v":1.2335388138251768},2.6750784875958913]
[null,3,250,300,300,{"$f":"IF(OR(#REF!=\"\", E54=\"\"),\"\",(E54-#REF!*K54)^I54*(J54+E54*M54))","v":{"$error":"#REF!"}},0.46634057741838558,0.27447770115593517,0.51300000000000001,1.4714444255275549E-2,0,0.1,0,250,250,250,498,4985,4500,4000,0.24996953854288642,0.24996953854288642,0.35597747389005069,1.1605025323312965,1.1011383379867197,1.0365747833152079,null,"Optional ",null,null,null,null,{"$f":"IF('Flow charts'!$A$106=$O$47,X54, IF('Flow charts'!$A$106=$P$47,Y54, IF('Flow charts'!$A$106=$Q$47,Z54,\"SELECT BP\")))","v":1.0365747833152079},{"$f":"IF('Flow charts'!$A$106=$O$47,U54, IF('Flow charts'!$A$106=$P$47,V54, IF('Flow charts'!$A$106=$Q$47,W54,\"SELECT BP\")))","v":0.35597747389005069},0.68059730942515717]
[null,null,null,null,null,null,null,null,null,null,null,null,null,null,"min Fan Pressure, Pa",null,null,null,"max Fan Pressure, Pa",null,null,null,"min Flow, CFM",null,null,null,"max Flow, CFM"]
[null,null,null,null,null,null,null,null,null,null,null,null,null,null,0,30,50,75,0,30,50,75,0,30,50,75,0,30,50,75]
["3000SR\n\nGreen port on fan","Open",25,300,{"$f":"IF(OR(C57=\"\",D57=\"\", D57<0),\"---\",        IF(AND(D57>=N57,D57>=ABS(C57)*L57),D57,\"---\"))","v":300},{"$f":"IF(OR(#REF!=\"\", E57=\"\"),\"\",(E57-#REF!*K57)^I57*(J57+E57*M57))","v":{"$error":"#REF!"}},{"$f":"IF($E$12=\"m3/h\",IF(H57=\"---\",\"---\",(H57*(1/0.58857777866))),IF($E$12=\"m3/s\",IF(H57=\"---\",\"---\",FIXED((H57*0.0004719474432),5,FALSE)),IF($E$12=\"L/s\",IF(H57=\"---\",\"---\",(H57*0.47194745)),\"---\")))","v":17479.15706580093},{"$f":"IF(E57=\"---\",\"---\", (E57-ABS(C57)*K57)^I57*(J57+E57*M57))","v":10287.843438638356},0.52200000000000002,523.92250215334116,0,0.8,0,10,{"$f":"IF($L57*O$56>$N57, $L57*O$56, $N57)","v":10},24,40,60,177,162,153,140,{"$f":"($O57-ABS(W$56)*$K57)^$I57*($J57+$O57*$M57)","v":1742.8782552700764},{"$f":"($P57-ABS(X$56)*$K57)^$I57*($J57+$P57*$M57)","v":2752.5633290762794},{"$f":"($Q57-ABS(Y$56)*$K57)^$I57*($J57+$Q57*$M57)","v":3593.7045293995702},{"$f":"($R57-ABS(Z$56)*$K57)^$I57*($J57+$R57*$M57)","v":4440.8080770823071},{"$f":"($S57-ABS(AA$56)*$K57)^$I57*($J57+$S57*$M57)","v":7811.0442222779438},{"$f":"($T57-ABS(AB$56)*$K57)^$I57*($J57+$T57*$M57)","v":7458.1976618580347},{"$f":"($U57-ABS(AC$56)*$K57)^$I57*($J57+$U57*$M57)","v":7238.9566921101123},{"$f":"($V57-ABS(AD$56)*$K57)^$I57*($J57+$V57*$M57)","v":6911.0794578823225},null,null,{"$f":"IF('Flow charts'!$A$139=$O$56,AA57, IF('Flow charts'!$A$139=$P$56,AB57, IF('Flow charts'!$A$139=$Q$56,AC57, IF('Flow charts'!$A$139=$R$56,AD57,\"SELECT BP\"))))","v":6911.0794578823225},{"$f":"IF('Flow charts'!$A$139=$O$56,W57, IF('Flow charts'!$A$139=$P$56,X57, IF('Flow charts'!$A$139=$Q$56,Y57, IF('Flow charts'!$A$139=$R$56,Z57,\"SELECT BP\"))))","v":4440.8080770823071},{"$f":"AG57-AH57","v":2470.2713808000153}]
[null,"A",25,300,300,{"$f":"IF(OR(#REF!=\"\", E58=\"\"),\"\",(E58-#REF!*K58)^I58*(J58+E58*M58))","v":{"$error":"#REF!"}},8183.0089057618852,4816.3372045083279,0.497,282.87047636341714,0,1,0,10,10,30,50,75,345,330,315,300,888.35719026021866,1533.616899039275,1976.8590898156101,2418.2047490307955,5162.781106687301,5049.972927922965,4934.5546946223521,4816.3372045083279,null,null,{"$f":"IF('Flow charts'!$A$139=$O$56,AA58, IF('Flow charts'!$A$139=$P$56,AB58, IF('Flow charts'!$A$139=$Q$56,AC58, IF('Flow charts'!$A$139=$R$56,AD58,\"SELECT BP\"))))","v":4816.3372045083279},{"$f":"IF('Flow charts'!$A$139=$O$56,W58, IF('Flow charts'!$A$139=$P$56,X58, IF('Flow charts'!$A$139=$Q$56,Y58, IF('Flow charts'!$A$139=$R$56,Z58,\"SELECT BP\"))))","v":2418.2047490307955},2398.1324554775324]
[null,"B",25,300,300,{"$f":"IF(OR(#REF!=\"\", E59=\"\"),\"\",(E59-#REF!*K59)^I59*(J59+E59*M59))","v":{"$error":"#REF!"}},5006.4927874101113,2946.7104036911551,0.5,170.12840447949591,0,0.3,0,10,10,10,15,22.5,455,420,397,362,537.99325284559995,537.99325284559995,658.90447726592697,806.98987926839993,3628.9628924647645,3486.5947691853098,3389.7844448081605,3236.9136522137105,null,null,{"$f":"IF('Flow charts'!$A$139=$O$56,AA59, IF('Flow charts'!$A$139=$P$56,AB59, IF('Flow charts'!$A$139=$Q$56,AC59, IF('Flow charts'!$A$139=$R$56,AD59,\"SELECT BP\"))))","v":3236.9136522137105},{"$f":"IF('Flow charts'!$A$139=$O$56,W59, IF('Flow charts'!$A$139=$P$56,X59, IF('Flow charts'!$A$139=$Q$56,Y59, IF('Flow charts'!$A$139=$R$56,Z59,\"SELECT BP\"))))","v":806.98987926839993},2429.9237729453107]
[null,"C8",25,300,300,{"$f":"IF(OR(#REF!=\"\", E60=\"\"),\"\",(E60-#REF!*K60)^I60*(J60+E60*M60))","v":{"$error":"#REF!"}},2412.7467403086957,1420.0891168800481,0.5,81.988883390395358,0,0.5,0,10,10,15,25,37.5,570,559,540,506,259.27161432759755,317.54157994514316,409.94441695197679,502.07732221754878,1957.457761938733,1938.4779964648944,1905.2494796708586,1844.2943262395911,null,null,{"$f":"IF('Flow charts'!$A$139=$O$56,AA60, IF('Flow charts'!$A$139=$P$56,AB60, IF('Flow charts'!$A$139=$Q$56,AC60, IF('Flow charts'!$A$139=$R$56,AD60,\"SELECT BP\"))))","v":1844.2943262395911},{"$f":"IF('Flow charts'!$A$139=$O$56,W60, IF('Flow charts'!$A$139=$P$56,X60, IF('Flow charts'!$A$139=$Q$56,Y60, IF('Flow charts'!$A$139=$R$56,Z60,\"SELECT BP\"))))","v":502.07732221754878},1342.2170040220424]
[null,"C6",25,300,300,{"$f":"IF(OR(#REF!=\"\", E61=\"\"),\"\",(E61-#REF!*K61)^I61*(J61+E61*M61))","v":{"$error":"#REF!"}},1846.5393394422829,1086.8320226172427,0.5,62.748276082197052,0,0.5,0,10,10,15,25,37.5,597,570,537,508,198.42747166880957,243.02302826957438,313.74138041098524,384.25314660167174,1533.1652397307703,1498.0945585088898,1454.0821445989402,1414.2743173988956,null,null,{"$f":"IF('Flow charts'!$A$139=$O$56,AA61, IF('Flow charts'!$A$139=$P$56,AB61, IF('Flow charts'!$A$139=$Q$56,AC61, IF('Flow charts'!$A$139=$R$56,AD61,\"SELECT BP\"))))","v":1414.2743173988956},{"$f":"IF('Flow charts'!$A$139=$O$56,W61, IF('Flow charts'!$A$139=$P$56,X61, IF('Flow charts'!$A$139=$Q$56,Y61, IF('Flow charts'!$A$139=$R$56,Z61,\"SELECT BP\"))))","v":384.25314660167174},1030.0211707972239]
[null,"C4",25,300,300,{"$f":"IF(OR(#REF!=\"\", E62=\"\"),\"\",(E62-#REF!*K62)^I62*(J62+E62*M62))","v":{"$error":"#REF!"}},1247.2929317794051,734.12890312504123,0.51,40.035059929753714,0,0.5,0,10,10,15,25,37.5,570,530,517,502,129.55091448065835,159.31146270109696,206.72351810377535,254.21222363309565,1018.4428401382825,981.34378519289578,968.9930450914469,954.55153134724469,null,null,{"$f":"IF('Flow charts'!$A$139=$O$56,AA62, IF('Flow charts'!$A$139=$P$56,AB62, IF('Flow charts'!$A$139=$Q$56,AC62, IF('Flow charts'!$A$139=$R$56,AD62,\"SELECT BP\"))))","v":954.55153134724469},{"$f":"IF('Flow charts'!$A$139=$O$56,W62, IF('Flow charts'!$A$139=$P$56,X62, IF('Flow charts'!$A$139=$Q$56,Y62, IF('Flow charts'!$A$139=$R$56,Z62,\"SELECT BP\"))))","v":254.21222363309565},700.33930771414907]
[null,"C2",25,300,300,{"$f":"IF(OR(#REF!=\"\", E63=\"\"),\"\",(E63-#REF!*K63)^I63*(J63+E63*M63))","v":{"$error":"#REF!"}},667.76548857665341,393.03192793225628,0.53,19.122891754156104,0,0.5,0,10,10,15,25,37.5,541,509,496,480,64.796801193783423,80.330770766666816,105.30809857635911,130.55398678264783,537.21498362966906,520.13250027120989,513.0490115667518,504.20996252252769,null,null,{"$f":"IF('Flow charts'!$A$139=$O$56,AA63, IF('Flow charts'!$A$139=$P$56,AB63, IF('Flow charts'!$A$139=$Q$56,AC63, IF('Flow charts'!$A$139=$R$56,AD63,\"SELECT BP\"))))","v":504.20996252252769},{"$f":"IF('Flow charts'!$A$139=$O$56,W63, IF('Flow charts'!$A$139=$P$56,X63, IF('Flow charts'!$A$139=$Q$56,Y63, IF('Flow charts'!$A$139=$R$56,Z63,\"SELECT BP\"))))","v":130.55398678264783},373.65597573987986]
[null,"C1",25,300,{"$f":"IF(OR(C64=\"\",D64=\"\", D64<0),\"---\",        IF(AND(D64>=N64,D64>=ABS(C64)*L64),D64,\"---\"))","v":300},{"$f":"IF(OR(#REF!=\"\", E64=\"\"),\"\",(E64-#REF!*K64)^I64*(J64+E64*M64))","v":{"$error":"#REF!"}},{"$f":"IF($E$12=\"m3/h\",IF(H64=\"---\",\"---\",(H64*(1/0.58857777866))),IF($E$12=\"m3/s\",IF(H64=\"---\",\"---\",FIXED((H64*0.0004719474432),5,FALSE)),IF($E$12=\"L/s\",IF(H64=\"---\",\"---\",(H64*0.47194745)),\"---\")))","v":378.35535864850209},{"$f":"IF(E64=\"---\",\"---\", (E64-ABS(C64)*K64)^I64*(J64+E64*M64))","v":222.69155653744301},0.53200000000000003,10.712115417840598,0,0.4,0,10,10,12,20,30,531,503,490,475,36.464918172552991,40.179050206718308,52.725802803662461,65.418977355699113,301.73488822069447,293.16317153830693,289.10763292086631,284.36506667105385,null,null,{"$f":"IF('Flow charts'!$A$139=$O$56,AA64, IF('Flow charts'!$A$139=$P$56,AB64, IF('Flow charts'!$A$139=$Q$56,AC64, IF('Flow charts'!$A$139=$R$56,AD64,\"SELECT BP\"))))","v":284.36506667105385},{"$f":"IF('Flow charts'!$A$139=$O$56,W64, IF('Flow charts'!$A$139=$P$56,X64, IF('Flow charts'!$A$139=$Q$56,Y64, IF('Flow charts'!$A$139=$R$56,Z64,\"SELECT BP\"))))","v":65.418977355699113},218.94608931535475]
[]
[]
[null,null,null,null,null,null,null,"Flow = PN*K (Open, Ring A, B8)\nFlow = P3*a+P2*b+P*c+d+(g-|PrA|)*f (B4)\n\nP is calculated depending:\nIf PrA<0:  P = |PrB|-|PrA|\nIf PrA>0:  P = PrB\n\nConditions that must be true, or else “- -“ is displayed for flow result:\nIf PrA<0: (|PrB|-|PrA|)>MF, (|PrB|-|PrA|)>PrA*K2 \nIf PrA>0:  PrB>=MF, PrB>=|PrA|*K2\n"]
[null,null,"Enter Pressures appearing on gauge",null,"Fan Pressure used in flow equation",null,null,null,null,null,null,null,null,null,null,null,null,null,"min Fan Pressure, Pa",null,"max Fan Pressure, Pa",null,"min Flow, CFM",null,"max Flow, CFM"]
["Device","Range","PrA,          Pa","PrB,          Pa ","P,                Pa","CFM calculation",{"$f":"IF($E$12=\"m3/h\",\"m3/h displayed on DM32\",IF($E$12=\"m3/s\",\"m3/s displayed on DM32\",IF($E$12=\"L/s\",\"L/s displayed on DM32\",\"Metric displayed on DM32\")))","v":"m3/h displayed on DM32"},"CFM displayed on DM32","N","K","g","f","a","b","c","d","K2 ","MF",250,500,250,500,250,500,250,500,null,null,null,null,null,null,"high","low","delta"]
[4000,"Open",25,300,{"$f":"IF(OR(C70=\"\",D70=\"\",D70<0),\"\",        IF(AND(C70>=0,D70>=R70, D70>=ABS(C70)*Q70),D70,         IF(AND(C70<0, (ABS(D70)-ABS(C70))>=R70, (ABS(D70)-ABS(C70))>=ABS(C70)*Q70),(ABS(D70)-ABS(C70)),\"---\")))","v":300},{"$f":"IF(OR(#REF!=\"\", E70=\"\"),\"\",E70^I70*J70)","v":{"$error":"#REF!"}},{"$f":"IF($E$12=\"m3/h\",IF(H70=\"---\",\"---\",(H70*(1/0.58857777866))),IF($E$12=\"m3/s\",IF(H70=\"---\",\"---\",FIXED((H70*0.0004719474432),5,FALSE)),IF($E$12=\"L/s\",IF(H70=\"---\",\"---\",(H70*0.47194745)),\"---\")))","v":15713.861361694188},{"$f":"IF(E70=\"---\",\"---\", E70^I70*J70)","v":9248.8296144371689},0.53,450,null,null,null,null,null,null,0.2,10,{"$f":"IF($Q70*S$69>$R70, $Q70*S$69, $R70)","v":50},{"$f":"IF($Q70*T$69>$R70, $Q70*T$69, $R70)","v":100},195,105,{"$f":"S70^$I70*$J70","v":3578.2165169576538},5166.6912967359749,7360.8989838090019,5302.0380764437959,null,null,null,null,null,null,{"$f":"IF('Flow charts'!$A$172=$S$69,Y70, IF('Flow charts'!$A$172=$T$69,Z70, \"SELECT BP\"))","v":7360.8989838090019},{"$f":"IF('Flow charts'!$A$172=$S$69,W70, IF('Flow charts'!$A$172=$T$69,X70, \"SELECT BP\"))","v":3578.2165169576538},{"$f":"AG70-AH70","v":3782.6824668513482}]
[null,"Ring A",25,300,{"$f":"IF(OR(C71=\"\",D71=\"\",D71<0),\"\",        IF(AND(C71>=0,D71>=R71, D71>=ABS(C71)*Q71),D71,         IF(AND(C71<0, (ABS(D71)-ABS(C71))>=R71, (ABS(D71)-ABS(C71))>=ABS(C71)*Q71),(ABS(D71)-ABS(C71)),\"---\")))","v":300},{"$f":"IF(OR(#REF!=\"\", E71=\"\"),\"\",E71^I71*J71)","v":{"$error":"#REF!"}},8104.4062288748873,{"$f":"IF(E71=\"---\",\"---\", E71^I71*J71)","v":4770.0734155494492},0.48499999999999999,300,null,null,null,null,null,null,0.2,20,{"$f":"IF($Q71*S$69>$R71, $Q71*S$69, $R71)","v":50},100,395,213,2000.4223900906072,2799.7629023909731,5450.9330270758546,4040.0371846142343,null,null,null,null,null,null,{"$f":"IF('Flow charts'!$A$172=$S$69,Y71, IF('Flow charts'!$A$172=$T$69,Z71, \"SELECT BP\"))","v":5450.9330270758546},{"$f":"IF('Flow charts'!$A$172=$S$69,W71, IF('Flow charts'!$A$172=$T$69,X71, \"SELECT BP\"))","v":2000.4223900906072},{"$f":"AG71-AH71","v":3450.5106369852474}]
[null,"B8",25,300,{"$f":"IF(OR(C72=\"\",D72=\"\",D72<0),\"\",        IF(AND(C72>=0,D72>=R72, D72>=ABS(C72)*Q72),D72,         IF(AND(C72<0, (ABS(D72)-ABS(C72))>=R72, (ABS(D72)-ABS(C72))>=ABS(C72)*Q72),(ABS(D72)-ABS(C72)),\"---\")))","v":300},{"$f":"IF(OR(#REF!=\"\", E72=\"\"),\"\",E72^I72*J72)","v":{"$error":"#REF!"}},4188.9281554935842,{"$f":"IF(E72=\"---\",\"---\", E72^I72*J72)","v":2465.5100287267451},0.52,127,null,null,null,null,null,null,0.2,15,50,100,660,330,971.10932229488594,1392.5273091018455,3715.0662892584696,2590.7825885075763,null,null,null,null,null,null,{"$f":"IF('Flow charts'!$A$172=$S$69,Y72, IF('Flow charts'!$A$172=$T$69,Z72, \"SELECT BP\"))","v":3715.0662892584696},{"$f":"IF('Flow charts'!$A$172=$S$69,W72, IF('Flow charts'!$A$172=$T$69,X72, \"SELECT BP\"))","v":971.10932229488594},{"$f":"AG72-AH72","v":2743.9569669635839}]
[null,"B4",25,300,{"$f":"IF(OR(C73=\"\",D73=\"\",D73<0),\"\",        IF(AND(C73>=0,D73>=R73, D73>=ABS(C73)*Q73),D73,         IF(AND(C73<0, (ABS(D73)-ABS(C73))>=R73, (ABS(D73)-ABS(C73))>=ABS(C73)*Q73),(ABS(D73)-ABS(C73)),\"---\")))","v":300},{"$f":"IF(OR(#REF!=\"\", E73=\"\"),\"\",E73^3*M73+E73^2*N73+E73*O73+P73+(K73-#REF!)*L73)","v":{"$error":"#REF!"}},1850.6305190111743,{"$f":"IF(E73=\"---\",\"---\", E73^3*M73+E73^2*N73+E73*O73+P73+(K73-ABS(C73))*L73)","v":1089.24},null,null,0,0.7,6.6200000000000001E-6,-7.7999999999999996E-3,4.75,205,0.2,25,50,100,485,425,{"$f":"S73^3*$M73+S73^2*$N73+S73*$O73+$P73+($K73-ABS(W$69))*$L73","v":248.82749999999999},{"$f":"T73^3*$M73+T73^2*$N73+T73*$O73+$P73+($K73-ABS(X$69))*$L73","v":258.62},{"$f":"U73^3*$M73+U73^2*$N73+U73*$O73+$P73+($K73-ABS(Y$69))*$L73","v":1254.2319075},{"$f":"V73^3*$M73+V73^2*$N73+V73*$O73+$P73+($K73-ABS(Z$69))*$L73","v":973.06343749999996},null,null,null,null,null,null,{"$f":"IF('Flow charts'!$A$172=$S$69,Y73, IF('Flow charts'!$A$172=$T$69,Z73, \"SELECT BP\"))","v":1254.2319075},{"$f":"IF('Flow charts'!$A$172=$S$69,W73, IF('Flow charts'!$A$172=$T$69,X73, \"SELECT BP\"))","v":248.82749999999999},{"$f":"AG73-AH73","v":1005.4044075}]
[]
[]
[null,null,null,null,null,null,null,"Flow = (P-|PrA|*K1)N*(K+P*K3) (1000, 2000, 3000 fans - all ranges)\nFlow = PN*K (5000, 6000 fans - Open, Ring A, B8)\nFlow = P3*a+P2*b+P*c+d+(g-|PrA|)*f (5000, 6000 fans - B4, B2, B1, B74, B47, B29)\n\nP is calculated depending:\nIf PrA>0:  P = |PrB|-PrA\nIf PrA<0:  P = PrB\n\nConditions that must be true, or else “- -“ is displayed for flow result: \nIf PrA>0: (|PrB|-PrA)>MF, (|PrB|-PrA)>PrA*K2 \nIf PrA<0:  PrB>=MF, PrB>=|PrA|*K2\n"]
[null,null,"Enter Pressures appearing on gauge",null,"Fan Pressure used in flow equation",null,null,null,null,null,null,null,null,null,"min Fan Pressure, Pa",null,null,"max Fan Pressure, Pa",null,null,"min Flow, CFM",null,null,"max Flow, CFM"]
["Device","Range","PrA,          Pa","PrB,          Pa ","P,                Pa","CFM calculation",{"$f":"IF($E$12=\"m3/h\",\"m3/h displayed on DM32\",IF($E$12=\"m3/s\",\"m3/s displayed on DM32\",IF($E$12=\"L/s\",\"L/s displayed on DM32\",\"Metric displayed on DM32\")))","v":"m3/h displayed on DM32"},"CFM displayed on DM32","N","K","K1","K2","K3","MF",0,50,75,0,50,75,0,50,75,0,50,75]
["1000\n2000\n3000\n\nNo green port on fan","Open",25,300,{"$f":"IF(OR(C79=\"\",D79=\"\",D79<0),\"\",        IF(AND(C79<=0,D79>=N79, D79>=ABS(C79)*L79),D79,         IF(AND(C79>0, (ABS(D79)-C79)>=N79, (ABS(D79)-C79)>=ABS(C79)*L79),(ABS(D79)-C79),\"---\")))","v":275},{"$f":"IF(OR(#REF!=\"\", E79=\"\"),\"\",(E79-#REF!*K79)^I79*(J79+E79*M79))","v":{"$error":"#REF!"}},{"$f":"IF($E$12=\"m3/h\",IF(H79=\"---\",\"---\",(H79*(1/0.58857777866))),IF($E$12=\"m3/s\",IF(H79=\"---\",\"---\",FIXED((H79*0.0004719474432),5,FALSE)),IF($E$12=\"L/s\",IF(H79=\"---\",\"---\",(H79*0.47194745)),\"---\")))","v":15556.59293396567},{"$f":"IF(E79=\"---\",\"---\", (E79-ABS(C79)*K79)^I79*(J79+E79*M79))","v":9156.2649125913667},0.52139999999999997,519.61829999999998,-7.0000000000000007E-2,0.8,-0.115,8.6,{"$f":"IF($L79*O$78>$N79, $L79*O$78, $N79)","v":8.6},40,60,null,null,null,{"$f":"($O79-ABS(U$78)*$K79)^$I79*($J79+$O79*$M79)","v":1592.5920413665599},{"$f":"($P79-ABS(V$78)*$K79)^$I79*($J79+$P79*$M79)","v":3682.3999802347703},{"$f":"($Q79-ABS(W$78)*$K79)^$I79*($J79+$Q79*$M79)","v":4528.9872666190677},null,null,null,null,null,null,null,null,null,"Flow away = negative PrA =  no subtraction for PrB"]
[null,"A",25,300,{"$f":"IF(OR(C80=\"\",D80=\"\",D80<0),\"\",        IF(AND(C80<=0,D80>=N80, D80>=ABS(C80)*L80),D80,         IF(AND(C80>0, (ABS(D80)-C80)>=N80, (ABS(D80)-C80)>=ABS(C80)*L80),(ABS(D80)-C80),\"---\")))","v":275},{"$f":"IF(OR(#REF!=\"\", E80=\"\"),\"\",(E80-#REF!*K80)^I80*(J80+E80*M80))","v":{"$error":"#REF!"}},7619.1060060493946,{"$f":"IF(E80=\"---\",\"---\", (E80-ABS(C80)*K80)^I80*(J80+E80*M80))","v":4484.4364884156175},0.503,264.99590000000001,-7.4999999999999997E-2,1,0,12,12,50,75,null,null,null,924.84152546369035,1966.1630234802801,2410.9789999693917,null,null,null,null,null,null,null,null,null,"Flow towards = positive PrA = subtraction for PrA"]
[null,"B",25,300,275,{"$f":"IF(OR(#REF!=\"\", E81=\"\"),\"\",(E81-#REF!*K81)^I81*(J81+E81*M81))","v":{"$error":"#REF!"}},4927.2952893104821,{"$f":"IF(E81=\"---\",\"---\", (E81-ABS(C81)*K81)^I81*(J81+E81*M81))","v":2900.096516184246},0.5,174.88239999999999,0,0.3,0,10,10,15,22.5,null,null,null,553.02670667663062,677.3166227447839,829.54006001494588]
[null,"C8",25,300,275,{"$f":"IF(OR(#REF!=\"\", E82=\"\"),\"\",(E82-#REF!*K82)^I82*(J82+E82*M82))","v":{"$error":"#REF!"}},2337.8221578451903,1375.9901725666502,0.5,78.5,-0.02,0.5,1.6E-2,10,10,25,37.5,null,null,null,248.74476074884473,402.31263962247073,493.97934167331329]
[null,"C6",25,300,275,{"$f":"IF(OR(#REF!=\"\", E83=\"\"),\"\",(E83-#REF!*K83)^I83*(J83+E83*M83))","v":{"$error":"#REF!"}},1803.7005246040271,1061.6180481393151,0.505,61.3,5.3999999999999999E-2,0.5,4.0000000000000001E-3,10,10,25,37.5,null,null,null,196.22022602847034,294.48442274225471,361.69452002391199]
[null,"C4",25,300,275,{"$f":"IF(OR(#REF!=\"\", E84=\"\"),\"\",(E84-#REF!*K84)^I84*(J84+E84*M84))","v":{"$error":"#REF!"}},1242.4127107337149,731.25651346259906,0.50770000000000004,42,8.9999999999999993E-3,0.5,8.9999999999999998E-4,10,10,25,37.5,null,null,null,135.22043961341475,213.40816455330273,262.25804163385158]
[null,"C2",25,300,275,{"$f":"IF(OR(#REF!=\"\", E85=\"\"),\"\",(E85-#REF!*K85)^I85*(J85+E85*M85))","v":{"$error":"#REF!"}},681.30131237669445,400.99881303681764,0.52,22,0.11,0.5,-1E-3,10,10,25,37.5,null,null,null,72.815733614021795,102.97857590452337,127.0770800432384]
[null,"C1",25,300,275,{"$f":"IF(OR(#REF!=\"\", E86=\"\"),\"\",(E86-#REF!*K86)^I86*(J86+E86*M86))","v":{"$error":"#REF!"}},406.67387700659305,239.3592071675906,0.54100000000000004,11.9239,0.13,0.4,-1.4E-3,10,10,20,30,null,null,null,41.39120929172438,48.630403550205621,60.486970434198767]
[null,"L4",25,300,275,{"$f":"IF(OR(#REF!=\"\", E87=\"\"),\"\",(E87-#REF!*K87)^I87*(J87+E87*M87))","v":{"$error":"#REF!"}},105.98623980198475,62.381145591178267,0.48,4.0994999999999999,3.0000000000000001E-3,1,4.0000000000000002E-4,10,10,50,75,null,null,null,12.392371884669673,26.898235106975161,32.756730893711762]
[null,"L2",25,300,275,{"$f":"IF(OR(#REF!=\"\", E88=\"\"),\"\",(E88-#REF!*K88)^I88*(J88+E88*M88))","v":{"$error":"#REF!"}},59.701791540875604,35.139147847150944,0.502,2.0678000000000001,0,0.5,1E-4,10,10,25,37.5,null,null,null,6.5723170773602462,10.418355354386694,12.777889157933513]
[null,"L1",25,300,275,{"$f":"IF(OR(#REF!=\"\", E89=\"\"),\"\",(E89-#REF!*K89)^I89*(J89+E89*M89))","v":{"$error":"#REF!"}},31.971239213925863,{"$f":"IF(E89=\"---\",\"---\", (E89-ABS(C89)*K89)^I89*(J89+E89*M89))","v":18.817560957539971},0.49249999999999999,1.1614,0.1,0.5,1E-4,10,10,25,37.5,null,null,null,3.6128971733443667,5.0894744801957508,6.2210552366904741]
[null,null,null,null,null,null,null,null,null,null,null,null,null,null,null,null,null,null,"min Fan Pressure, Pa",null,null,"max Fan Pressure, Pa",null,null,"min Flow, CFM",null,null,"max Flow, CFM"]
[null,null,null,null,null,null,null,null,"N","K","g","f","a","b","c","d","K2 ","MF",0,50,75,0,50,75,0,50,75,0,50,75,null,null,"high","low","delta"]
[5000,"Open",-50,100,{"$f":"IF(OR(C92=\"\",D92=\"\",D92<0),\"\",        IF(AND(C92<=0,D92>=R92, D92>=ABS(C92)*Q92),D92,         IF(AND(C92>0, (ABS(D92)-C92)>=R92, (ABS(D92)-C92)>=ABS(C92)*Q92),(ABS(D92)-C92),\"---\")))","v":100},{"$f":"IF(OR(#REF!=\"\", E92=\"\"),\"\",E92^I92*J92)","v":{"$error":"#REF!"}},{"$f":"IF($E$12=\"m3/h\",IF(H92=\"---\",\"---\",(H92*(1/0.58857777866))),IF($E$12=\"m3/s\",IF(H92=\"---\",\"---\",FIXED((H92*0.0004719474432),5,FALSE)),IF($E$12=\"L/s\",IF(H92=\"---\",\"---\",(H92*0.47194745)),\"---\")))","v":9389.6591670892867},{"$f":"IF(E92=\"---\",\"---\", E92^I92*J92)","v":5526.5447349399183},0.499,555.20541064005693,null,null,null,null,null,null,0.3,10,{"$f":"IF($Q92*S$91>$R92, $Q92*S$91, $R92)","v":10},{"$f":"IF($Q92*T$91>$R92, $Q92*T$91, $R92)","v":15},{"$f":"IF($Q92*U$91>$R92, $Q92*U$91, $R92)","v":22.5},140,121,109,{"$f":"S92^$I92*$J92","v":1751.6756374919878},2144.4860627839439,2625.3835898860116,6536.8960612422834,6078.0404997349096,5769.3848830758452,null,null,{"$f":"IF('Flow charts'!$A$205=$S$91,AB92, IF('Flow charts'!$A$205=$T$91,AC92, IF('Flow charts'!$A$205=$U$91,AD92,\"SELECT BP\")))","v":6536.8960612422834},{"$f":"IF('Flow charts'!$A$205=$S$91,Y92, IF('Flow charts'!$A$205=$T$91,Z92, IF('Flow charts'!$A$205=$U$91,AA92,\"SELECT BP\")))","v":1751.6756374919878},{"$f":"AG92-AH92","v":4785.2204237502956}]
[null,"Ring A",-50,100,100,{"$f":"IF(OR(#REF!=\"\", E93=\"\"),\"\",E93^I93*J93)","v":{"$error":"#REF!"}},5010.74999638183,{"$f":"IF(E93=\"---\",\"---\", E93^I93*J93)","v":2949.2161022910209},0.503,290.87513403828706,null,null,null,null,null,null,0.4,20,{"$f":"IF($Q93*S$91>$R93, $Q93*S$91, $R93)","v":20},20,30,215,165,137,1312.5766805437311,1312.5766805437311,1609.5281901084986,4334.3416561193771,3794.0322692833506,3455.230635590663,null,null,{"$f":"IF('Flow charts'!$A$205=$S$91,AB93, IF('Flow charts'!$A$205=$T$91,AC93, IF('Flow charts'!$A$205=$U$91,AD93,\"SELECT BP\")))","v":4334.3416561193771},{"$f":"IF('Flow charts'!$A$205=$S$91,Y93, IF('Flow charts'!$A$205=$T$91,Z93, IF('Flow charts'!$A$205=$U$91,AA93,\"SELECT BP\")))","v":1312.5766805437311},{"$f":"AG93-AH93","v":3021.7649755756461}]
[null,"B8",50,160,110,{"$f":"IF(OR(#REF!=\"\", E94=\"\"),\"\",E94^I94*J94)","v":{"$error":"#REF!"}},2458.8610915773802,{"$f":"IF(E94=\"---\",\"---\", E94^I94*J94)","v":1447.2309993141173},0.52700000000000002,121.54130954857604,null,null,null,null,null,null,0.7,35,35,{"$f":"IF($Q94*T$91>$R94, $Q94*T$91, $R94)","v":35},{"$f":"IF($Q94*U$91>$R94, $Q94*U$91, $R94)","v":52.5},350,295,263,791.49426193342629,791.49426193342629,980.04916782635394,2663.4697623491302,2433.9974212347215,2291.0817759179558,null,null,{"$f":"IF('Flow charts'!$A$205=$S$91,AB94, IF('Flow charts'!$A$205=$T$91,AC94, IF('Flow charts'!$A$205=$U$91,AD94,\"SELECT BP\")))","v":2663.4697623491302},{"$f":"IF('Flow charts'!$A$205=$S$91,Y94, IF('Flow charts'!$A$205=$T$91,Z94, IF('Flow charts'!$A$205=$U$91,AA94,\"SELECT BP\")))","v":791.49426193342629},1871.9755004157039]
[null,"B4",-50,160,160,{"$f":"IF(OR(#REF!=\"\", E95=\"\"),\"\",E95^3*M95+E95^2*N95+E95*O95+P95+(K95-#REF!)*L95)","v":{"$error":"#REF!"}},1398.0599799309814,{"$f":"IF(E95=\"---\",\"---\", E95^3*M95+E95^2*N95+E95*O95+P95+(K95-ABS(C95))*L95)","v":822.86703742122131},null,null,50,0.58857777021102198,1.765733310633066E-5,-1.5303022025486571E-2,6.2742390304494942,138.42171999822816,0.8,40,40,40,60,350,297,262,{"$f":"S95^3*$M95+S95^2*$N95+S95*$O95+$P95+($K95-ABS(Y$91))*$L95","v":395.46540380478564},366.03651529423456,448.88472222913799,1246.2722279779246,1114.5945439005504,{"$f":"X95^3*$M95+X95^2*$N95+X95*$O95+$P95+($K95-ABS(X$91))*$L95","v":1034.659590925972},null,null,{"$f":"IF('Flow charts'!$A$205=$S$91,AB95, IF('Flow charts'!$A$205=$T$91,AC95, IF('Flow charts'!$A$205=$U$91,AD95,\"SELECT BP\")))","v":1246.2722279779246},{"$f":"IF('Flow charts'!$A$205=$S$91,Y95, IF('Flow charts'!$A$205=$T$91,Z95, IF('Flow charts'!$A$205=$U$91,AA95,\"SELECT BP\")))","v":395.46540380478564},850.80682417313892]
[null,"B2",-50,160,160,{"$f":"IF(OR(#REF!=\"\", E96=\"\"),\"\",E96^3*M96+E96^2*N96+E96*O96+P96+(K96-#REF!)*L96)","v":{"$error":"#REF!"}},607.34079128168037,357.46729382217819,null,null,50,0.91818132152919429,2.5308844119073947E-6,-4.6615359400712939E-3,2.7545439645875827,25.709077002817438,1,50,50,50,75,336,289,266,198.00786200996646,152.09879593350675,184.1919185070287,566.88033381682646,493.52553664137344,453.26562005061271,null,null,{"$f":"IF('Flow charts'!$A$205=$S$91,AB96, IF('Flow charts'!$A$205=$T$91,AC96, IF('Flow charts'!$A$205=$U$91,AD96,\"SELECT BP\")))","v":566.88033381682646},{"$f":"IF('Flow charts'!$A$205=$S$91,Y96, IF('Flow charts'!$A$205=$T$91,Z96, IF('Flow charts'!$A$205=$U$91,AA96,\"SELECT BP\")))","v":198.00786200996646},368.87247180686001]
[null,"B1",-50,160,160,{"$f":"IF(OR(#REF!=\"\", E97=\"\"),\"\",E97^3*M97+E97^2*N97+E97*O97+P97+(K97-#REF!)*L97)","v":{"$error":"#REF!"}},305.59839561316397,179.86842485205597,null,null,50,0.44731910536037667,2.7368866314812523E-6,-3.1371195152247468E-3,1.4891017586338855,10.712115417840598,1,60,60,60,75,336,288,260,111.72171346148342,89.355758193464581,94.720096455889546,283.06649065366162,244.74657836493361,222.72983523436301,null,null,{"$f":"IF('Flow charts'!$A$205=$S$91,AB97, IF('Flow charts'!$A$205=$T$91,AC97, IF('Flow charts'!$A$205=$U$91,AD97,\"SELECT BP\")))","v":283.06649065366162},{"$f":"IF('Flow charts'!$A$205=$S$91,Y97, IF('Flow charts'!$A$205=$T$91,Z97, IF('Flow charts'!$A$205=$U$91,AA97,\"SELECT BP\")))","v":111.72171346148342},171.34477719217819]
[null,"B74",-50,160,160,{"$f":"IF(OR(#REF!=\"\", E98=\"\"),\"\",E98^3*M98+E98^2*N98+E98*O98+P98+(K98-#REF!)*L98)","v":{"$error":"#REF!"}},148.34479787052447,87.312451606400003,null,null,30,0.12948710944642483,1.6480177565908614E-6,-1.4949875363359959E-3,0.65920710263634463,15.950457572718696,0.8,55,55,55,60,336,228,364,51.84331315794681,45.368957685625567,44.649980510424307,135.06489428949016,105.47738924935157,131.47655127940857,null,null,{"$f":"IF('Flow charts'!$A$205=$S$91,AB98, IF('Flow charts'!$A$205=$T$91,AC98, IF('Flow charts'!$A$205=$U$91,AD98,\"SELECT BP\")))","v":135.06489428949016},{"$f":"IF('Flow charts'!$A$205=$S$91,Y98, IF('Flow charts'!$A$205=$T$91,Z98, IF('Flow charts'!$A$205=$U$91,AA98,\"SELECT BP\")))","v":51.84331315794681},83.221581131543346]
[null,"B47",-50,160,160,{"$f":"IF(OR(#REF!=\"\", E99=\"\"),\"\",E99^3*M99+E99^2*N99+E99*O99+P99+(K99-#REF!)*L99)","v":{"$error":"#REF!"}},70.2513589915484,41.348388823091781,null,null,30,2.3543110808440879E-2,8.2989465599754093E-7,-7.2983643506166723E-4,0.30723759605015349,7.9457998978487963,0.8,25,25,40,60,343,302,277,15.889852455442279,18.649816485571293,22.872461753951633,61.659304718259541,56.554982551553145,53.630079607144587,null,null,{"$f":"IF('Flow charts'!$A$205=$S$91,AB99, IF('Flow charts'!$A$205=$T$91,AC99, IF('Flow charts'!$A$205=$U$91,AD99,\"SELECT BP\")))","v":61.659304718259541},{"$f":"IF('Flow charts'!$A$205=$S$91,Y99, IF('Flow charts'!$A$205=$T$91,Z99, IF('Flow charts'!$A$205=$U$91,AA99,\"SELECT BP\")))","v":15.889852455442279},45.769452262817261]
[null,"B29",-50,160,160,{"$f":"IF(OR(#REF!=\"\", E100=\"\"),\"\",E100^3*M100+E100^2*N100+E100*O100+P100+(K100-#REF!)*L100)","v":{"$error":"#REF!"}},24.599519646876232,14.478730629861442,null,null,30,1.7657333106330657E-2,1.4420155370170036E-7,-1.8540199761647193E-4,0.10005822093587374,2.978203517267771,0.6,50,50,50,50,345,292,274,8.0653547574229112,7.1824881021063787,6.741054774448112,21.881975492657553,19.624140215893387,18.646680472582275,null,null,{"$f":"IF('Flow charts'!$A$205=$S$91,AB100, IF('Flow charts'!$A$205=$T$91,AC100, IF('Flow charts'!$A$205=$U$91,AD100,\"SELECT BP\")))","v":21.881975492657553},{"$f":"IF('Flow charts'!$A$205=$S$91,Y100, IF('Flow charts'!$A$205=$T$91,Z100, IF('Flow charts'!$A$205=$U$91,AA100,\"SELECT BP\")))","v":8.0653547574229112},13.816620735234642]
[null,null,null,null,"",{"$f":"IF(OR(#REF!=\"\", E101=\"\"),\"\",E101^3*M101+E101^2*N101+E101*O101+P101+(K101-#REF!)*L101)","v":{"$error":"#REF!"}}]
[6000,"Open",-50,160,160,{"$f":"IF(OR(#REF!=\"\", E102=\"\"),\"\",E102^I102*J102)","v":{"$error":"#REF!"}},11834.520528997302,{"$f":"IF(E102=\"---\",\"---\", E102^I102*J102)","v":6965.5358044634004},0.49249999999999999,572.03873486809221,null,null,null,null,null,null,0.5,25,{"$f":"IF($Q102*S$91>$R102, $Q102*S$91, $R102)","v":25},{"$f":"IF($Q102*T$91>$R102, $Q102*T$91, $R102)","v":25},{"$f":"IF($Q102*U$91>$R102, $Q102*U$91, $R102)","v":37.5},225,204,185,{"$f":"S102^$I102*$J102","v":2791.9709277623051},2791.9709277623051,3409.0693559270167,8239.0156471773298,7850.8791988320372,7481.8244468870689,null,null,{"$f":"IF('Flow charts'!$A$238=$S$91,AB102, IF('Flow charts'!$A$238=$T$91,AC102, IF('Flow charts'!$A$238=$U$91,AD102,\"SELECT BP\")))","v":7850.8791988320372},{"$f":"IF('Flow charts'!$A$238=$S$91,Y102, IF('Flow charts'!$A$238=$T$91,Z102, IF('Flow charts'!$A$238=$U$91,AA102,\"SELECT BP\")))","v":2791.9709277623051},{"$f":"AG102-AH102","v":5058.9082710697321}]
[null,"Ring A",50,160,110,{"$f":"IF(OR(#REF!=\"\", E103=\"\"),\"\",E103^I103*J103)","v":{"$error":"#REF!"}},5240.3562343253234,{"$f":"IF(E103=\"---\",\"---\", E103^I103*J103)","v":3084.3572317862813},0.49509999999999998,300.93392813119345,null,null,null,null,null,null,0.5,25,{"$f":"IF($Q103*S$91>$R103, $Q103*S$91, $R103)","v":25},25,37.5,350,269,242,1481.1234308067317,1481.1234308067317,1810.3978897645536,5470.6539346594545,4802.2139820958,4557.2005567983788,null,null,{"$f":"IF('Flow charts'!$A$238=$S$91,AB103, IF('Flow charts'!$A$238=$T$91,AC103, IF('Flow charts'!$A$238=$U$91,AD103,\"SELECT BP\")))","v":4802.2139820958},{"$f":"IF('Flow charts'!$A$238=$S$91,Y103, IF('Flow charts'!$A$238=$T$91,Z103, IF('Flow charts'!$A$238=$U$91,AA103,\"SELECT BP\")))","v":1481.1234308067317},{"$f":"AG103-AH103","v":3321.0905512890686}]
[null,"B8",50,160,110,{"$f":"IF(OR(#REF!=\"\", E104=\"\"),\"\",E104^I104*J104)","v":{"$error":"#REF!"}},2455.2183639935115,{"$f":"IF(E104=\"---\",\"---\", E104^I104*J104)","v":1445.0869708045404},0.53400000000000003,117.43303671250311,null,null,null,null,null,null,0.8,40,40,{"$f":"IF($Q104*T$91>$R104, $Q104*T$91, $R104)","v":40},{"$f":"IF($Q104*U$91>$R104, $Q104*U$91, $R104)","v":60},477,410,363,841.95780428179944,841.95780428179944,1045.4976457123919,3163.1450383851006,2917.5403490950885,2733.8861778122314,null,null,{"$f":"IF('Flow charts'!$A$238=$S$91,AB104, IF('Flow charts'!$A$238=$T$91,AC104, IF('Flow charts'!$A$238=$U$91,AD104,\"SELECT BP\")))","v":2917.5403490950885},{"$f":"IF('Flow charts'!$A$238=$S$91,Y104, IF('Flow charts'!$A$238=$T$91,Z104, IF('Flow charts'!$A$238=$U$91,AA104,\"SELECT BP\")))","v":841.95780428179944},2075.5825448132891]
[null,"B4",-50,160,160,{"$f":"IF(OR(#REF!=\"\", E105=\"\"),\"\",E105^3*M105+E105^2*N105+E105*O105+P105+(K105-#REF!)*L105)","v":{"$error":"#REF!"}},1379.1579802023177,{"$f":"IF(E105=\"---\",\"---\", E105^3*M105+E105^2*N105+E105*O105+P105+(K105-ABS(C105))*L105)","v":811.74174040869252},null,null,50,0.92406709923130448,1.3831577599959015E-5,-1.446724159178692E-2,6.5626421378528947,75.426241252542468,0.8,55,55,55,60,485,425,485,{"$f":"S105^3*$M105+S105^2*$N105+S105*$O105+$P105+($K105-ABS(Y$91))*$L105","v":441.11273670405467},394.90938174248942,396.98864307409178,1479.4175575056079,1313.1933365203638,{"$f":"X105^3*$M105+X105^2*$N105+X105*$O105+$P105+($K105-ABS(X$91))*$L105","v":1410.1125250632599},null,null,{"$f":"IF('Flow charts'!$A$238=$S$91,AB105, IF('Flow charts'!$A$238=$T$91,AC105, IF('Flow charts'!$A$238=$U$91,AD105,\"SELECT BP\")))","v":1313.1933365203638},{"$f":"IF('Flow charts'!$A$238=$S$91,Y105, IF('Flow charts'!$A$238=$T$91,Z105, IF('Flow charts'!$A$238=$U$91,AA105,\"SELECT BP\")))","v":394.90938174248942},918.28395477787444]
[null,"B2",-50,160,160,{"$f":"IF(OR(#REF!=\"\", E106=\"\"),\"\",E106^3*M106+E106^2*N106+E106*O106+P106+(K106-#REF!)*L106)","v":{"$error":"#REF!"}},565.49039188243898,332.83507870773889,null,null,50,1.1182977634009417,4.0611866144560511E-6,-5.1029692677295605E-3,2.7156978317536553,12.324818508218801,1,65,65,65,75,466,430,402,224.31532396009109,168.40043579004401,161.05382277671427,636.58504682153796,559.42863271465205,515.25186590630403,null,null,{"$f":"IF('Flow charts'!$A$238=$S$91,AB106, IF('Flow charts'!$A$238=$T$91,AC106, IF('Flow charts'!$A$238=$U$91,AD106,\"SELECT BP\")))","v":559.42863271465205},{"$f":"IF('Flow charts'!$A$238=$S$91,Y106, IF('Flow charts'!$A$238=$T$91,Z106, IF('Flow charts'!$A$238=$U$91,AA106,\"SELECT BP\")))","v":168.40043579004401},391.02819692460804]
[null,"B1",-50,160,160,{"$f":"IF(OR(#REF!=\"\", E107=\"\"),\"\",E107^3*M107+E107^2*N107+E107*O107+P107+(K107-#REF!)*L107)","v":{"$error":"#REF!"}},287.65999587066796,169.31028137890254,null,null,50,0.51206266008358914,2.2071666382913324E-6,-2.6485999659495987E-3,1.3866892266171675,6.2036096980241711,1,70,70,70,75,475,454,415,116.65390688918625,91.050773885006791,83.436508809284661,329.43994509110894,296.38097890394829,270.47659193247506,null,null,{"$f":"IF('Flow charts'!$A$238=$S$91,AB107, IF('Flow charts'!$A$238=$T$91,AC107, IF('Flow charts'!$A$238=$U$91,AD107,\"SELECT BP\")))","v":296.38097890394829},{"$f":"IF('Flow charts'!$A$238=$S$91,Y107, IF('Flow charts'!$A$238=$T$91,Z107, IF('Flow charts'!$A$238=$U$91,AA107,\"SELECT BP\")))","v":91.050773885006791},205.33020501894151]
[null,"B74",-50,160,160,{"$f":"IF(OR(#REF!=\"\", E108=\"\"),\"\",E108^3*M108+E108^2*N108+E108*O108+P108+(K108-#REF!)*L108)","v":{"$error":"#REF!"}},143.39567794156864,84.399509592293242,null,null,30,0.16480177565908616,1.0770973194861702E-6,-1.177155540422044E-3,0.61212088101946283,15.479595356549877,0.8,65,65,65,65,480,454,427,55.533821585668306,47.293732802713997,43.173688411236839,162.14338175904021,148.24702241743225,138.66639406687236,null,null,{"$f":"IF('Flow charts'!$A$238=$S$91,AB108, IF('Flow charts'!$A$238=$T$91,AC108, IF('Flow charts'!$A$238=$U$91,AD108,\"SELECT BP\")))","v":148.24702241743225},{"$f":"IF('Flow charts'!$A$238=$S$91,Y108, IF('Flow charts'!$A$238=$T$91,Z108, IF('Flow charts'!$A$238=$U$91,AA108,\"SELECT BP\")))","v":47.293732802713997},100.95328961471824]
[null,"B47",-50,160,160,{"$f":"IF(OR(#REF!=\"\", E109=\"\"),\"\",E109^3*M109+E109^2*N109+E109*O109+P109+(K109-#REF!)*L109)","v":{"$error":"#REF!"}},66.542639044786711,39.16551867515475,null,null,30,2.9428888510551098E-2,2.0011644187174744E-7,-2.9428888510551099E-4,0.2201280860589222,11.24772118873263,1,50,50,50,75,480,462,417,22.426284489465466,20.954840063937912,24.862076805373135,72.119187563502379,69.277830449602433,65.054019149801519,null,null,{"$f":"IF('Flow charts'!$A$238=$S$91,AB109, IF('Flow charts'!$A$238=$T$91,AC109, IF('Flow charts'!$A$238=$U$91,AD109,\"SELECT BP\")))","v":69.277830449602433},{"$f":"IF('Flow charts'!$A$238=$S$91,Y109, IF('Flow charts'!$A$238=$T$91,Z109, IF('Flow charts'!$A$238=$U$91,AA109,\"SELECT BP\")))","v":20.954840063937912},48.322990385664525]
[null,"B29",-50,160,160,{"$f":"IF(OR(#REF!=\"\", E110=\"\"),\"\",E110^3*M110+E110^2*N110+E110*O110+P110+(K110-#REF!)*L110)","v":{"$error":"#REF!"}},22.414464318242491,13.192655618284999,null,null,30,2.3543110808440879E-2,6.61208267055062E-8,-1.0317768311799215E-4,7.8692847877213645E-2,3.443179955734478,0.6,50,50,50,50,480,457,434,7.8344365693915945,6.6572810289695505,6.0687032587585286,25.462336537680212,23.697228999177305,22.507446691457801,null,null,{"$f":"IF('Flow charts'!$A$238=$S$91,AB110, IF('Flow charts'!$A$238=$T$91,AC110, IF('Flow charts'!$A$238=$U$91,AD110,\"SELECT BP\")))","v":23.697228999177305},{"$f":"IF('Flow charts'!$A$238=$S$91,Y110, IF('Flow charts'!$A$238=$T$91,Z110, IF('Flow charts'!$A$238=$U$91,AA110,\"SELECT BP\")))","v":6.6572810289695505},17.039947970207756]
[]
[7000,"Open",-50,160,{"$f":"IF(OR(C112=\"\",D112=\"\",D112<0),\"\",        IF(AND(C112<=0,D112>=R112, D112>=ABS(C112)*Q112),D112,         IF(AND(C112>0, (ABS(D112)-C112)>=R112, (ABS(D112)-C112)>=ABS(C112)*Q112),(ABS(D112)-C112),\"---\")))","v":160},{"$f":"IF(OR(#REF!=\"\", E112=\"\"),\"\",E112^I112*J112)","v":{"$error":"#REF!"}},{"$f":"IF($E$12=\"m3/h\",IF(H112=\"---\",\"---\",(H112*(1/0.58857777866))),IF($E$12=\"m3/s\",IF(H112=\"---\",\"---\",FIXED((H112*0.0004719474432),5,FALSE)),IF($E$12=\"L/s\",IF(H112=\"---\",\"---\",(H112*0.47194745)),\"---\")))","v":11501.65712666163},{"$f":"IF(E112=\"---\",\"---\", E112^I112*J112)","v":6769.6198025194617},0.49299999999999999,554.5403177597185,null,null,null,null,null,null,0,10,{"$f":"IF($Q112*S$91>$R112, $Q112*S$91, $R112)","v":10},{"$f":"IF($Q112*T$91>$R112, $Q112*T$91, $R112)","v":10},{"$f":"IF($Q112*U$91>$R112, $Q112*U$91, $R112)","v":10},263,239,225,{"$f":"S112^$I112*$J112","v":1725.5721663568786},{"$f":"T112^$I112*$J112","v":1725.5721663568786},{"$f":"U112^$I112*$J112","v":1725.5721663568786},{"$f":"V112^$I112*$J112","v":8649.107817557935},{"$f":"W112^$I112*$J112","v":8250.5574386402368},{"$f":"X112^$I112*$J112","v":8008.646204048553},null,null,{"$f":"IF('Flow charts'!$A$238=$S$91,AB112, IF('Flow charts'!$A$238=$T$91,AC112, IF('Flow charts'!$A$238=$U$91,AD112,\"SELECT BP\")))","v":8250.5574386402368},{"$f":"IF('Flow charts'!$A$238=$S$91,Y112, IF('Flow charts'!$A$238=$T$91,Z112, IF('Flow charts'!$A$238=$U$91,AA112,\"SELECT BP\")))","v":1725.5721663568786},{"$f":"AG112-AH112","v":6524.9852722833584}]
[null,"Ring A",-50,160,{"$f":"IF(OR(C113=\"\",D113=\"\",D113<0),\"\",        IF(AND(C113<=0,D113>=R113, D113>=ABS(C113)*Q113),D113,         IF(AND(C113>0, (ABS(D113)-C113)>=R113, (ABS(D113)-C113)>=ABS(C113)*Q113),(ABS(D113)-C113),\"---\")))","v":160},{"$f":"IF(OR(#REF!=\"\", E113=\"\"),\"\",E113^I113*J113)","v":{"$error":"#REF!"}},6132.9541033978658,3609.7205028016483,0.50700000000000001,275.41319601484349,null,null,null,null,null,null,0,25,{"$f":"IF($Q113*S$91>$R113, $Q113*S$91, $R113)","v":25},25,25,420,377,359,1408.4464172441121,1408.4464172441121,1408.4464172441121,{"$f":"V113^$I113*$J113","v":5888.0587576364769},5574.2932165757229,5437.7298834696476,null,null,{"$f":"IF('Flow charts'!$A$238=$S$91,AB113, IF('Flow charts'!$A$238=$T$91,AC113, IF('Flow charts'!$A$238=$U$91,AD113,\"SELECT BP\")))","v":5574.2932165757229},{"$f":"IF('Flow charts'!$A$238=$S$91,Y113, IF('Flow charts'!$A$238=$T$91,Z113, IF('Flow charts'!$A$238=$U$91,AA113,\"SELECT BP\")))","v":1408.4464172441121},{"$f":"AG113-AH113","v":4165.8467993316108}]
[null,"B8",-50,160,160,{"$f":"IF(OR(#REF!=\"\", E114=\"\"),\"\",E114^I114*J114)","v":{"$error":"#REF!"}},3031.1684377213614,1784.0783858183415,0.52500000000000002,124.23699573614252,null,null,null,null,null,null,0,40,40,{"$f":"IF($Q114*T$91>$R114, $Q114*T$91, $R114)","v":40},{"$f":"IF($Q114*U$91>$R114, $Q114*U$91, $R114)","v":40},595,547,522,861.65306325576648,861.65306325576648,861.65306325576648,{"$f":"V114^$I114*$J114","v":3555.2680325388478},3401.6865056242277,3319.1582182916954,null,null,{"$f":"IF('Flow charts'!$A$238=$S$91,AB114, IF('Flow charts'!$A$238=$T$91,AC114, IF('Flow charts'!$A$238=$U$91,AD114,\"SELECT BP\")))","v":3401.6865056242277},{"$f":"IF('Flow charts'!$A$238=$S$91,Y114, IF('Flow charts'!$A$238=$T$91,Z114, IF('Flow charts'!$A$238=$U$91,AA114,\"SELECT BP\")))","v":861.65306325576648},2540.0334423684612]
[null,"B4",-50,160,160,{"$f":"IF(OR(#REF!=\"\", E115=\"\"),\"\",E115^3*M115+E115^2*N115+E115*O115+P115+(K115-#REF!)*L115)","v":{"$error":"#REF!"}},1361.1394166167565,801.13641427885898,0.54200000000000004,51.176837119848358,null,null,null,null,null,null,0,40,{"$f":"IF($Q115*S$91>$R115, $Q115*S$91, $R115)","v":40},{"$f":"IF($Q115*T$91>$R115, $Q115*T$91, $R115)","v":40},{"$f":"IF($Q115*U$91>$R115, $Q115*U$91, $R115)","v":40},730,680,651,377.91136870791371,377.91136870791371,377.91136870791371,1823.8723181757332,1755.0652703428941,1714.0928269226549,null,null,{"$f":"IF('Flow charts'!$A$238=$S$91,AB115, IF('Flow charts'!$A$238=$T$91,AC115, IF('Flow charts'!$A$238=$U$91,AD115,\"SELECT BP\")))","v":1755.0652703428941},{"$f":"IF('Flow charts'!$A$238=$S$91,Y115, IF('Flow charts'!$A$238=$T$91,Z115, IF('Flow charts'!$A$238=$U$91,AA115,\"SELECT BP\")))","v":377.91136870791371},{"$f":"AG115-AH115","v":1377.1539016349805}]
[null,"B2",-50,160,160,{"$f":"IF(OR(#REF!=\"\", E116=\"\"),\"\",E116^3*M116+E116^2*N116+E116*O116+P116+(K116-#REF!)*L116)","v":{"$error":"#REF!"}},600.08718646970431,353.19798321466777,0.58099999999999996,18.510770873136639,null,null,null,null,null,null,0,50,{"$f":"IF($Q116*S$91>$R116, $Q116*S$91, $R116)","v":50},50,50,664,624,595,179.69089741727916,179.69089741727916,179.69089741727916,807.42865711419211,778.80145055489754,{"$f":"X116^$I116*$J116","v":757.56318666722041},null,null,{"$f":"IF('Flow charts'!$A$238=$S$91,AB116, IF('Flow charts'!$A$238=$T$91,AC116, IF('Flow charts'!$A$238=$U$91,AD116,\"SELECT BP\")))","v":778.80145055489754},{"$f":"IF('Flow charts'!$A$238=$S$91,Y116, IF('Flow charts'!$A$238=$T$91,Z116, IF('Flow charts'!$A$238=$U$91,AA116,\"SELECT BP\")))","v":179.69089741727916},{"$f":"AG116-AH116","v":599.11055313761835}]
[null,"B1",-50,160,160,{"$f":"IF(OR(#REF!=\"\", E117=\"\"),\"\",E117^3*M117+E117^2*N117+E117*O117+P117+(K117-#REF!)*L117)","v":{"$error":"#REF!"}},339.86339822260555,200.03604397370017,0.52200000000000002,14.143523818170857,null,null,null,null,null,null,0,60,60,{"$f":"IF($Q117*T$91>$R117, $Q117*T$91, $R117)","v":60},{"$f":"IF($Q117*U$91>$R117, $Q117*U$91, $R117)","v":60},669,637,597,119.88161331493326,119.88161331493326,119.88161331493326,422.11429475365082,411.45127252785318,{"$f":"X117^$I117*$J117","v":397.75553059304974},null,null,{"$f":"IF('Flow charts'!$A$238=$S$91,AB117, IF('Flow charts'!$A$238=$T$91,AC117, IF('Flow charts'!$A$238=$U$91,AD117,\"SELECT BP\")))","v":411.45127252785318},{"$f":"IF('Flow charts'!$A$238=$S$91,Y117, IF('Flow charts'!$A$238=$T$91,Z117, IF('Flow charts'!$A$238=$U$91,AA117,\"SELECT BP\")))","v":119.88161331493326},291.56965921291993]
[null,"B74",-50,160,160,{"$f":"IF(OR(#REF!=\"\", E118=\"\"),\"\",E118^3*M118+E118^2*N118+E118*O118+P118+(K118-#REF!)*L118)","v":{"$error":"#REF!"}},156.28858943232936,91.987990797985177,0.51500000000000001,6.7392154689162007,null,null,null,null,null,null,0,50,{"$f":"IF($Q118*S$91>$R118, $Q118*S$91, $R118)","v":50},{"$f":"IF($Q118*T$91>$R118, $Q118*T$91, $R118)","v":50},{"$f":"IF($Q118*U$91>$R118, $Q118*U$91, $R118)","v":50},668,625,596,50.533443603960215,50.533443603960215,50.533443603960215,192.0300611477486,185.56136175735793,181.07611403766219,null,null,{"$f":"IF('Flow charts'!$A$238=$S$91,AB118, IF('Flow charts'!$A$238=$T$91,AC118, IF('Flow charts'!$A$238=$U$91,AD118,\"SELECT BP\")))","v":185.56136175735793},{"$f":"IF('Flow charts'!$A$238=$S$91,Y118, IF('Flow charts'!$A$238=$T$91,Z118, IF('Flow charts'!$A$238=$U$91,AA118,\"SELECT BP\")))","v":50.533443603960215},{"$f":"AG118-AH118","v":135.02791815339771}]
[null,"B47",-50,160,160,{"$f":"IF(OR(#REF!=\"\", E119=\"\"),\"\",E119^3*M119+E119^2*N119+E119*O119+P119+(K119-#REF!)*L119)","v":{"$error":"#REF!"}},71.976965717002614,42.364042596400374,0.51400000000000001,3.1194621821184163,null,null,null,null,null,null,0,50,{"$f":"IF($Q119*S$91>$R119, $Q119*S$91, $R119)","v":50},50,50,630,596,574,23.29969881810673,23.29969881810673,23.29969881810673,85.692096338920393,83.282988806387877,81.688409003980837,null,null,{"$f":"IF('Flow charts'!$A$238=$S$91,AB119, IF('Flow charts'!$A$238=$T$91,AC119, IF('Flow charts'!$A$238=$U$91,AD119,\"SELECT BP\")))","v":83.282988806387877},{"$f":"IF('Flow charts'!$A$238=$S$91,Y119, IF('Flow charts'!$A$238=$T$91,Z119, IF('Flow charts'!$A$238=$U$91,AA119,\"SELECT BP\")))","v":23.29969881810673},{"$f":"AG119-AH119","v":59.983289988281143}]
[null,"B29",-50,160,160,{"$f":"IF(OR(#REF!=\"\", E120=\"\"),\"\",E120^3*M120+E120^2*N120+E120*O120+P120+(K120-#REF!)*L120)","v":{"$error":"#REF!"}},25.537321794529213,15.03070013474961,0.51300000000000001,1.1124119856988315,null,null,null,null,null,null,0,50,50,{"$f":"IF($Q120*T$91>$R120, $Q120*T$91, $R120)","v":50},{"$f":"IF($Q120*U$91>$R120, $Q120*U$91, $R120)","v":50},611,579,530,8.2763199551144098,8.2763199551144098,8.2763199551144098,29.888546834613059,29.075002632457092,27.78556169546507,null,null,{"$f":"IF('Flow charts'!$A$238=$S$91,AB120, IF('Flow charts'!$A$238=$T$91,AC120, IF('Flow charts'!$A$238=$U$91,AD120,\"SELECT BP\")))","v":29.075002632457092},{"$f":"IF('Flow charts'!$A$238=$S$91,Y120, IF('Flow charts'!$A$238=$T$91,Z120, IF('Flow charts'!$A$238=$U$91,AA120,\"SELECT BP\")))","v":8.2763199551144098},20.798682677342683]
[]
[null,null,"Enter Pressures appearing on gauge",null,"Fan Pressure used in flow equation",null,null,"Flow = PN*K "]
[null,null,"PrA,          Pa","PrB,          Pa ","P,                Pa",null,{"$f":"IF($E$12=\"m3/h\",\"m3/h displayed on DM32\",IF($E$12=\"m3/s\",\"m3/s displayed on DM32\",IF($E$12=\"L/s\",\"L/s displayed on DM32\",\"Metric displayed on DM32\")))","v":"m3/h displayed on DM32"},"CFM displayed on DM32","N","K"]
["MN 3 (110V)","Open",30.9,114.9,{"$f":"IF(OR(C124=\"\",D124=\"\",D124<0),\"\", D124)","v":114.9},null,{"$f":"IF($E$12=\"m3/h\",IF(H124=\"---\",\"---\",(H124*(1/0.58857777866))),IF($E$12=\"m3/s\",IF(H124=\"---\",\"---\",FIXED((H124*0.0004719474432),5,FALSE)),IF($E$12=\"L/s\",IF(H124=\"---\",\"---\",(H124*0.47194745)),\"---\")))","v":8714.9096019536173},{"$f":"IF(E124=\"---\",\"---\", E124^I124*J124)","v":5129.4021347405651},0.4879,506.8]
[null,"A",29.7,254.3,{"$f":"IF(OR(C125=\"\",D125=\"\",D125<0),\"\", D125)","v":254.3},null,4808.671841474953,{"$f":"IF(E125=\"---\",\"---\", E125^I125*J125)","v":2830.2773907602195},0.48759999999999998,190.1]
[null,"B",30,371.1,{"$f":"IF(OR(C126=\"\",D126=\"\",D126<0),\"\", D126)","v":371.1},null,1933.5388437293664,{"$f":"IF(E126=\"---\",\"---\", E126^I126*J126)","v":1138.0379975950555},0.4955,60.67]
[null,"C",27.8,397.5,397.5,null,783.39442616267684,461.08855116545379,0.51319999999999999,21.37]
[null,"D",29.3,245,{"$f":"IF(OR(C128=\"\",D128=\"\",D128<0),\"\", D128)","v":245},null,185.87395583113315,109.40128003383531,0.49419999999999997,7.2160000000000002]
[null,"E",31,265.3,{"$f":"IF(OR(C129=\"\",D129=\"\",D129<0),\"\", D129)","v":265.3},null,87.559727131129605,51.535709694916001,0.52669999999999995,2.726]
[]
["MN 3 (230V)","Open",30.9,114.9,{"$f":"IF(OR(C131=\"\",D131=\"\",D131<0),\"\", D131)","v":114.9},null,8739.2674919293622,{"$f":"IF(E131=\"---\",\"---\", E131^I131*J131)","v":5143.7386475153335},0.49180000000000001,498.9]
[null,"A",29.7,254.3,{"$f":"IF(OR(C132=\"\",D132=\"\",D132<0),\"\", D132)","v":254.3},null,4843.4195537398928,{"$f":"IF(E132=\"---\",\"---\", E132^I132*J132)","v":2850.7291220586349},0.4889,190.1]
[null,"B",30,371.1,{"$f":"IF(OR(C133=\"\",D133=\"\",D133<0),\"\", D133)","v":371.1},null,1926.7573661709969,{"$f":"IF(E133=\"---\",\"---\", E133^I133*J133)","v":1134.0465705977176},0.49580000000000002,60.35]
[null,"C",27.8,397.5,397.5,null,775.51491001335376,456.45084305336957,0.51870000000000005,20.47]
[null,"D",29.3,245,{"$f":"IF(OR(C135=\"\",D135=\"\",D135<0),\"\", D135)","v":245},null,184.92349080781187,108.84185744171485,0.50219999999999998,6.87]
[null,"E",31,265.3,{"$f":"IF(OR(C136=\"\",D136=\"\",D136<0),\"\", D136)","v":265.3},null,83.795913952554855,49.320412894979242,0.51390000000000002,2.802]
[]
["MN 4 (230V)","Open",30.9,114.9,{"$f":"IF(OR(C138=\"\",D138=\"\",D138<0),\"\", D138)","v":114.9},null,7433.7323904749037,{"$f":"IF(E138=\"---\",\"---\", E138^I138*J138)","v":4375.3296975386111},0.48480000000000001,438.7]
[null,"A",29.7,254.3,{"$f":"IF(OR(C139=\"\",D139=\"\",D139<0),\"\", D139)","v":254.3},null,4242.3813057994003,{"$f":"IF(E139=\"---\",\"---\", E139^I139*J139)","v":2496.9713651961215},0.49519999999999997,160.80000000000001]
[null,"B",30,371.1,{"$f":"IF(OR(C140=\"\",D140=\"\",D140<0),\"\", D140)","v":371.1},null,1544.1294411447159,{"$f":"IF(E140=\"---\",\"---\", E140^I140*J140)","v":908.84027643246418},0.49680000000000002,48.08]
[null,"C",27.8,397.5,397.5,null,422.71983777622705,248.80350311384731,0.51570000000000005,11.36]
[null,"D",29.3,245,{"$f":"IF(OR(C142=\"\",D142=\"\",D142<0),\"\", D142)","v":245},null,196.12043224946663,115.43212836323011,0.50319999999999998,7.2460000000000004]
[null,"E",31,265.3,{"$f":"IF(OR(C143=\"\",D143=\"\",D143<0),\"\", D143)","v":265.3},null,85.06813913115937,50.069216364557612,0.51659999999999995,2.802]
[]
["MN \nDB","Open",30.9,114.9,{"$f":"IF(OR(C145=\"\",D145=\"\",D145<0),\"\", D145)","v":114.9},null,2009.9197649331957,{"$f":"J145*D145^I145","v":1182.9941105292098},0.50319999999999998,108.7]
[null,"Ring 1",29.7,254.3,{"$f":"IF(OR(C146=\"\",D146=\"\",D146<0),\"\", D146)","v":254.3},null,1120.6362270254767,659.58158118857864,0.50380000000000003,40.5]
[null,"Ring 2",30,371.1,{"$f":"IF(OR(C147=\"\",D147=\"\",D147<0),\"\", D147)","v":371.1},null,519.06936114763346,305.51269155473943,0.50639999999999996,15.27]
[null,"Ring 3",27.8,397.5,397.5,null,215.11379985138086,126.6112024756376,0.51400000000000001,5.84]

{"sheet":"Round B","index":1,"n_rows":111,"n_cols":26,"rows_kept":111,"cut":false,"hidden":true,"merged":[[67,6,68,13],[68,2,68,3],[0,0,1,1],[7,2,7,3],[7,6,7,12],[8,13,9,18],[9,0,11,0],[13,0,20,0],[22,0,30,0],[32,0,41,0],[43,0,52,0],[54,0,64,0],[102,0,110,0],[70,0,73,0],[76,6,77,13],[77,2,77,3],[79,0,89,0],[92,0,100,0]]}
["Published Flow Equation Parameters:",null,"\"Round B\" released: 2015-06-23, DM32 v2.3.62"]
[null,null,"\"Round A\" released: 2014"]
[]
[null,null,"For sample flow calculations: enter pressure data into Columns C & D"]
[null,null,"identifies the same Range but depending on PrA sign (or if 'set to 0 Pa' is implemented), different flow equation parameters are used"]
[]
[]
[null,null,"Enter Pressures appearing on gauge",null,"Fan Pressure used in flow equations",null,"                                                                                                                                                                                                                                                                                                                                                                                                                                                                                                                                                                                                                                                                                                                                                                                                                                                         Condition that must be true, or else “---“ is displayed for flow result:  \n                                                                                                                                                                                                                                                 PrB>=MF, PrB>=|PrA|*K2                                                                                                                               "]
["Device","Range","PrA,           Pa","PrB,          Pa ","P,                  Pa","CFM calculation","CFM displayed on DM32","N","K","K1","K2","K3","MF","Flow = (P-|PrA|)*K1)N*(K+P*K3)                \n                                                                                                                                                                                                                                                                                                                                                                                                                                                                                                                                                              Since K1 and K3 are 0 for 300 & 340 & 350 & 450 systems,                         this equation can be simplified to:  Flow = PN*K , i.e. no backpressure compensation because PrA becomes irrelevant"]
[240,"Open",25,300,{"$f":"IF(OR(C10=\"\",D10=\"\", D10<0),\"---\",        IF(AND(D10>=M10,D10>=ABS(C10)*K10),D10,\"---\"))","v":300},{"$f":"IF(OR(#REF!=\"\", E10=\"\"),\"\",(E10-#REF!*J10)^H10*(I10+E10*L10))","v":{"$error":"#REF!"}},{"$f":"IF(E10=\"---\",\"---\", (E10-ABS(C10)*J10)^H10*(I10+E10*L10))","v":569.21908216841939},0.51149999999999995,30.7774,0,0.2,0,10]
[null,"Mid",25,300,{"$f":"IF(OR(C11=\"\",D11=\"\", D11<0),\"---\",        IF(AND(D11>=M11,D11>=ABS(C11)*K11),D11,\"---\"))","v":300},{"$f":"IF(OR(#REF!=\"\", E11=\"\"),\"\",(E11-#REF!*J11)^H11*(I11+E11*L11))","v":{"$error":"#REF!"}},{"$f":"IF(E11=\"---\",\"---\", (E11-ABS(C11)*J11)^H11*(I11+E11*L11))","v":129.80354050125624},0.54149999999999998,5.9146000000000001,0,0.5,0,25]
[null,"Low",25,300,{"$f":"IF(OR(C12=\"\",D12=\"\", D12<0),\"---\",        IF(AND(D12>=M12,D12>=ABS(C12)*K12),D12,\"---\"))","v":300},{"$f":"IF(OR(#REF!=\"\", E12=\"\"),\"\",(E12-#REF!*J12)^H12*(I12+E12*L12))","v":{"$error":"#REF!"}},{"$f":"IF(E12=\"---\",\"---\", (E12-ABS(C12)*J12)^H12*(I12+E12*L12))","v":31.151266734090079},0.61250000000000004,1.0056,-2.4E-2,0.5,-2.0000000000000001E-4,25]
[]
[300,"Open",25,9,{"$f":"IF(OR(C14=\"\",D14=\"\", D14<0),\"---\",        IF(AND(D14>=M14,D14>=ABS(C14)*K14),D14,\"---\"))","v":"---"},{"$f":"IF(OR(#REF!=\"\", E14=\"\"),\"\",(E14-#REF!*J14)^H14*(I14+E14*L14))","v":{"$error":"#REF!"}},{"$f":"IF(E14=\"---\",\"---\", (E14-ABS(C14)*J14)^H14*(I14+E14*L14))","v":"---"},0.501,28.91,0,0.4,0,20,"PrB cannot be less than MF and PrA*K2, or \"---\" is displayed"]
[null,102,25,100,{"$f":"IF(OR(C15=\"\",D15=\"\", D15<0),\"---\",        IF(AND(D15>=M15,D15>=ABS(C15)*K15),D15,\"---\"))","v":100},{"$f":"IF(OR(#REF!=\"\", E15=\"\"),\"\",(E15-#REF!*J15)^H15*(I15+E15*L15))","v":{"$error":"#REF!"}},{"$f":"IF(E15=\"---\",\"---\", (E15-ABS(C15)*J15)^H15*(I15+E15*L15))","v":161.95105358267432},0.59,10.7,0,0.4,0,100]
[null,74,25,-10,"---",{"$f":"IF(OR(#REF!=\"\", E16=\"\"),\"\",(E16-#REF!*J16)^H16*(I16+E16*L16))","v":{"$error":"#REF!"}},"---",0.50449999999999995,7.0773192087114243,0,0.25,0,15,"PrB cannot be negative, so \"---\" is displayed"]
[null,47,25,100,100,{"$f":"IF(OR(#REF!=\"\", E17=\"\"),\"\",(E17-#REF!*J17)^H17*(I17+E17*L17))","v":{"$error":"#REF!"}},32.409359420275905,0.5,3.2409359420275905,0,0.1,0,10]
[null,29,25,150,150,{"$f":"IF(OR(#REF!=\"\", E18=\"\"),\"\",(E18-#REF!*J18)^H18*(I18+E18*L18))","v":{"$error":"#REF!"}},14.724344452789552,0.502,1.1902499077349771,0,0.2,0,20]
[null,18,25,200,200,{"$f":"IF(OR(#REF!=\"\", E19=\"\"),\"\",(E19-#REF!*J19)^H19*(I19+E19*L19))","v":{"$error":"#REF!"}},6.4288037427266858,0.499,0.45700000000000002,0,0.25,0,25]
[null,11,25,250,250,{"$f":"IF(OR(#REF!=\"\", E20=\"\"),\"\",(E20-#REF!*J20)^H20*(I20+E20*L20))","v":{"$error":"#REF!"}},2.9449270361419764,0.48,0.20799999999999999,0,0.25,0,25]
[null,7,25,250,250,{"$f":"IF(OR(#REF!=\"\", E21=\"\"),\"\",(E21-#REF!*J21)^H21*(I21+E21*L21))","v":{"$error":"#REF!"}},1.1352576800004481,0.5,7.1800000000000003E-2,0,0.11,0,25]
[]
[340,"Open",25,300,{"$f":"IF(OR(C23=\"\",D23=\"\", D23<0),\"---\",        IF(AND(C23>0, D23>=M23,D23>=ABS(C23)*K23),D23,\"---\"))","v":300},{"$f":"IF(OR(#REF!=\"\", E23=\"\"),\"\",(E23-#REF!*J23)^H23*(I23+E23*L23))","v":{"$error":"#REF!"}},{"$f":"IF(E23=\"---\",\"---\", (E23-ABS(C23)*J23)^H23*(I23+E23*L23))","v":503.60013781560741},0.501,28.91,0,0.4,0,20,"use when PrA is positive or when \"Set Pressure\" value of \"0\" Pa is entered"]
[null,"Open",-25,300,{"$f":"IF(OR(C24=\"\",D24=\"\", D24<0),\"---\",        IF(AND(C24<0, D24>=M24,D24>=ABS(C24)*K24),D24,\"---\"))","v":300},{"$f":"IF(OR(#REF!=\"\", E24=\"\"),\"\",(E24-#REF!*J24)^H24*(I24+E24*L24))","v":{"$error":"#REF!"}},518.70814195007563,0.501,29.7773,0,0.4,0,20,"use when PrA is negative"]
[null,102,25,300,{"$f":"IF(OR(C25=\"\",D25=\"\", D25<0),\"---\",        IF(AND(D25>=M25,D25>=ABS(C25)*K25),D25,\"---\"))","v":300},{"$f":"IF(OR(#REF!=\"\", E25=\"\"),\"\",(E25-#REF!*J25)^H25*(I25+E25*L25))","v":{"$error":"#REF!"}},309.66014867595442,0.59,10.7,0,0.4,0,100]
[null,74,25,300,300,{"$f":"IF(OR(#REF!=\"\", E26=\"\"),\"\",(E26-#REF!*J26)^H26*(I26+E26*L26))","v":{"$error":"#REF!"}},125.76982512573395,0.50449999999999995,7.0773192087114243,0,0.25,0,15]
[null,47,25,15,15,{"$f":"IF(OR(#REF!=\"\", E27=\"\"),\"\",(E27-#REF!*J27)^H27*(I27+E27*L27))","v":{"$error":"#REF!"}},12.552090929597904,0.5,3.2409359420275905,0,0.1,0,10]
[null,29,25,25,25,{"$f":"IF(OR(#REF!=\"\", E28=\"\"),\"\",(E28-#REF!*J28)^H28*(I28+E28*L28))","v":{"$error":"#REF!"}},5.9896857939955401,0.502,1.1902499077349771,0,0.2,0,20]
[null,18,25,35,35,{"$f":"IF(OR(#REF!=\"\", E29=\"\"),\"\",(E29-#REF!*J29)^H29*(I29+E29*L29))","v":{"$error":"#REF!"}},2.6940531170632043,0.499,0.45700000000000002,0,0.25,0,25]
[null,11,25,300,300,{"$f":"IF(OR(#REF!=\"\", E30=\"\"),\"\",(E30-#REF!*J30)^H30*(I30+E30*L30))","v":{"$error":"#REF!"}},3.2142639484993598,0.48,0.20799999999999999,0,0.25,0,25]
[null,7,25,250,250,{"$f":"IF(OR(#REF!=\"\", E31=\"\"),\"\",(E31-#REF!*J31)^H31*(I31+E31*L31))","v":{"$error":"#REF!"}},1.1352576800004481,0.5,7.1800000000000003E-2,0,0.11,0,25]
[]
[350,102,25,300,{"$f":"IF(OR(C33=\"\",D33=\"\", D33<0),\"---\",        IF(AND(D33>=M33,D33>=ABS(C33)*K33),D33,\"---\"))","v":300},{"$f":"IF(OR(#REF!=\"\", E33=\"\"),\"\",(E33-#REF!*J33)^H33*(I33+E33*L33))","v":{"$error":"#REF!"}},{"$f":"IF(E33=\"---\",\"---\", (E33-ABS(C33)*J33)^H33*(I33+E33*L33))","v":309.66014867595442},0.59,10.7,0,0.4,0,100]
[null,74,25,300,300,{"$f":"IF(OR(#REF!=\"\", E34=\"\"),\"\",(E34-#REF!*J34)^H34*(I34+E34*L34))","v":{"$error":"#REF!"}},125.76982512573395,0.50449999999999995,7.0773192087114243,0,0.25,0,15]
[null,47,25,300,300,{"$f":"IF(OR(#REF!=\"\", E35=\"\"),\"\",(E35-#REF!*J35)^H35*(I35+E35*L35))","v":{"$error":"#REF!"}},56.134657156678891,0.5,3.2409359420275905,0,0.1,0,10]
[null,29,25,300,300,{"$f":"IF(OR(#REF!=\"\", E36=\"\"),\"\",(E36-#REF!*J36)^H36*(I36+E36*L36))","v":{"$error":"#REF!"}},20.852254957851137,0.502,1.1902499077349771,0,0.2,0,20]
[null,18,25,300,300,{"$f":"IF(OR(#REF!=\"\", E37=\"\"),\"\",(E37-#REF!*J37)^H37*(I37+E37*L37))","v":{"$error":"#REF!"}},7.8704525721382002,0.499,0.45700000000000002,0,0.25,0,25]
[null,11,25,300,300,{"$f":"IF(OR(#REF!=\"\", E38=\"\"),\"\",(E38-#REF!*J38)^H38*(I38+E38*L38))","v":{"$error":"#REF!"}},3.2142639484993598,0.48,0.20799999999999999,0,0.25,0,25]
[null,7,25,250,250,{"$f":"IF(OR(#REF!=\"\", E39=\"\"),\"\",(E39-#REF!*J39)^H39*(I39+E39*L39))","v":{"$error":"#REF!"}},1.1352576800004481,0.5,7.1800000000000003E-2,0,0.11,0,25]
[null,3,25,250,250,{"$f":"IF(OR(#REF!=\"\", E40=\"\"),\"\",(E40-#REF!*J40)^H40*(I40+E40*L40))","v":{"$error":"#REF!"}},0.31437981594729414,0.48499999999999999,2.1600000000000001E-2,0,0.3,0,25]
[null,2,25,250,250,{"$f":"IF(OR(#REF!=\"\", E41=\"\"),\"\",(E41-#REF!*J41)^H41*(I41+E41*L41))","v":{"$error":"#REF!"}},0.12128904072698021,0.53,6.4999999999999997E-3,0,0.3,0,25]
[null,1,10,10,"---",{"$f":"IF(OR(#REF!=\"\", E42=\"\"),\"\",(E42-#REF!*J42)^H42*(I42+E42*L42))","v":{"$error":"#REF!"}},"---",0.59279999999999999,2.0436386114547761E-3,0,0.3,0,40]
[]
[450,74,251.5,1735,{"$f":"IF(OR(C44=\"\",D44=\"\", D44<0),\"---\",        IF(AND(C44>0, D44>=M44,D44>=ABS(C44)*K44),D44,\"---\"))","v":1735},{"$f":"IF(OR(#REF!=\"\", E44=\"\"),\"\",(E44-#REF!*J44)^H44*(I44+E44*L44))","v":{"$error":"#REF!"}},{"$f":"IF(E44=\"---\",\"---\", (E44-ABS(C44)*J44)^H44*(I44+E44*L44))","v":304.93314604546555},0.50449999999999995,7.0791000000000004,0,0.15,0,250,"use when PrA is positive or when \"Set Pressure\" value of \"0\" Pa is entered"]
[null,74,-252.5,1845,{"$f":"IF(OR(C45=\"\",D45=\"\", D45<0),\"---\",        IF(AND(C45<0, D45>=M45,D45>=ABS(C45)*K45),D45,\"---\"))","v":1845},{"$f":"IF(OR(#REF!=\"\", E45=\"\"),\"\",(E45-#REF!*J45)^H45*(I45+E45*L45))","v":{"$error":"#REF!"}},309.82384126577097,0.50449999999999995,6.9729999999999999,0,0.15,0,250,"use when PrA is negative"]
[null,47,250,300,{"$f":"IF(OR(C46=\"\",D46=\"\", D46<0),\"---\",        IF(AND(D46>=M46,D46>=ABS(C46)*K46),D46,\"---\"))","v":300},{"$f":"IF(OR(#REF!=\"\", E46=\"\"),\"\",(E46-#REF!*J46)^H46*(I46+E46*L46))","v":{"$error":"#REF!"}},54.199653513024053,0.48799999999999999,3.3508990000000001,0,0.12,0,250]
[null,29,250,300,300,{"$f":"IF(OR(#REF!=\"\", E47=\"\"),\"\",(E47-#REF!*J47)^H47*(I47+E47*L47))","v":{"$error":"#REF!"}},18.835284879725645,0.49890000000000001,1.0943000000000001,0,0.15,0,250]
[null,18,250,300,300,{"$f":"IF(OR(#REF!=\"\", E48=\"\"),\"\",(E48-#REF!*J48)^H48*(I48+E48*L48))","v":{"$error":"#REF!"}},7.4319424348078034,0.49930000000000002,0.43080000000000002,0,0.15,0,250]
[null,11,250,300,300,{"$f":"IF(OR(#REF!=\"\", E49=\"\"),\"\",(E49-#REF!*J49)^H49*(I49+E49*L49))","v":{"$error":"#REF!"}},2.9483430076007933,0.50219999999999998,0.1681,0,0.14000000000000001,0,250]
[null,7,-251,890,890,{"$f":"IF(OR(#REF!=\"\", E50=\"\"),\"\",(E50-#REF!*J50)^H50*(I50+E50*L50))","v":{"$error":"#REF!"}},1.9960485462443669,0.50090000000000001,6.6500000000000004E-2,0,0.08,0,250]
[null,3,250,250,250,{"$f":"IF(OR(#REF!=\"\", E51=\"\"),\"\",(E51-#REF!*J51)^H51*(I51+E51*L51))","v":{"$error":"#REF!"}},0.29399358302615847,0.55400000000000005,1.38E-2,0,0.1,0,250]
[null,2,250,250,"---",{"$f":"IF(OR(#REF!=\"\", E52=\"\"),\"\",(E52-#REF!*J52)^H52*(I52+E52*L52))","v":{"$error":"#REF!"}},"---",0.53,6.4999999999999997E-3,0,0.12,0,350]
[null,1,100,100,"---",{"$f":"IF(OR(#REF!=\"\", E53=\"\"),\"\",(E53-#REF!*J53)^H53*(I53+E53*L53))","v":{"$error":"#REF!"}},"---",0.56000000000000005,2.0400000000000001E-3,0,0.12,0,350]
[]
["3000SR","Open",25,300,{"$f":"IF(OR(C55=\"\",D55=\"\", D55<0),\"---\",        IF(AND(D55>=M55,D55>=ABS(C55)*K55),D55,\"---\"))","v":300},{"$f":"IF(OR(#REF!=\"\", E55=\"\"),\"\",(E55-#REF!*J55)^H55*(I55+E55*L55))","v":{"$error":"#REF!"}},{"$f":"IF(E55=\"---\",\"---\", (E55-ABS(C55)*J55)^H55*(I55+E55*L55))","v":9522.166013309321},0.52139999999999997,519.61829999999998,-7.0000000000000007E-2,0.8,-0.115,8.6]
[null,"A",25,300,300,{"$f":"IF(OR(#REF!=\"\", E56=\"\"),\"\",(E56-#REF!*J56)^H56*(I56+E56*L56))","v":{"$error":"#REF!"}},4683.733866088226,0.503,264.99590000000001,-7.4999999999999997E-2,1,0,12]
[null,"B",25,300,300,{"$f":"IF(OR(#REF!=\"\", E57=\"\"),\"\",(E57-#REF!*J57)^H57*(I57+E57*L57))","v":{"$error":"#REF!"}},3029.0520214958342,0.5,174.88239999999999,0,0.3,0,10]
[null,"C8",25,300,300,{"$f":"IF(OR(#REF!=\"\", E58=\"\"),\"\",(E58-#REF!*J58)^H58*(I58+E58*L58))","v":{"$error":"#REF!"}},1444.0001540858641,0.5,78.5,-0.02,0.5,1.6E-2,10]
[null,"C6",25,300,300,{"$f":"IF(OR(#REF!=\"\", E59=\"\"),\"\",(E59-#REF!*J59)^H59*(I59+E59*L59))","v":{"$error":"#REF!"}},1111.3147778720547,0.505,61.3,5.3999999999999999E-2,0.5,4.0000000000000001E-3,10]
[null,"C4",25,300,300,{"$f":"IF(OR(#REF!=\"\", E60=\"\"),\"\",(E60-#REF!*J60)^H60*(I60+E60*L60))","v":{"$error":"#REF!"}},764.71793934550465,0.50770000000000004,42,8.9999999999999993E-3,0.5,8.9999999999999998E-4,10]
[null,"C2",25,300,300,{"$f":"IF(OR(#REF!=\"\", E61=\"\"),\"\",(E61-#REF!*J61)^H61*(I61+E61*L61))","v":{"$error":"#REF!"}},419.25968409087056,0.52,22,0.11,0.5,-1E-3,10]
[null,"C1",25,300,300,{"$f":"IF(OR(#REF!=\"\", E62=\"\"),\"\",(E62-#REF!*J62)^H62*(I62+E62*L62))","v":{"$error":"#REF!"}},250.26982014313322,0.54100000000000004,11.9239,0.13,0.4,-1.4E-3,10]
[null,"L4",25,300,{"$f":"IF(OR(C63=\"\",D63=\"\", D63<0),\"---\",        IF(AND(D63>=M63,D63>=ABS(C63)*K63),D63,\"---\"))","v":300},{"$f":"IF(OR(#REF!=\"\", E63=\"\"),\"\",(E63-#REF!*J63)^H63*(I63+E63*L63))","v":{"$error":"#REF!"}},{"$f":"IF(E63=\"---\",\"---\", (E63-ABS(C63)*J63)^H63*(I63+E63*L63))","v":65.196918819633595},0.48,4.0994999999999999,3.0000000000000001E-3,1,4.0000000000000002E-4,10]
[null,"L2",25,300,300,{"$f":"IF(OR(#REF!=\"\", E64=\"\"),\"\",(E64-#REF!*J64)^H64*(I64+E64*L64))","v":{"$error":"#REF!"}},36.751828474260371,0.502,2.0678000000000001,0,0.5,1E-4,10]
[null,"L1",25,300,300,{"$f":"IF(OR(#REF!=\"\", E65=\"\"),\"\",(E65-#REF!*J65)^H65*(I65+E65*L65))","v":{"$error":"#REF!"}},19.690190981459779,0.49249999999999999,1.1614,0.1,0.5,1E-4,10]
[]
[]
[null,null,null,null,null,null,"P is calculated depending:\nIf PrA<0:  P = |PrB|-|PrA|\nIf PrA>0:  P = PrB\n\nConditions that must be true, or else “---“ is displayed for flow result:\nIf PrA<0: (|PrB|-|PrA|)>MF, (|PrB|-|PrA|)>PrA*K2 \nIf PrA>0:  PrB>=MF, PrB>=|PrA|*K2\n"]
[null,null,"Enter Pressures appearing on gauge",null,"Fan Pressure used in flow equations"]
[null,null,"PrA,          Pa","PrB,          Pa ","P,                Pa","CFM calculation","CFM displayed on DM32","N","K","g","f","a","b","c","d","K2 ","MF"]
[4000,"Open",25,300,{"$f":"IF(OR(C71=\"\",D71=\"\",D71<0),\"\",        IF(AND(C71>=0,D71>=Q71, D71>=ABS(C71)*P71),D71,         IF(AND(C71<0, (ABS(D71)-ABS(C71))>=Q71, (ABS(D71)-ABS(C71))>=ABS(C71)*P71),(ABS(D71)-ABS(C71)),\"---\")))","v":300},{"$f":"IF(OR(#REF!=\"\", E71=\"\"),\"\",E71^H71*I71)","v":{"$error":"#REF!"}},{"$f":"IF(E71=\"---\",\"---\", E71^H71*I71)","v":9248.8296144371689},0.53,450,null,null,null,null,null,null,0.2,10,"Flow = PN*K"]
[null,"Ring A",-25,300,{"$f":"IF(OR(C72=\"\",D72=\"\",D72<0),\"\",        IF(AND(C72>=0,D72>=Q72, D72>=ABS(C72)*P72),D72,         IF(AND(C72<0, (ABS(D72)-ABS(C72))>=Q72, (ABS(D72)-ABS(C72))>=ABS(C72)*P72),(ABS(D72)-ABS(C72)),\"---\")))","v":275},{"$f":"IF(OR(#REF!=\"\", E72=\"\"),\"\",E72^H72*I72)","v":{"$error":"#REF!"}},{"$f":"IF(E72=\"---\",\"---\", E72^H72*I72)","v":4572.9621968409519},0.48499999999999999,300,null,null,null,null,null,null,0.2,20,"Flow = PN*K"]
[null,"B8",25,300,{"$f":"IF(OR(C73=\"\",D73=\"\",D73<0),\"\",        IF(AND(C73>=0,D73>=Q73, D73>=ABS(C73)*P73),D73,         IF(AND(C73<0, (ABS(D73)-ABS(C73))>=Q73, (ABS(D73)-ABS(C73))>=ABS(C73)*P73),(ABS(D73)-ABS(C73)),\"---\")))","v":300},{"$f":"IF(OR(#REF!=\"\", E73=\"\"),\"\",E73^H73*I73)","v":{"$error":"#REF!"}},{"$f":"IF(E73=\"---\",\"---\", E73^H73*I73)","v":2465.5100287267451},0.52,127,null,null,null,null,null,null,0.2,15,"Flow = PN*K"]
[null,"B4",53.8,47.6,{"$f":"IF(OR(C74=\"\",D74=\"\",D74<0),\"\",        IF(AND(C74>=0,D74>=Q74, D74>=ABS(C74)*P74),D74,         IF(AND(C74<0, (ABS(D74)-ABS(C74))>=Q74, (ABS(D74)-ABS(C74))>=ABS(C74)*P74),(ABS(D74)-ABS(C74)),\"---\")))","v":47.6},{"$f":"IF(OR(#REF!=\"\", E74=\"\"),\"\",E74^3*L74+E74^2*M74+E74*N74+O74+(J74-#REF!)*K74)","v":{"$error":"#REF!"}},{"$f":"IF(E74=\"---\",\"---\", E74^3*L74+E74^2*M74+E74*N74+O74+(J74-ABS(C74))*K74)","v":376.48104016512002},null,null,0,0.7,6.6200000000000001E-6,-7.7999999999999996E-3,4.75,205,0.2,25,"Flow = P3*a+P2*b+P*c+d+(g-|PrA|)*f"]
[]
[]
[null,null,null,null,null,null,"P is calculated depending:\nIf PrA>0:  P = |PrB|-PrA\nIf PrA<0:  P = PrB\n\nConditions that must be true, or else “---“ is displayed for flow result: \nIf PrA>0: (|PrB|-PrA)>MF, (|PrB|-PrA)>PrA*K2 \nIf PrA<0:  PrB>=MF, PrB>=|PrA|*K2\n"]
[null,null,"Enter Pressures appearing on gauge",null,"Fan Pressure used in flow equations"]
[null,null,"PrA,          Pa","PrB,          Pa ","P,                Pa","CFM calculation","CFM displayed on DM32","N","K","K1","K2","K3","MF",null,null,null,null,null,null,null,null,null,null,"-50 and 40 ",100,180]
["1000\n2000\n3000","Open",-50,180,{"$f":"IF(OR(C80=\"\",D80=\"\", D80<0),\"---\",        IF(AND(D80>=M80,D80>=ABS(C80)*K80),D80,\"---\"))","v":180},{"$f":"IF(OR(#REF!=\"\", E80=\"\"),\"\",(E80-#REF!*J80)^H80*(I80+E80*L80))","v":{"$error":"#REF!"}},{"$f":"IF(E80=\"---\",\"---\", (E80-ABS(C80)*J80)^H80*(I80+E80*L80))","v":7555.9535602270053},0.52139999999999997,519.61829999999998,-7.0000000000000007E-2,0.8,-0.115,8.6,"Flow = (P-|PrA|)*K1)N*(K+P*K3)",null,null,null,null,null,null,null,null,{"$f":"G80","v":7555.9535602270053},3682.3999802347703,5708.9302215096031,7555.9535602270053]
[null,"A",25,300,{"$f":"IF(OR(C81=\"\",D81=\"\", D81<0),\"---\",        IF(AND(D81>=M81,D81>=ABS(C81)*K81),D81,\"---\"))","v":300},{"$f":"IF(OR(#REF!=\"\", E81=\"\"),\"\",(E81-#REF!*J81)^H81*(I81+E81*L81))","v":{"$error":"#REF!"}},{"$f":"IF(E81=\"---\",\"---\", (E81-ABS(C81)*J81)^H81*(I81+E81*L81))","v":4683.733866088226},0.503,264.99590000000001,-7.4999999999999997E-2,1,0,12,"Flow = (P-|PrA|)*K1)N*(K+P*K3)",null,null,null,null,null,null,null,null,null,{"$f":"X80/X93-1","v":7.0346825611728336E-2},{"$f":"Y80/Y93-1","v":5.1415018698717674E-2},{"$f":"Z80/Z93-1","v":3.8443838917434858E-2}]
[null,"B",25,300,{"$f":"IF(OR(C82=\"\",D82=\"\", D82<0),\"---\",        IF(AND(D82>=M82,D82>=ABS(C82)*K82),D82,\"---\"))","v":300},{"$f":"IF(OR(#REF!=\"\", E82=\"\"),\"\",(E82-#REF!*J82)^H82*(I82+E82*L82))","v":{"$error":"#REF!"}},{"$f":"IF(E82=\"---\",\"---\", (E82-ABS(C82)*J82)^H82*(I82+E82*L82))","v":3029.0520214958342},0.5,174.88239999999999,0,0.3,0,10,"Flow = (P-|PrA|)*K1)N*(K+P*K3)"]
[null,"C8",25,300,300,{"$f":"IF(OR(#REF!=\"\", E83=\"\"),\"\",(E83-#REF!*J83)^H83*(I83+E83*L83))","v":{"$error":"#REF!"}},1444.0001540858641,0.5,78.5,-0.02,0.5,1.6E-2,10,"Flow = (P-|PrA|)*K1)N*(K+P*K3)"]
[null,"C6",25,300,300,{"$f":"IF(OR(#REF!=\"\", E84=\"\"),\"\",(E84-#REF!*J84)^H84*(I84+E84*L84))","v":{"$error":"#REF!"}},1111.3147778720547,0.505,61.3,5.3999999999999999E-2,0.5,4.0000000000000001E-3,10,"Flow = (P-|PrA|)*K1)N*(K+P*K3)"]
[null,"C4",25,300,300,{"$f":"IF(OR(#REF!=\"\", E85=\"\"),\"\",(E85-#REF!*J85)^H85*(I85+E85*L85))","v":{"$error":"#REF!"}},764.71793934550465,0.50770000000000004,42,8.9999999999999993E-3,0.5,8.9999999999999998E-4,10,"Flow = (P-|PrA|)*K1)N*(K+P*K3)"]
[null,"C2",25,300,300,{"$f":"IF(OR(#REF!=\"\", E86=\"\"),\"\",(E86-#REF!*J86)^H86*(I86+E86*L86))","v":{"$error":"#REF!"}},419.25968409087056,0.52,22,0.11,0.5,-1E-3,10,"Flow = (P-|PrA|)*K1)N*(K+P*K3)"]
[null,"C1",25,300,300,{"$f":"IF(OR(#REF!=\"\", E87=\"\"),\"\",(E87-#REF!*J87)^H87*(I87+E87*L87))","v":{"$error":"#REF!"}},250.26982014313322,0.54100000000000004,11.9239,0.13,0.4,-1.4E-3,10,"Flow = (P-|PrA|)*K1)N*(K+P*K3)"]
[null,"L4",25,300,300,{"$f":"IF(OR(#REF!=\"\", E88=\"\"),\"\",(E88-#REF!*J88)^H88*(I88+E88*L88))","v":{"$error":"#REF!"}},65.196918819633595,0.48,4.0994999999999999,3.0000000000000001E-3,1,4.0000000000000002E-4,10,"Flow = (P-|PrA|)*K1)N*(K+P*K3)"]
[null,"L2",25,300,300,{"$f":"IF(OR(#REF!=\"\", E89=\"\"),\"\",(E89-#REF!*J89)^H89*(I89+E89*L89))","v":{"$error":"#REF!"}},36.751828474260371,0.502,2.0678000000000001,0,0.5,1E-4,10,"Flow = (P-|PrA|)*K1)N*(K+P*K3)"]
[null,"L1",25,300,{"$f":"IF(OR(C90=\"\",D90=\"\", D90<0),\"---\",        IF(AND(D90>=M90,D90>=ABS(C90)*K90),D90,\"---\"))","v":300},{"$f":"IF(OR(#REF!=\"\", E90=\"\"),\"\",(E90-#REF!*J90)^H90*(I90+E90*L90))","v":{"$error":"#REF!"}},{"$f":"IF(E90=\"---\",\"---\", (E90-ABS(C90)*J90)^H90*(I90+E90*L90))","v":19.690190981459779},0.49249999999999999,1.1614,0.1,0.5,1E-4,10,"Flow = (P-|PrA|)*K1)N*(K+P*K3)"]
[]
[null,null,null,null,null,null,null,"N","K","g","f","a","b","c","d","K2 ","MF"]
[5000,"Open",-50,null,{"$f":"IF(OR(C93=\"\",D93=\"\",D93<0),\"\",        IF(AND(C93<=0,D93>=Q93, D93>=ABS(C93)*P93),D93,         IF(AND(C93>0, (ABS(D93)-C93)>=Q93, (ABS(D93)-C93)>=ABS(C93)*P93),(ABS(D93)-C93),\"---\")))","v":""},{"$f":"IF(OR(#REF!=\"\", E93=\"\"),\"\",E93^H93*I93)","v":{"$error":"#REF!"}},{"$f":"IF(E93=\"---\",\"---\", E93^H93*I93)","v":{"$error":"#VALUE!"}},0.498,548,null,null,null,null,null,null,0.3,10,"Flow = PN*K",null,null,null,null,{"$f":"G93","v":{"$error":"#VALUE!"}},3440.380157273034,5429.759058012366,7276.2274444268414]
[null,"Ring A",-50,70,{"$f":"IF(OR(C94=\"\",D94=\"\",D94<0),\"\",        IF(AND(C94<=0,D94>=Q94, D94>=ABS(C94)*P94),D94,         IF(AND(C94>0, (ABS(D94)-C94)>=Q94, (ABS(D94)-C94)>=ABS(C94)*P94),(ABS(D94)-C94),\"---\")))","v":70},{"$f":"IF(OR(#REF!=\"\", E94=\"\"),\"\",E94^H94*I94)","v":{"$error":"#REF!"}},{"$f":"IF(E94=\"---\",\"---\", E94^H94*I94)","v":2421.7042994947033},0.502,287,null,null,null,null,null,null,0.4,20,"Flow = PN*K"]
[null,"B8",50,160,110,{"$f":"IF(OR(#REF!=\"\", E95=\"\"),\"\",E95^H95*I95)","v":{"$error":"#REF!"}},{"$f":"IF(E95=\"---\",\"---\", E95^H95*I95)","v":1433.4754537698477},0.54,113.25,null,null,null,null,null,null,0.7,40,"Flow = PN*K"]
[null,"B4",-50,160,160,{"$f":"IF(OR(#REF!=\"\", E96=\"\"),\"\",E96^3*L96+E96^2*M96+E96*N96+O96+(J96-#REF!)*K96)","v":{"$error":"#REF!"}},{"$f":"IF(E96=\"---\",\"---\", E96^3*L96+E96^2*M96+E96*N96+O96+(J96-ABS(C96))*K96)","v":805.33889448036132},null,null,29,-0.19,7.942601191494451E-6,-8.6400000000000001E-3,4.9000000000000004,206,0.8,25,"Flow = P3*a+P2*b+P*c+d+(g-|PrA|)*f"]
[null,"B2",-50,160,160,{"$f":"IF(OR(#REF!=\"\", E97=\"\"),\"\",E97^3*L97+E97^2*M97+E97*N97+O97+(J97-#REF!)*K97)","v":{"$error":"#REF!"}},361.36448000000001,null,null,30,0.1,8.8000000000000004E-7,-2.8999999999999998E-3,2.15,90,1,30,"Flow = P3*a+P2*b+P*c+d+(g-|PrA|)*f"]
[null,"B1",-50,160,160,{"$f":"IF(OR(#REF!=\"\", E98=\"\"),\"\",E98^3*L98+E98^2*M98+E98*N98+O98+(J98-#REF!)*K98)","v":{"$error":"#REF!"}},186.48,null,null,30,0,4.9999999999999998E-7,-1.2800000000000001E-3,1.02,54,1,30,"Flow = P3*a+P2*b+P*c+d+(g-|PrA|)*f"]
[null,"B74",-50,160,160,{"$f":"IF(OR(#REF!=\"\", E99=\"\"),\"\",E99^3*L99+E99^2*M99+E99*N99+O99+(J99-#REF!)*K99)","v":{"$error":"#REF!"}},87.712855999999988,null,null,25,0.14499999999999999,7.9599999999999998E-7,-9.5009999999999995E-4,0.59,18,0.8,35,"Flow = P3*a+P2*b+P*c+d+(g-|PrA|)*f"]
[null,"B47",-50,160,160,{"$f":"IF(OR(#REF!=\"\", E100=\"\"),\"\",E100^3*L100+E100^2*M100+E100*N100+O100+(J100-#REF!)*K100)","v":{"$error":"#REF!"}},40.670194062098972,null,null,25,0.09,2.6904318197461721E-7,-3.5905495356519798E-4,0.24349999999999999,12.05,1,50,"Flow = P3*a+P2*b+P*c+d+(g-|PrA|)*f"]
[null,"B29",-50,160,160,{"$f":"IF(OR(#REF!=\"\", E101=\"\"),\"\",E101^3*L101+E101^2*M101+E101*N101+O101+(J101-#REF!)*K101)","v":{"$error":"#REF!"}},16.260255999999998,null,null,25,-0.02,1.11E-7,-1.4899999999999999E-4,9.1999999999999998E-2,4.4000000000000004,0.6,50,"Flow = P3*a+P2*b+P*c+d+(g-|PrA|)*f"]
[null,null,null,null,"",{"$f":"IF(OR(#REF!=\"\", E102=\"\"),\"\",E102^3*L102+E102^2*M102+E102*N102+O102+(J102-#REF!)*K102)","v":{"$error":"#REF!"}}]
[6000,"Open",-50,null,"",{"$f":"IF(OR(#REF!=\"\", E103=\"\"),\"\",E103^H103*I103)","v":{"$error":"#REF!"}},{"$f":"IF(E103=\"---\",\"---\", E103^H103*I103)","v":{"$error":"#VALUE!"}},0.498,548,null,null,null,null,null,null,0.5,25,"Flow = PN*K",null,null,null,null,{"$f":"G103","v":{"$error":"#VALUE!"}},3440.380157273034,5429.759058012366,7276.2274444268414]
[null,"Ring A",50,160,110,{"$f":"IF(OR(#REF!=\"\", E104=\"\"),\"\",E104^H104*I104)","v":{"$error":"#REF!"}},{"$f":"IF(E104=\"---\",\"---\", E104^H104*I104)","v":3038.5124816124112},0.502,287,null,null,null,null,null,null,0.5,25,"Flow = PN*K"]
[null,"B8",50,160,110,{"$f":"IF(OR(#REF!=\"\", E105=\"\"),\"\",E105^H105*I105)","v":{"$error":"#REF!"}},{"$f":"IF(E105=\"---\",\"---\", E105^H105*I105)","v":1433.4754537698477},0.54,113.25,null,null,null,null,null,null,0.8,40,"Flow = PN*K"]
[null,"B4",-50,160,160,{"$f":"IF(OR(#REF!=\"\", E106=\"\"),\"\",E106^3*L106+E106^2*M106+E106*N106+O106+(J106-#REF!)*K106)","v":{"$error":"#REF!"}},{"$f":"IF(E106=\"---\",\"---\", E106^3*L106+E106^2*M106+E106*N106+O106+(J106-ABS(C106))*K106)","v":757.43552},null,null,0,0.7,6.6200000000000001E-6,-7.7999999999999996E-3,4.75,205,0.8,25,"Flow = P3*a+P2*b+P*c+d+(g-|PrA|)*f"]
[null,"B2",-50,160,160,{"$f":"IF(OR(#REF!=\"\", E107=\"\"),\"\",E107^3*L107+E107^2*M107+E107*N107+O107+(J107-#REF!)*K107)","v":{"$error":"#REF!"}},310.06799999999998,null,null,40,0.85,3.0000000000000001E-6,-3.7000000000000002E-3,2.2000000000000002,49,1,30,"Flow = P3*a+P2*b+P*c+d+(g-|PrA|)*f"]
[null,"B1",-50,160,160,{"$f":"IF(OR(#REF!=\"\", E108=\"\"),\"\",E108^3*L108+E108^2*M108+E108*N108+O108+(J108-#REF!)*K108)","v":{"$error":"#REF!"}},160.38256000000001,null,null,65,0.2,1.06E-6,-1.382E-3,0.93700000000000006,38.5,1,30,"Flow = P3*a+P2*b+P*c+d+(g-|PrA|)*f"]
[null,"B74",-50,160,160,{"$f":"IF(OR(#REF!=\"\", E109=\"\"),\"\",E109^3*L109+E109^2*M109+E109*N109+O109+(J109-#REF!)*K109)","v":{"$error":"#REF!"}},87.712855999999988,null,null,25,0.14499999999999999,7.9599999999999998E-7,-9.5009999999999995E-4,0.59,18,0.8,35,"Flow = P3*a+P2*b+P*c+d+(g-|PrA|)*f"]
[null,"B47",-50,160,160,{"$f":"IF(OR(#REF!=\"\", E110=\"\"),\"\",E110^3*L110+E110^2*M110+E110*N110+O110+(J110-#REF!)*K110)","v":{"$error":"#REF!"}},40.670194062098972,null,null,25,0.09,2.6904318197461721E-7,-3.5905495356519798E-4,0.24349999999999999,12.05,1,50,"Flow = P3*a+P2*b+P*c+d+(g-|PrA|)*f"]
[null,"B29",-50,160,160,{"$f":"IF(OR(#REF!=\"\", E111=\"\"),\"\",E111^3*L111+E111^2*M111+E111*N111+O111+(J111-#REF!)*K111)","v":{"$error":"#REF!"}},16.260255999999998,null,null,25,-0.02,1.11E-7,-1.4899999999999999E-4,9.1999999999999998E-2,4.4000000000000004,0.6,50,"Flow = P3*a+P2*b+P*c+d+(g-|PrA|)*f"]

{"sheet":"build 70B1","index":2,"n_rows":117,"n_cols":36,"rows_kept":117,"cut":false,"hidden":true,"merged":[[108,0,116,0],[85,0,95,0],[96,19,96,21],[96,22,96,24],[96,25,96,27],[96,28,96,30],[98,0,106,0],[74,23,74,24],[74,25,74,26],[76,0,79,0],[82,6,83,14],[83,2,83,3],[83,15,83,17],[83,18,83,20],[83,21,83,23],[83,24,83,26],[74,21,74,22],[49,0,58,0],[60,0,70,0],[73,6,74,14],[74,2,74,3],[74,19,74,20],[13,21,13,23],[13,24,13,26],[15,0,17,0],[19,0,26,0],[28,0,36,0],[13,15,13,17],[13,18,13,20],[38,0,47,0],[3,3,3,4],[3,6,3,9],[12,6,13,14],[13,2,13,3],[2,3,2,4],[2,6,2,9],[0,0,1,1],[0,3,0,4],[0,6,0,9],[1,3,1,4],[1,6,1,9]]}
["Published Flow Equation Parameters:",null,"\"Round\"","Date released",null,null,"Version released"]
[null,null,"B1","2015-11-??",null,null,"2.4.??B1",null,null,null,"\"Round B1\" changes, from Round B, are highlighted in yellow"]
[null,null,"B","2015-06-23",null,null,"2.3.62"]
[null,null,"A","2014"]
[]
[null,null,"Hide detailed specs:",null,"Yes"]
[]
[]
[]
[null,null,"For sample flow calculations: enter pressure data into Columns C & D"]
[null,null,"identifies the same Range but depending on PrA sign (or if 'set to 0 Pa' is implemented), different flow equation parameters are used"]
[]
[null,null,null,null,null,null,"Flow = (P-|PrA|)*K1)N*(K+P*K3)                \n                                                                                                                                                                                                                                                                                                                                                                                                                                                                                                                                                              Since K1 and K3 are 0 for 300 & 340 & 350 & 450 systems, this equation can be simplified to:  Flow = PN*K , i.e. no backpressure compensation because PrA becomes irrelevant\n\nCondition that must be true, or else “---“ is displayed for flow result:  \n                                                                                                                                                                                                                                         PrB>=MF, PrB>=|PrA|*K2, PrB>0     "]
[null,null,"Enter Pressures appearing on gauge",null,"Fan Pressure used in flow equations",null,null,null,null,null,null,null,null,null,null,"min Fan Pressure, Pa",null,null,"max Fan Pressure, Pa",null,null,"min Flow, CFM",null,null,"max Flow, CFM",null,null,"Master plug S/N"]
["Device","Range","PrA,           Pa","PrB,          Pa ","P,                  Pa","CFM calculation","CFM displayed on DM32","build 68 reading","Error","N","K","K1","K2","K3","MF",0,25,50,0,50,"25 Pa on 10\" flex",0,25,250,0,50,"25 Pa on 10\" flex"]
[240,"Open",-56.6,165,{"$f":"IF(OR(C16=\"\",D16=\"\", D16<0),\"---\",        IF(AND(D16>=O16,D16>=ABS(C16)*M16),D16,\"---\"))","v":165},{"$f":"IF(OR(#REF!=\"\", E16=\"\"),\"\",(E16-#REF!*L16)^J16*(K16+E16*N16))","v":{"$error":"#REF!"}},{"$f":"IF(E16=\"---\",\"---\", (E16-ABS(C16)*L16)^J16*(K16+E16*N16))","v":419.25182944513028},420.3,{"$f":"(H16-G16)/H16","v":2.4938628476557879E-3},0.51149999999999995,30.7774,0,0.2,0,10,{"$f":"IF($M16*P$15>$O16, $M16*P$15, $O16)","v":10},{"$f":"IF($M16*Q$15>$O16, $M16*Q$15, $O16)","v":10},{"$f":"IF($M16*R$15>$O16, $M16*R$15, $O16)","v":10},null,null,null,{"$f":"(P$16-ABS(V$15)*$L16)^$J16*($K16+P$16*$N16)","v":99.938293394953206},{"$f":"(Q$16-ABS(W$15)*$L16)^$J16*($K16+Q$16*$N16)","v":99.938293394953206},{"$f":"(R$16-ABS(X$15)*$L16)^$J16*($K16+R$16*$N16)","v":99.938293394953206}]
[null,"Mid",50.9,41.5,{"$f":"IF(OR(C17=\"\",D17=\"\", D17<0),\"---\",        IF(AND(D17>=O17,D17>=ABS(C17)*M17),D17,\"---\"))","v":41.5},{"$f":"IF(OR(#REF!=\"\", E17=\"\"),\"\",(E17-#REF!*L17)^J17*(K17+E17*N17))","v":{"$error":"#REF!"}},{"$f":"IF(E17=\"---\",\"---\", (E17-ABS(C17)*L17)^J17*(K17+E17*N17))","v":44.473204480756834},44.53,{"$f":"(H17-G17)/H17","v":1.2754439533610338E-3},0.54149999999999998,5.9146000000000001,0,0.5,0,25,{"$f":"IF($M17*P$15>$O17, $M17*P$15, $O17)","v":25},25,25,null,null,null,{"$f":"(P$17-ABS(V$15)*$L17)^$J17*($K17+P$17*$N17)","v":33.79947026141047},{"$f":"(Q$17-ABS(W$15)*$L17)^$J17*($K17+Q$17*$N17)","v":33.79947026141047},{"$f":"(R$17-ABS(X$15)*$L17)^$J17*($K17+R$17*$N17)","v":33.79947026141047}]
[null,"Low",50.9,41.5,{"$f":"IF(OR(C18=\"\",D18=\"\", D18<0),\"---\",        IF(AND(D18>=O18,D18>=ABS(C18)*M18),D18,\"---\"))","v":41.5},{"$f":"IF(OR(#REF!=\"\", E18=\"\"),\"\",(E18-#REF!*L18)^J18*(K18+E18*N18))","v":{"$error":"#REF!"}},{"$f":"IF(E18=\"---\",\"---\", (E18-ABS(C18)*L18)^J18*(K18+E18*N18))","v":9.9448312595385442},9.9610000000000003,{"$f":"(H18-G18)/H18","v":1.6232045438666911E-3},0.61250000000000004,1.0056,-2.4E-2,0.5,-2.0000000000000001E-4,25,25,25,25,null,null,null,{"$f":"(P$18-ABS(V$15)*$L18)^$J18*($K18+P$18*$N18)","v":7.1861909641091444},{"$f":"(Q$18-ABS(W$15)*$L18)^$J18*($K18+Q$18*$N18)","v":7.2913421347940437},{"$f":"(R$18-ABS(X$15)*$L18)^$J18*($K18+R$18*$N18)","v":8.1982193874571863}]
[]
[300,"Open",-56.6,165,{"$f":"IF(OR(C20=\"\",D20=\"\", D20<0),\"---\",        IF(AND(D20>=O20,D20>=ABS(C20)*M20),D20,\"---\"))","v":165},{"$f":"IF(OR(#REF!=\"\", E20=\"\"),\"\",(E20-#REF!*L20)^J20*(K20+E20*N20))","v":{"$error":"#REF!"}},{"$f":"IF(E20=\"---\",\"---\", (E20-ABS(C20)*L20)^J20*(K20+E20*N20))","v":373.25664466801567},373.2,{"$f":"(H20-G20)/H20","v":-1.517809968265774E-4},0.501,28.91,0,0.4,0,20,{"$f":"IF($M20*P$15>$O20, $M20*P$15, $O20)","v":20},{"$f":"IF($M20*Q$15>$O20, $M20*Q$15, $O20)","v":20},{"$f":"IF($M20*R$15>$O20, $M20*R$15, $O20)","v":20},740,705,272,{"$f":"P20^$J20*$K20","v":129.67734776655371},129.67734776655371,{"$f":"R20^$J20*$K20","v":129.67734776655371},791.64994012443913,772.66428686133622,479.47626386019863]
[null,102,53,435.5,{"$f":"IF(OR(C21=\"\",D21=\"\", D21<0),\"---\",        IF(AND(D21>=O21,D21>=ABS(C21)*M21),D21,\"---\"))","v":435.5},{"$f":"IF(OR(#REF!=\"\", E21=\"\"),\"\",(E21-#REF!*L21)^J21*(K21+E21*N21))","v":{"$error":"#REF!"}},{"$f":"IF(E21=\"---\",\"---\", (E21-ABS(C21)*L21)^J21*(K21+E21*N21))","v":385.82182563539175},385.9,{"$f":"(H21-G21)/H21","v":2.0257674166424065E-4},0.59,10.7,0,0.4,0,100,{"$f":"IF($M21*P$15>$O21, $M21*P$15, $O21)","v":100},100,100,760,740,695,161.95105358267432,161.95105358267432,161.95105358267432,535.87537092484104,527.50975144172617,508.34061779084954]
[null,74,53,435.5,435.5,{"$f":"IF(OR(#REF!=\"\", E22=\"\"),\"\",(E22-#REF!*L22)^J22*(K22+E22*N22))","v":{"$error":"#REF!"}},151.78830470578302,151.80000000000001,7.7044098926163827E-5,0.50449999999999995,7.0773192087114243,0,0.25,0,15,15,15,15,760,500,330,27.746411586175977,27.746411586175977,27.746411586175977,201.01998736756497,162.74181351150361,131.96509256397226,1026580]
[null,47,53,435.5,435.5,{"$f":"IF(OR(#REF!=\"\", E23=\"\"),\"\",(E23-#REF!*L23)^J23*(K23+E23*N23))","v":{"$error":"#REF!"}},67.63391491945508,67.650000000000006,2.3776911374613074E-4,0.5,3.2409359420275905,0,0.1,0,10,10,10,10,730,650,415,10.248739327510611,{"$f":"Q23^$J23*$K23","v":10.248739327510611},10.248739327510611,87.565267199033741,82.627978053514497,66.02288466005858,1000962]
[null,29,53,435.5,435.5,{"$f":"IF(OR(#REF!=\"\", E24=\"\"),\"\",(E24-#REF!*L24)^J24*(K24+E24*N24))","v":{"$error":"#REF!"}},25.142601525054424,25.14,-1.0348150574476326E-4,0.502,1.1902499077349771,0,0.2,0,20,20,20,20,730,690,425.73199093128164,5.3549474623502169,5.3549474623502169,5.3549474623502169,32.58563827896009,31.676734170059309,24.857907747098437,1000986]
[null,18,53,435.5,435.5,{"$f":"IF(OR(#REF!=\"\", E25=\"\"),\"\",(E25-#REF!*L25)^J25*(K25+E25*N25))","v":{"$error":"#REF!"}},9.4791913809622681,9.4809999999999999,1.9076247629277223E-4,0.499,0.45700000000000002,0,0.25,0,25,25,25,25,730,690,472.30751104175147,2.2776566936762075,2.2776566936762075,2.2776566936762075,12.266320480978111,11.926194734198138,9.8708465677731372,1000405]
[null,11,53,435.5,435.5,{"$f":"IF(OR(#REF!=\"\", E26=\"\"),\"\",(E26-#REF!*L26)^J26*(K26+E26*N26))","v":{"$error":"#REF!"}},3.8439493050148141,3.8450000000000002,2.732626749508615E-4,0.48,0.20799999999999999,0,0.25,0,25,25,25,25,730,690,478.75696062461873,0.97515699216209595,0.97515699216209595,0.97515699216209595,4.9255905551350345,4.7941420557592593,4.0227086887717949,1000481]
[null,7,53,435.5,435.5,{"$f":"IF(OR(#REF!=\"\", E27=\"\"),\"\",(E27-#REF!*L27)^J27*(K27+E27*N27))","v":{"$error":"#REF!"}},1.4983681189881211,1.4990000000000001,4.2153503127355174E-4,0.5,7.1800000000000003E-2,0,0.11,0,25,25,25,25,730,690,479.80761949161706,0.35899999999999999,0.35899999999999999,0.35899999999999999,1.9399291739648641,1.886031707050547,1.5727439182231684,1003185]
[null,null,null,null,null,null,null,null,null,null,null,null,null,null,null,null,null,null,null,null,null,null,null,null,null,null,null,null,null,null,null,null,null,"high","low","delta"]
[340,"Open",53,435.5,{"$f":"IF(OR(C29=\"\",D29=\"\", D29<0),\"---\",        IF(AND(C29>0, D29>=O29,D29>=ABS(C29)*M29),D29,\"---\"))","v":435.5},{"$f":"IF(OR(#REF!=\"\", E29=\"\"),\"\",(E29-#REF!*L29)^J29*(K29+E29*N29))","v":{"$error":"#REF!"}},{"$f":"IF(E29=\"---\",\"---\", (E29-ABS(C29)*L29)^J29*(K29+E29*N29))","v":606.98947344345243},607.1,{"$f":"(H29-G29)/H29","v":1.8205659124954283E-4},0.501,28.91,0,0.4,0,20,{"$f":"IF($M29*P$15>$O29, $M29*P$15, $O29)","v":20},{"$f":"IF($M29*Q$15>$O29, $M29*Q$15, $O29)","v":20},{"$f":"IF($M29*R$15>$O29, $M29*R$15, $O29)","v":20},740,705,272,129.67734776655371,129.67734776655371,129.67734776655371,791.64994012443913,772.66428686133622,479.47626386019863,null,null,null,null,null,null,{"$f":"IF('Flow charts'!$A$7=$P$15,Y29, IF('Flow charts'!$A$7=$Q$15,Z29, IF('Flow charts'!$A$7=$R$15,AA29,\"SELECT BP\")))","v":479.47626386019863},{"$f":"IF('Flow charts'!$A$7=$P$15,V29, IF('Flow charts'!$A$7=$Q$15,W29, IF('Flow charts'!$A$7=$R$15,X29,\"SELECT BP\")))","v":129.67734776655371},{"$f":"AH29-AI29","v":349.79891609364495}]
[null,"Open*",-56.6,165,{"$f":"IF(OR(C30=\"\",D30=\"\", D30<0),\"---\",        IF(AND(C30<0, D30>=O30,D30>=ABS(C30)*M30),D30,\"---\"))","v":165},{"$f":"IF(OR(#REF!=\"\", E30=\"\"),\"\",(E30-#REF!*L30)^J30*(K30+E30*N30))","v":{"$error":"#REF!"}},384.45434400805613,384.4,{"$f":"(H30-G30)/H30","v":-1.4137359015647279E-4},0.501,29.7773,0,0.4,0,20,{"$f":"IF($M30*P$15>$O30, $M30*P$15, $O30)","v":20},20,{"$f":"IF($M30*R$15>$O30, $M30*R$15, $O30)","v":20},700,665,640,133.56766819955033,133.56766819955033,133.56766819955033,793.01140698395716,772.89226448881334,758.19599030081952,null,null,null,null,null,null,{"$f":"IF('Flow charts'!$A$7=$P$15,Y30, IF('Flow charts'!$A$7=$Q$15,Z30, IF('Flow charts'!$A$7=$R$15,AA30,\"SELECT BP\")))","v":758.19599030081952},{"$f":"IF('Flow charts'!$A$7=$P$15,V30, IF('Flow charts'!$A$7=$Q$15,W30, IF('Flow charts'!$A$7=$R$15,X30,\"SELECT BP\")))","v":133.56766819955033},{"$f":"AH30-AI30","v":624.62832210126919}]
[null,102,53,435.5,{"$f":"IF(OR(C31=\"\",D31=\"\", D31<0),\"---\",        IF(AND(D31>=O31,D31>=ABS(C31)*M31),D31,\"---\"))","v":435.5},{"$f":"IF(OR(#REF!=\"\", E31=\"\"),\"\",(E31-#REF!*L31)^J31*(K31+E31*N31))","v":{"$error":"#REF!"}},385.82182563539175,385.9,2.0257674166424065E-4,0.59,10.7,0,0.4,0,100,100,100,100,760,740,695,161.95105358267432,161.95105358267432,161.95105358267432,535.87537092484104,527.50975144172617,508.34061779084954]
[null,74,53,435.5,435.5,{"$f":"IF(OR(#REF!=\"\", E32=\"\"),\"\",(E32-#REF!*L32)^J32*(K32+E32*N32))","v":{"$error":"#REF!"}},151.78830470578302,151.80000000000001,7.7044098926163827E-5,0.50449999999999995,7.0773192087114243,0,0.25,0,15,15,15,15,760,500,330,27.746411586175977,27.746411586175977,27.746411586175977,201.01998736756497,162.74181351150361,131.96509256397226]
[null,47,-56.6,165,165,{"$f":"IF(OR(#REF!=\"\", E33=\"\"),\"\",(E33-#REF!*L33)^J33*(K33+E33*N33))","v":{"$error":"#REF!"}},41.630575947899565,41.63,-1.3834924322912183E-5,0.5,3.2409359420275905,0,0.1,0,10,10,10,10,730,650,415,10.248739327510611,10.248739327510611,10.248739327510611,87.565267199033741,82.627978053514497,66.02288466005858]
[null,29,53,435.5,435.5,{"$f":"IF(OR(#REF!=\"\", E34=\"\"),\"\",(E34-#REF!*L34)^J34*(K34+E34*N34))","v":{"$error":"#REF!"}},25.142601525054424,25.14,-1.0348150574476326E-4,0.502,1.1902499077349771,0,0.2,0,20,20,20,20,730,690,425.73199093128164,5.3549474623502169,5.3549474623502169,5.3549474623502169,32.58563827896009,31.676734170059309,24.857907747098437]
[null,18,53,435.5,435.5,{"$f":"IF(OR(#REF!=\"\", E35=\"\"),\"\",(E35-#REF!*L35)^J35*(K35+E35*N35))","v":{"$error":"#REF!"}},9.4791913809622681,9.4809999999999999,1.9076247629277223E-4,0.499,0.45700000000000002,0,0.25,0,25,25,25,25,730,690,472.30751104175147,2.2776566936762075,2.2776566936762075,2.2776566936762075,12.266320480978111,11.926194734198138,9.8708465677731372]
[null,11,53,435.5,435.5,{"$f":"IF(OR(#REF!=\"\", E36=\"\"),\"\",(E36-#REF!*L36)^J36*(K36+E36*N36))","v":{"$error":"#REF!"}},3.8439493050148141,3.8450000000000002,2.732626749508615E-4,0.48,0.20799999999999999,0,0.25,0,25,25,25,25,730,690,478.75696062461873,{"$f":"P36^$J36*$K36","v":0.97515699216209595},0.97515699216209595,0.97515699216209595,4.9255905551350345,4.7941420557592593,4.0227086887717949]
[null,7,53,435.5,435.5,{"$f":"IF(OR(#REF!=\"\", E37=\"\"),\"\",(E37-#REF!*L37)^J37*(K37+E37*N37))","v":{"$error":"#REF!"}},1.4983681189881211,1.4990000000000001,4.2153503127355174E-4,0.5,7.1800000000000003E-2,0,0.11,0,25,25,25,25,730,690,479.80761949161706,0.35899999999999999,0.35899999999999999,0.35899999999999999,1.9399291739648641,1.886031707050547,1.5727439182231684]
[]
[350,102,53,435.5,{"$f":"IF(OR(C39=\"\",D39=\"\", D39<0),\"---\",        IF(AND(D39>=O39,D39>=ABS(C39)*M39),D39,\"---\"))","v":435.5},{"$f":"IF(OR(#REF!=\"\", E39=\"\"),\"\",(E39-#REF!*L39)^J39*(K39+E39*N39))","v":{"$error":"#REF!"}},{"$f":"IF(E39=\"---\",\"---\", (E39-ABS(C39)*L39)^J39*(K39+E39*N39))","v":385.82182563539175},385.9,{"$f":"(H39-G39)/H39","v":2.0257674166424065E-4},0.59,10.7,0,0.4,0,100,{"$f":"IF($M39*P$15>$O39, $M39*P$15, $O39)","v":100},{"$f":"IF($M39*Q$15>$O39, $M39*Q$15, $O39)","v":100},{"$f":"IF($M39*R$15>$O39, $M39*R$15, $O39)","v":100},760,740,695,161.95105358267432,161.95105358267432,161.95105358267432,535.87537092484104,527.50975144172617,508.34061779084954,null,null,null,null,null,null,{"$f":"IF('Flow charts'!$A$7=$P$15,Y39, IF('Flow charts'!$A$7=$Q$15,Z39, IF('Flow charts'!$A$7=$R$15,AA39,\"SELECT BP\")))","v":508.34061779084954},{"$f":"IF('Flow charts'!$A$7=$P$15,V39, IF('Flow charts'!$A$7=$Q$15,W39, IF('Flow charts'!$A$7=$R$15,X39,\"SELECT BP\")))","v":161.95105358267432},{"$f":"AH39-AI39","v":346.38956420817522}]
[null,74,53,435.5,435.5,{"$f":"IF(OR(#REF!=\"\", E40=\"\"),\"\",(E40-#REF!*L40)^J40*(K40+E40*N40))","v":{"$error":"#REF!"}},151.78830470578302,151.80000000000001,{"$f":"(H40-G40)/H40","v":7.7044098926163827E-5},0.50449999999999995,7.0773192087114243,0,0.25,0,15,{"$f":"IF($M40*P$15>$O40, $M40*P$15, $O40)","v":15},15,{"$f":"IF($M40*R$15>$O40, $M40*R$15, $O40)","v":15},760,500,330,27.746411586175977,27.746411586175977,27.746411586175977,201.01998736756497,162.74181351150361,131.96509256397226,null,null,null,null,null,null,{"$f":"IF('Flow charts'!$A$7=$P$15,Y40, IF('Flow charts'!$A$7=$Q$15,Z40, IF('Flow charts'!$A$7=$R$15,AA40,\"SELECT BP\")))","v":131.96509256397226},{"$f":"IF('Flow charts'!$A$7=$P$15,V40, IF('Flow charts'!$A$7=$Q$15,W40, IF('Flow charts'!$A$7=$R$15,X40,\"SELECT BP\")))","v":27.746411586175977},{"$f":"AH40-AI40","v":104.21868097779628}]
[null,47,53,435.5,435.5,{"$f":"IF(OR(#REF!=\"\", E41=\"\"),\"\",(E41-#REF!*L41)^J41*(K41+E41*N41))","v":{"$error":"#REF!"}},67.63391491945508,67.650000000000006,2.3776911374613074E-4,0.5,3.2409359420275905,0,0.1,0,10,10,10,10,730,650,415,10.248739327510611,10.248739327510611,10.248739327510611,87.565267199033741,82.627978053514497,66.02288466005858,null,null,null,null,null,null,{"$f":"IF('Flow charts'!$A$7=$P$15,Y41, IF('Flow charts'!$A$7=$Q$15,Z41, IF('Flow charts'!$A$7=$R$15,AA41,\"SELECT BP\")))","v":66.02288466005858},{"$f":"IF('Flow charts'!$A$7=$P$15,V41, IF('Flow charts'!$A$7=$Q$15,W41, IF('Flow charts'!$A$7=$R$15,X41,\"SELECT BP\")))","v":10.248739327510611},55.774145332547967]
[null,29,53,435.5,435.5,{"$f":"IF(OR(#REF!=\"\", E42=\"\"),\"\",(E42-#REF!*L42)^J42*(K42+E42*N42))","v":{"$error":"#REF!"}},25.142601525054424,25.14,-1.0348150574476326E-4,0.502,1.1902499077349771,0,0.2,0,20,20,20,20,730,690,425.73199093128164,5.3549474623502169,5.3549474623502169,5.3549474623502169,32.58563827896009,31.676734170059309,24.857907747098437,null,null,null,null,null,null,{"$f":"IF('Flow charts'!$A$7=$P$15,Y42, IF('Flow charts'!$A$7=$Q$15,Z42, IF('Flow charts'!$A$7=$R$15,AA42,\"SELECT BP\")))","v":24.857907747098437},{"$f":"IF('Flow charts'!$A$7=$P$15,V42, IF('Flow charts'!$A$7=$Q$15,W42, IF('Flow charts'!$A$7=$R$15,X42,\"SELECT BP\")))","v":5.3549474623502169},19.50296028474822]
[null,18,53,435.5,435.5,{"$f":"IF(OR(#REF!=\"\", E43=\"\"),\"\",(E43-#REF!*L43)^J43*(K43+E43*N43))","v":{"$error":"#REF!"}},9.4791913809622681,9.4809999999999999,1.9076247629277223E-4,0.499,0.45700000000000002,0,0.25,0,25,25,25,25,730,690,472.30751104175147,2.2776566936762075,2.2776566936762075,2.2776566936762075,12.266320480978111,11.926194734198138,9.8708465677731372,null,null,null,null,null,null,{"$f":"IF('Flow charts'!$A$7=$P$15,Y43, IF('Flow charts'!$A$7=$Q$15,Z43, IF('Flow charts'!$A$7=$R$15,AA43,\"SELECT BP\")))","v":9.8708465677731372},{"$f":"IF('Flow charts'!$A$7=$P$15,V43, IF('Flow charts'!$A$7=$Q$15,W43, IF('Flow charts'!$A$7=$R$15,X43,\"SELECT BP\")))","v":2.2776566936762075},7.5931898740969297]
[null,11,53,435.5,435.5,{"$f":"IF(OR(#REF!=\"\", E44=\"\"),\"\",(E44-#REF!*L44)^J44*(K44+E44*N44))","v":{"$error":"#REF!"}},3.8439493050148141,3.8450000000000002,2.732626749508615E-4,0.48,0.20799999999999999,0,0.25,0,25,25,25,25,730,690,478.75696062461873,0.97515699216209595,0.97515699216209595,0.97515699216209595,4.9255905551350345,4.7941420557592593,4.0227086887717949,null,null,null,null,null,null,{"$f":"IF('Flow charts'!$A$7=$P$15,Y44, IF('Flow charts'!$A$7=$Q$15,Z44, IF('Flow charts'!$A$7=$R$15,AA44,\"SELECT BP\")))","v":4.0227086887717949},{"$f":"IF('Flow charts'!$A$7=$P$15,V44, IF('Flow charts'!$A$7=$Q$15,W44, IF('Flow charts'!$A$7=$R$15,X44,\"SELECT BP\")))","v":0.97515699216209595},3.0475516966096992]
[null,7,53,435.5,435.5,{"$f":"IF(OR(#REF!=\"\", E45=\"\"),\"\",(E45-#REF!*L45)^J45*(K45+E45*N45))","v":{"$error":"#REF!"}},1.4983681189881211,1.4990000000000001,4.2153503127355174E-4,0.5,7.1800000000000003E-2,0,0.11,0,25,25,25,25,730,690,479.80761949161706,0.35899999999999999,0.35899999999999999,0.35899999999999999,1.9399291739648641,1.886031707050547,1.5727439182231684,null,null,null,null,null,null,{"$f":"IF('Flow charts'!$A$7=$P$15,Y45, IF('Flow charts'!$A$7=$Q$15,Z45, IF('Flow charts'!$A$7=$R$15,AA45,\"SELECT BP\")))","v":1.5727439182231684},{"$f":"IF('Flow charts'!$A$7=$P$15,V45, IF('Flow charts'!$A$7=$Q$15,W45, IF('Flow charts'!$A$7=$R$15,X45,\"SELECT BP\")))","v":0.35899999999999999},{"$f":"AH45-AI45","v":1.2137439182231684}]
[null,3,53,435.5,435.5,{"$f":"IF(OR(#REF!=\"\", E46=\"\"),\"\",(E46-#REF!*L46)^J46*(K46+E46*N46))","v":{"$error":"#REF!"}},0.41149352747476919,0.41160000000000002,2.5867960454525608E-4,0.48499999999999999,2.1600000000000001E-2,0,0.3,0,25,25,25,25,726,676,494,0.10290930740806853,0.10290930740806853,0.10290930740806853,0.52723958824463835,0.50930495178519897,0.43743277660884183,1000726,null,null,null,null,null,{"$f":"IF('Flow charts'!$A$7=$P$15,Y46, IF('Flow charts'!$A$7=$Q$15,Z46, IF('Flow charts'!$A$7=$R$15,AA46,\"SELECT BP\")))","v":0.43743277660884183},{"$f":"IF('Flow charts'!$A$7=$P$15,V46, IF('Flow charts'!$A$7=$Q$15,W46, IF('Flow charts'!$A$7=$R$15,X46,\"SELECT BP\")))","v":0.10290930740806853},0.3345234692007733]
[null,2,53,435.5,435.5,{"$f":"IF(OR(#REF!=\"\", E47=\"\"),\"\",(E47-#REF!*L47)^J47*(K47+E47*N47))","v":{"$error":"#REF!"}},0.16277101854187226,0.1628,1.780187845684364E-4,0.53,6.4999999999999997E-3,0,0.3,0,25,25,25,25,727,685,502,3.5794933608697899E-2,3.5794933608697899E-2,3.5794933608697899E-2,0.21356328593682727,0.20693281206471659,0.17550372018879548,1006308,null,null,null,null,null,{"$f":"IF('Flow charts'!$A$7=$P$15,Y47, IF('Flow charts'!$A$7=$Q$15,Z47, IF('Flow charts'!$A$7=$R$15,AA47,\"SELECT BP\")))","v":0.17550372018879548},{"$f":"IF('Flow charts'!$A$7=$P$15,V47, IF('Flow charts'!$A$7=$Q$15,W47, IF('Flow charts'!$A$7=$R$15,X47,\"SELECT BP\")))","v":3.5794933608697899E-2},0.13970878658009758]
[null,1,53,435.5,435.5,{"$f":"IF(OR(#REF!=\"\", E48=\"\"),\"\",(E48-#REF!*L48)^J48*(K48+E48*N48))","v":{"$error":"#REF!"}},7.4954252995866888E-2,7.5079999999999994E-2,1.6748402255341774E-3,0.59279999999999999,2.0436386114547761E-3,0,0.3,0,40,40,40,40,727,685,502,1.8201419627220106E-2,1.8201419627220106E-2,1.8201419627220106E-2,0.10155976754801681,9.8039586350464961E-2,8.1541981910848202E-2,1006322,null,null,null,null,null,{"$f":"IF('Flow charts'!$A$7=$P$15,Y48, IF('Flow charts'!$A$7=$Q$15,Z48, IF('Flow charts'!$A$7=$R$15,AA48,\"SELECT BP\")))","v":8.1541981910848202E-2},{"$f":"IF('Flow charts'!$A$7=$P$15,V48, IF('Flow charts'!$A$7=$Q$15,W48, IF('Flow charts'!$A$7=$R$15,X48,\"SELECT BP\")))","v":1.8201419627220106E-2},6.3340562283628096E-2]
[null,null,null,null,null,null,null,null,null,null,null,null,null,null,null,250,1000,4980,{"$f":"P49","v":250},{"$f":"Q49","v":1000},{"$f":"R49","v":4980},{"$f":"P49","v":250},{"$f":"Q49","v":1000},{"$f":"R49","v":4980},{"$f":"P49","v":250},{"$f":"Q49","v":1000},{"$f":"R49","v":4980}]
[450,74,53,435.5,{"$f":"IF(OR(C50=\"\",D50=\"\", D50<0),\"---\",        IF(AND(C50>0, D50>=O50,D50>=ABS(C50)*M50),D50,\"---\"))","v":435.5},{"$f":"IF(OR(#REF!=\"\", E50=\"\"),\"\",(E50-#REF!*L50)^J50*(K50+E50*N50))","v":{"$error":"#REF!"}},{"$f":"IF(E50=\"---\",\"---\", (E50-ABS(C50)*L50)^J50*(K50+E50*N50))","v":151.82649759814191},151.9,{"$f":"(H50-G50)/H50","v":4.8388677984261344E-4},0.50449999999999995,7.0791000000000004,0,0.15,0,250,{"$f":"IF($M50*P$49>$O50, $M50*P$49, $O50)","v":250},{"$f":"IF($M50*Q$49>$O50, $M50*Q$49, $O50)","v":250},{"$f":"IF($M50*R$49>$O50, $M50*R$49, $O50)","v":747},1520,1480,1480,114.74632405435122,114.74632405435122,199.3279915901669,285.24506362646304,281.43304050307285,281.43304050307285,null,null,null,null,null,null,{"$f":"IF('Flow charts'!$A$106=$P$49,Y50, IF('Flow charts'!$A$106=$Q$49,Z50, IF('Flow charts'!$A$106=$R$49,AA50,\"SELECT BP\")))","v":281.43304050307285},{"$f":"IF('Flow charts'!$A$106=$P$49,V50, IF('Flow charts'!$A$106=$Q$49,W50, IF('Flow charts'!$A$106=$R$49,X50,\"SELECT BP\")))","v":199.3279915901669},{"$f":"AH50-AI50","v":82.105048912905943}]
[null,"74*",-50.2,515.5,{"$f":"IF(OR(C51=\"\",D51=\"\", D51<0),\"---\",        IF(AND(C51<0, D51>=O51,D51>=ABS(C51)*M51),D51,\"---\"))","v":515.5},{"$f":"IF(OR(#REF!=\"\", E51=\"\"),\"\",(E51-#REF!*L51)^J51*(K51+E51*N51))","v":{"$error":"#REF!"}},162.8317269933884,162.80000000000001,{"$f":"(H51-G51)/H51","v":-1.9488325177143269E-4},0.50449999999999995,6.9729999999999999,0,0.15,0,250,{"$f":"IF($M51*P$49>$O51, $M51*P$49, $O51)","v":250},250,747,1520,1480,1480,113.02653128660296,113.02653128660296,196.34050731847745,280.96987310072279,277.21498374481598,277.21498374481598,null,null,null,null,null,null,{"$f":"IF('Flow charts'!$A$106=$P$49,Y51, IF('Flow charts'!$A$106=$Q$49,Z51, IF('Flow charts'!$A$106=$R$49,AA51,\"SELECT BP\")))","v":277.21498374481598},{"$f":"IF('Flow charts'!$A$106=$P$49,V51, IF('Flow charts'!$A$106=$Q$49,W51, IF('Flow charts'!$A$106=$R$49,X51,\"SELECT BP\")))","v":196.34050731847745},{"$f":"AH51-AI51","v":80.874476426338532}]
[null,47,-56.6,435.5,{"$f":"IF(OR(C52=\"\",D52=\"\", D52<0),\"---\",        IF(AND(D52>=O52,D52>=ABS(C52)*M52),D52,\"---\"))","v":435.5},{"$f":"IF(OR(#REF!=\"\", E52=\"\"),\"\",(E52-#REF!*L52)^J52*(K52+E52*N52))","v":{"$error":"#REF!"}},65.011106766880516,65.02,{"$f":"(H52-G52)/H52","v":1.3677688587326607E-4},0.48799999999999999,3.3508990000000001,0,0.12,0,250,250,250,597.6,4985,1280,4985,49.585655881148448,49.585655881148448,75.866439959479706,213.61017571222803,110.02206782012229,213.61017571222803,null,null,null,null,null,null,{"$f":"IF('Flow charts'!$A$106=$P$49,Y52, IF('Flow charts'!$A$106=$Q$49,Z52, IF('Flow charts'!$A$106=$R$49,AA52,\"SELECT BP\")))","v":213.61017571222803},{"$f":"IF('Flow charts'!$A$106=$P$49,V52, IF('Flow charts'!$A$106=$Q$49,W52, IF('Flow charts'!$A$106=$R$49,X52,\"SELECT BP\")))","v":75.866439959479706},137.74373575274831]
[null,29,-50.2,515.5,515.5,{"$f":"IF(OR(#REF!=\"\", E53=\"\"),\"\",(E53-#REF!*L53)^J53*(K53+E53*N53))","v":{"$error":"#REF!"}},25.539220179928034,25.55,4.2191076602610936E-4,0.49890000000000001,1.1326004999999999,0,0.15,0,250,250,250,747,4985,1355,4985,17.799549857629788,17.799549857629788,30.730979100438645,79.221287938583558,41.361974582205249,79.221287938583558,null,null,null,null,null,null,{"$f":"IF('Flow charts'!$A$106=$P$49,Y53, IF('Flow charts'!$A$106=$Q$49,Z53, IF('Flow charts'!$A$106=$R$49,AA53,\"SELECT BP\")))","v":79.221287938583558},{"$f":"IF('Flow charts'!$A$106=$P$49,V53, IF('Flow charts'!$A$106=$Q$49,W53, IF('Flow charts'!$A$106=$R$49,X53,\"SELECT BP\")))","v":30.730979100438645},48.490308838144912]
[null,18,53,435.5,435.5,{"$f":"IF(OR(#REF!=\"\", E54=\"\"),\"\",(E54-#REF!*L54)^J54*(K54+E54*N54))","v":{"$error":"#REF!"}},8.9520496575920383,8.9540000000000006,2.1781800401634178E-4,0.49930000000000002,0.43080000000000002,0,0.15,0,250,250,250,747,4985,4985,4985,6.7852701114897176,6.7852701114897176,11.719920645180547,30.235691835969899,30.235691835969899,30.235691835969899,null,null,null,null,null,null,{"$f":"IF('Flow charts'!$A$106=$P$49,Y54, IF('Flow charts'!$A$106=$Q$49,Z54, IF('Flow charts'!$A$106=$R$49,AA54,\"SELECT BP\")))","v":30.235691835969899},{"$f":"IF('Flow charts'!$A$106=$P$49,V54, IF('Flow charts'!$A$106=$Q$49,W54, IF('Flow charts'!$A$106=$R$49,X54,\"SELECT BP\")))","v":11.719920645180547},18.515771190789351]
[null,11,53,435.5,435.5,{"$f":"IF(OR(#REF!=\"\", E55=\"\"),\"\",(E55-#REF!*L55)^J55*(K55+E55*N55))","v":{"$error":"#REF!"}},3.5552288956005014,3.556,2.1684600660817739E-4,0.50219999999999998,0.1681,0,0.14000000000000001,0,250,250,250,697.2,4985,4985,4985,2.6903772741228802,2.6903772741228802,4.5029983610251598,12.093030775859926,12.093030775859926,12.093030775859926,null,null,null,null,null,null,{"$f":"IF('Flow charts'!$A$106=$P$49,Y55, IF('Flow charts'!$A$106=$Q$49,Z55, IF('Flow charts'!$A$106=$R$49,AA55,\"SELECT BP\")))","v":12.093030775859926},{"$f":"IF('Flow charts'!$A$106=$P$49,V55, IF('Flow charts'!$A$106=$Q$49,W55, IF('Flow charts'!$A$106=$R$49,X55,\"SELECT BP\")))","v":4.5029983610251598},7.5900324148347664]
[null,7,53,435.5,435.5,{"$f":"IF(OR(#REF!=\"\", E56=\"\"),\"\",(E56-#REF!*L56)^J56*(K56+E56*N56))","v":{"$error":"#REF!"}},1.3953746034203245,1.3959999999999999,4.4799181925173287E-4,0.50090000000000001,6.6500000000000004E-2,0,0.08,0,250,250,250,398.40000000000003,4985,4985,4985,1.0566953483872743,1.0566953483872743,1.3345092782043442,4.7313178536524862,4.7313178536524862,4.7313178536524862,null,null,null,null,null,null,{"$f":"IF('Flow charts'!$A$106=$P$49,Y56, IF('Flow charts'!$A$106=$Q$49,Z56, IF('Flow charts'!$A$106=$R$49,AA56,\"SELECT BP\")))","v":4.7313178536524862},{"$f":"IF('Flow charts'!$A$106=$P$49,V56, IF('Flow charts'!$A$106=$Q$49,W56, IF('Flow charts'!$A$106=$R$49,X56,\"SELECT BP\")))","v":1.3345092782043442},3.3968085754481421]
[null,3,53,435.5,435.5,{"$f":"IF(OR(#REF!=\"\", E57=\"\"),\"\",(E57-#REF!*L57)^J57*(K57+E57*N57))","v":{"$error":"#REF!"}},0.39983289979332398,0.39989999999999998,1.677924648061922E-4,0.55400000000000005,1.38E-2,0,0.1,0,250,250,250,498,3500,3500,3750,0.29399358302615847,0.29399358302615847,0.43066952594122826,1.268506751262104,1.268506751262104,1.3179301966237609,null,null,null,null,null,null,{"$f":"IF('Flow charts'!$A$106=$P$49,Y57, IF('Flow charts'!$A$106=$Q$49,Z57, IF('Flow charts'!$A$106=$R$49,AA57,\"SELECT BP\")))","v":1.3179301966237609},{"$f":"IF('Flow charts'!$A$106=$P$49,V57, IF('Flow charts'!$A$106=$Q$49,W57, IF('Flow charts'!$A$106=$R$49,X57,\"SELECT BP\")))","v":0.43066952594122826},0.88726067068253256]
[null,2,53,435.5,435.5,{"$f":"IF(OR(#REF!=\"\", E58=\"\"),\"\",(E58-#REF!*L58)^J58*(K58+E58*N58))","v":{"$error":"#REF!"}},0.16277101854187226,0.1628,1.780187845684364E-4,0.53,6.4999999999999997E-3,0,0.12,0,350,350,350,597.6,3500,3500,3500,0.14496708965716193,0.14496708965716193,0.19249123935064485,0.49121251162837154,0.49121251162837154,0.49121251162837154,null,null,null,null,null,null,{"$f":"IF('Flow charts'!$A$106=$P$49,Y58, IF('Flow charts'!$A$106=$Q$49,Z58, IF('Flow charts'!$A$106=$R$49,AA58,\"SELECT BP\")))","v":0.49121251162837154},{"$f":"IF('Flow charts'!$A$106=$P$49,V58, IF('Flow charts'!$A$106=$Q$49,W58, IF('Flow charts'!$A$106=$R$49,X58,\"SELECT BP\")))","v":0.19249123935064485},0.29872127227772671]
[null,1,53,435.5,435.5,{"$f":"IF(OR(#REF!=\"\", E59=\"\"),\"\",(E59-#REF!*L59)^J59*(K59+E59*N59))","v":{"$error":"#REF!"}},6.1300432217880382E-2,6.1310000000000003E-2,1.5605581666320437E-4,0.56000000000000005,2.0400000000000001E-3,0,0.12,0,350,350,350,597.6,3500,3500,3500,5.4238575173765985E-2,5.4238575173765985E-2,7.3184666339999857E-2,0.19692836367592872,0.19692836367592872,0.19692836367592872,null,null,null,null,null,null,{"$f":"IF('Flow charts'!$A$106=$P$49,Y59, IF('Flow charts'!$A$106=$Q$49,Z59, IF('Flow charts'!$A$106=$R$49,AA59,\"SELECT BP\")))","v":0.19692836367592872},{"$f":"IF('Flow charts'!$A$106=$P$49,V59, IF('Flow charts'!$A$106=$Q$49,W59, IF('Flow charts'!$A$106=$R$49,X59,\"SELECT BP\")))","v":7.3184666339999857E-2},0.12374369733592887]
[null,null,null,null,null,null,null,null,null,null,null,null,null,null,null,0,50,75,0,50,75,0,50,75,0,50,75]
["3000SR","Open",53,435.5,{"$f":"IF(OR(C61=\"\",D61=\"\", D61<0),\"---\",        IF(AND(D61>=O61,D61>=ABS(C61)*M61),D61,\"---\"))","v":435.5},{"$f":"IF(OR(#REF!=\"\", E61=\"\"),\"\",(E61-#REF!*L61)^J61*(K61+E61*N61))","v":{"$error":"#REF!"}},{"$f":"IF(E61=\"---\",\"---\", (E61-ABS(C61)*L61)^J61*(K61+E61*N61))","v":11208.771251851287},11210,{"$f":"(H61-G61)/H61","v":1.0961178846680097E-4},0.52139999999999997,519.61829999999998,-7.0000000000000007E-2,0.8,-0.115,8.6,{"$f":"IF($M61*P$60>$O61, $M61*P$60, $O61)","v":8.6},{"$f":"IF($M61*Q$60>$O61, $M61*Q$60, $O61)","v":40},{"$f":"IF($M61*R$60>$O61, $M61*R$60, $O61)","v":60},null,null,null,{"$f":"($P61-ABS(V$60)*$L61)^$J61*($K61+$P61*$N61)","v":1592.5920413665599},{"$f":"($Q61-ABS(W$60)*$L61)^$J61*($K61+$Q61*$N61)","v":3682.3999802347703},{"$f":"($R61-ABS(X$60)*$L61)^$J61*($K61+$R61*$N61)","v":4528.9872666190677}]
[null,"A",-56.6,165,165,{"$f":"IF(OR(#REF!=\"\", E62=\"\"),\"\",(E62-#REF!*L62)^J62*(K62+E62*N62))","v":{"$error":"#REF!"}},3500.923538822678,3500,{"$f":"(H62-G62)/H62","v":-2.6386823505085237E-4},0.503,264.99590000000001,-7.4999999999999997E-2,1,0,12,{"$f":"IF($M62*P$60>$O62, $M62*P$60, $O62)","v":12},50,75,null,null,null,{"$f":"($P62-ABS(V$60)*$L62)^$J62*($K62+$P62*$N62)","v":924.84152546369035},{"$f":"($Q62-ABS(W$60)*$L62)^$J62*($K62+$Q62*$N62)","v":1966.1630234802801},{"$f":"($R62-ABS(X$60)*$L62)^$J62*($K62+$R62*$N62)","v":2410.9789999693917}]
[null,"B",53,435.5,435.5,{"$f":"IF(OR(#REF!=\"\", E63=\"\"),\"\",(E63-#REF!*L63)^J63*(K63+E63*N63))","v":{"$error":"#REF!"}},3649.5572803917571,3650,1.2129304335421818E-4,0.5,174.88239999999999,0,0.3,0,10,10,15,22.5,null,null,null,553.02670667663062,677.3166227447839,829.54006001494588]
[null,"C8",53,435.5,435.5,{"$f":"IF(OR(#REF!=\"\", E64=\"\"),\"\",(E64-#REF!*L64)^J64*(K64+E64*N64))","v":{"$error":"#REF!"}},1785.7699545902994,1786,1.2880482066100299E-4,0.5,78.5,-0.02,0.5,1.6E-2,10,10,25,37.5,null,null,null,248.74476074884473,402.31263962247073,493.97934167331329]
[null,"C6",53,435.5,435.5,{"$f":"IF(OR(#REF!=\"\", E65=\"\"),\"\",(E65-#REF!*L65)^J65*(K65+E65*N65))","v":{"$error":"#REF!"}},1351.6770409073722,1352,2.3887506851168482E-4,0.505,61.3,5.3999999999999999E-2,0.5,4.0000000000000001E-3,10,10,25,37.5,null,null,null,196.22022602847034,294.48442274225471,361.69452002391199]
[null,"C4",53,435.5,435.5,{"$f":"IF(OR(#REF!=\"\", E66=\"\"),\"\",(E66-#REF!*L66)^J66*(K66+E66*N66))","v":{"$error":"#REF!"}},926.52266541225811,926.7,1.9136137665041412E-4,0.50770000000000004,42,8.9999999999999993E-3,0.5,8.9999999999999998E-4,10,10,25,37.5,null,null,null,135.22043961341475,213.40816455330273,262.25804163385158]
[null,"C2",53,435.5,435.5,{"$f":"IF(OR(#REF!=\"\", E67=\"\"),\"\",(E67-#REF!*L67)^J67*(K67+E67*N67))","v":{"$error":"#REF!"}},504.62598426223843,504.7,1.4665293790678822E-4,0.52,22,0.11,0.5,-1E-3,10,10,25,37.5,null,null,null,72.815733614021795,102.97857590452337,127.0770800432384]
[null,"C1",53,435.5,435.5,{"$f":"IF(OR(#REF!=\"\", E68=\"\"),\"\",(E68-#REF!*L68)^J68*(K68+E68*N68))","v":{"$error":"#REF!"}},300.30983506366249,300.39999999999998,3.0014958834050347E-4,0.54100000000000004,11.9239,0.13,0.4,-1.4E-3,10,10,20,30,null,null,null,41.39120929172438,48.630403550205621,60.486970434198767]
[null,"L4",53,435.5,{"$f":"IF(OR(C69=\"\",D69=\"\", D69<0),\"---\",        IF(AND(D69>=O69,D69>=ABS(C69)*M69),D69,\"---\"))","v":435.5},{"$f":"IF(OR(#REF!=\"\", E69=\"\"),\"\",(E69-#REF!*L69)^J69*(K69+E69*N69))","v":{"$error":"#REF!"}},{"$f":"IF(E69=\"---\",\"---\", (E69-ABS(C69)*L69)^J69*(K69+E69*N69))","v":78.966379501576796},78.98,1.724550319474298E-4,0.48,4.0994999999999999,3.0000000000000001E-3,1,4.0000000000000002E-4,10,10,50,75,null,null,null,12.392371884669673,26.898235106975161,32.756730893711762]
[null,"L2",53,435.5,435.5,{"$f":"IF(OR(#REF!=\"\", E70=\"\"),\"\",(E70-#REF!*L70)^J70*(K70+E70*N70))","v":{"$error":"#REF!"}},44.599736059583563,44.61,2.300816053897425E-4,0.502,2.0678000000000001,0,0.5,1E-4,10,10,25,37.5,null,null,null,6.5723170773602462,10.418355354386694,12.777889157933513]
[null,"L1",53,435.5,435.5,{"$f":"IF(OR(#REF!=\"\", E71=\"\"),\"\",(E71-#REF!*L71)^J71*(K71+E71*N71))","v":{"$error":"#REF!"}},23.880955590977432,23.89,3.7858555975588484E-4,0.49249999999999999,1.1614,0.1,0.5,1E-4,10,10,25,37.5,null,null,null,3.6128971733443667,5.0894744801957508,6.2210552366904741]
[]
[]
[null,null,null,null,null,null,"Flow = PN*K (Open, Ring A, B8)\nFlow = P3*a+P2*b+P*c+d+(g-|PrA|)*f (B4)\n\nP is calculated depending:\nIf PrA<0:  P = |PrB|-|PrA|\nIf PrA>0:  P = PrB\n\nConditions that must be true, or else “---“ is displayed for flow result:\nIf PrA<0: (|PrB|-|PrA|)>MF, (|PrB|-|PrA|)>PrA*K2 \nIf PrA>0:  PrB>=MF, PrB>=|PrA|*K2\n"]
[null,null,"Enter Pressures appearing on gauge",null,"Fan Pressure used in flow equations",null,null,null,null,null,null,null,null,null,null,null,null,null,null,"min Fan Pressure, Pa",null,"max Fan Pressure, Pa",null,"min Flow, CFM",null,"max Flow, CFM"]
["Device","Range","PrA,          Pa","PrB,          Pa ","P,                Pa","CFM calculation","CFM displayed on DM32","build 68 reading","Error","N","K","g","f","a","b","c","d","K2 ","MF",250,500,250,500,250,500,250,500,null,null,null,null,null,null,"high","low","delta"]
[4000,"Open",-56.6,165,{"$f":"IF(OR(C77=\"\",D77=\"\",D77<0),\"\",        IF(AND(C77>=0,D77>=S77, D77>=ABS(C77)*R77),D77,         IF(AND(C77<0, (ABS(D77)-ABS(C77))>=S77, (ABS(D77)-ABS(C77))>=ABS(C77)*R77),(ABS(D77)-ABS(C77)),\"---\")))","v":108.4},{"$f":"IF(OR(#REF!=\"\", E77=\"\"),\"\",E77^J77*K77)","v":{"$error":"#REF!"}},{"$f":"IF(E77=\"---\",\"---\", E77^J77*K77)","v":5392.3495064520312},5390,{"$f":"(H77-G77)/H77","v":-4.3590101150856481E-4},0.53,450,null,null,null,null,null,null,0.2,10,{"$f":"IF($R77*T$76>$S77, $R77*T$76, $S77)","v":50},{"$f":"IF($R77*U$76>$S77, $R77*U$76, $S77)","v":100},195,105,{"$f":"T77^$J77*$K77","v":3578.2165169576538},{"$f":"U77^$J77*$K77","v":5166.6912967359749},7360.8989838090019,5302.0380764437959,null,null,null,null,null,null,{"$f":"IF('Flow charts'!$A$172=$T$76,Z77, IF('Flow charts'!$A$172=$U$76,AA77, \"SELECT BP\"))","v":7360.8989838090019},{"$f":"IF('Flow charts'!$A$172=$T$76,X77, IF('Flow charts'!$A$172=$U$76,Y77, \"SELECT BP\"))","v":3578.2165169576538},{"$f":"AH77-AI77","v":3782.6824668513482}]
[null,"Ring A",53,435.5,{"$f":"IF(OR(C78=\"\",D78=\"\",D78<0),\"\",        IF(AND(C78>=0,D78>=S78, D78>=ABS(C78)*R78),D78,         IF(AND(C78<0, (ABS(D78)-ABS(C78))>=S78, (ABS(D78)-ABS(C78))>=ABS(C78)*R78),(ABS(D78)-ABS(C78)),\"---\")))","v":435.5},{"$f":"IF(OR(#REF!=\"\", E78=\"\"),\"\",E78^J78*K78)","v":{"$error":"#REF!"}},{"$f":"IF(E78=\"---\",\"---\", E78^J78*K78)","v":5715.1878815940163},5716,{"$f":"(H78-G78)/H78","v":1.4207809761786398E-4},0.48499999999999999,300,null,null,null,null,null,null,0.2,20,{"$f":"IF($R78*T$76>$S78, $R78*T$76, $S78)","v":50},100,395,213,{"$f":"T78^$J78*$K78","v":2000.4223900906072},2799.7629023909731,5450.9330270758546,4040.0371846142343,null,null,null,null,null,null,{"$f":"IF('Flow charts'!$A$172=$T$76,Z78, IF('Flow charts'!$A$172=$U$76,AA78, \"SELECT BP\"))","v":5450.9330270758546},{"$f":"IF('Flow charts'!$A$172=$T$76,X78, IF('Flow charts'!$A$172=$U$76,Y78, \"SELECT BP\"))","v":2000.4223900906072},{"$f":"AH78-AI78","v":3450.5106369852474}]
[null,"B8",53,435.5,{"$f":"IF(OR(C79=\"\",D79=\"\",D79<0),\"\",        IF(AND(C79>=0,D79>=S79, D79>=ABS(C79)*R79),D79,         IF(AND(C79<0, (ABS(D79)-ABS(C79))>=S79, (ABS(D79)-ABS(C79))>=ABS(C79)*R79),(ABS(D79)-ABS(C79)),\"---\")))","v":435.5},{"$f":"IF(OR(#REF!=\"\", E79=\"\"),\"\",E79^J79*K79)","v":{"$error":"#REF!"}},{"$f":"IF(E79=\"---\",\"---\", E79^J79*K79)","v":2992.799094668514},2993,{"$f":"(H79-G79)/H79","v":6.7125068989627696E-5},0.52,127,null,null,null,null,null,null,0.2,15,50,100,660,330,{"$f":"T79^$J79*$K79","v":971.10932229488594},1392.5273091018455,3715.0662892584696,2590.7825885075763,null,null,null,null,null,null,{"$f":"IF('Flow charts'!$A$172=$T$76,Z79, IF('Flow charts'!$A$172=$U$76,AA79, \"SELECT BP\"))","v":3715.0662892584696},{"$f":"IF('Flow charts'!$A$172=$T$76,X79, IF('Flow charts'!$A$172=$U$76,Y79, \"SELECT BP\"))","v":971.10932229488594},{"$f":"AH79-AI79","v":2743.9569669635839}]
[null,"B4",53,435.5,{"$f":"IF(OR(C80=\"\",D80=\"\",D80<0),\"\",        IF(AND(C80>=0,D80>=S80, D80>=ABS(C80)*R80),D80,         IF(AND(C80<0, (ABS(D80)-ABS(C80))>=S80, (ABS(D80)-ABS(C80))>=ABS(C80)*R80),(ABS(D80)-ABS(C80)),\"---\")))","v":435.5},{"$f":"IF(OR(#REF!=\"\", E80=\"\"),\"\",E80^3*N80+E80^2*O80+E80*P80+Q80+(L80-#REF!)*M80)","v":{"$error":"#REF!"}},{"$f":"IF(E80=\"---\",\"---\", E80^3*N80+E80^2*O80+E80*P80+Q80+(L80-ABS(C80))*M80)","v":1303.9674473525001},1304,{"$f":"(H80-G80)/H80","v":2.4963686733028863E-5},null,null,0,0.7,6.6200000000000001E-6,-7.7999999999999996E-3,4.75,205,0.2,25,50,100,485,425,{"$f":"T80^3*$N80+T80^2*$O80+T80*$P80+$Q80+($L80-ABS(X$76))*$M80","v":248.82749999999999},{"$f":"U80^3*$N80+U80^2*$O80+U80*$P80+$Q80+($L80-ABS(Y$76))*$M80","v":258.62},{"$f":"V80^3*$N80+V80^2*$O80+V80*$P80+$Q80+($L80-ABS(Z$76))*$M80","v":1254.2319075},{"$f":"W80^3*$N80+W80^2*$O80+W80*$P80+$Q80+($L80-ABS(AA$76))*$M80","v":973.06343749999996},null,null,null,null,null,null,{"$f":"IF('Flow charts'!$A$172=$T$76,Z80, IF('Flow charts'!$A$172=$U$76,AA80, \"SELECT BP\"))","v":1254.2319075},{"$f":"IF('Flow charts'!$A$172=$T$76,X80, IF('Flow charts'!$A$172=$U$76,Y80, \"SELECT BP\"))","v":248.82749999999999},{"$f":"AH80-AI80","v":1005.4044075}]
[]
[]
[null,null,null,null,null,null,"Flow = (P-|PrA|)*K1)N*(K+P*K3) (1000, 2000, 3000 fans - all ranges)\nFlow = PN*K (5000, 6000 fans - Open, Ring A, B8)\nFlow = P3*a+P2*b+P*c+d+(g-|PrA|)*f (5000, 6000 fans - B4, B2, B1, B74, B47, B29)\n\nP is calculated depending:\nIf PrA>0:  P = |PrB|-PrA\nIf PrA<0:  P = PrB\n\nConditions that must be true, or else “---“ is displayed for flow result: \nIf PrA>0: (|PrB|-PrA)>MF, (|PrB|-PrA)>PrA*K2 \nIf PrA<0:  PrB>=MF, PrB>=|PrA|*K2\n"]
[null,null,"Enter Pressures appearing on gauge",null,"Fan Pressure used in flow equations",null,null,null,null,null,null,null,null,null,null,"min Fan Pressure, Pa",null,null,"max Fan Pressure, Pa",null,null,"min Flow, CFM",null,null,"max Flow, CFM"]
["Device","Range","PrA,          Pa","PrB,          Pa ","P,                Pa","CFM calculation","CFM displayed on DM32","build 68 reading","Error","N","K","K1","K2","K3","MF",0,50,75,0,50,75,0,50,75,0,50,75]
["1000\n2000\n3000","Open",77.7,230.5,{"$f":"IF(OR(C86=\"\",D86=\"\",D86<0),\"\",        IF(AND(C86<=0,D86>=O86, D86>=ABS(C86)*M86),D86,         IF(AND(C86>0, (ABS(D86)-C86)>=O86, (ABS(D86)-C86)>=ABS(C86)*M86),(ABS(D86)-C86),\"---\")))","v":152.80000000000001},{"$f":"IF(OR(#REF!=\"\", E86=\"\"),\"\",(E86-#REF!*L86)^J86*(K86+E86*N86))","v":{"$error":"#REF!"}},{"$f":"IF(E86=\"---\",\"---\", (E86-ABS(C86)*L86)^J86*(K86+E86*N86))","v":7038.2687366427626},7036,{"$f":"(H86-G86)/H86","v":-3.224469361515965E-4},0.52139999999999997,519.61829999999998,-7.0000000000000007E-2,0.8,-0.115,8.6,{"$f":"IF($M86*P$85>$O86, $M86*P$85, $O86)","v":8.6},{"$f":"IF($M86*Q$85>$O86, $M86*Q$85, $O86)","v":40},{"$f":"IF($M86*R$85>$O86, $M86*R$85, $O86)","v":60},null,null,null,{"$f":"($P86-ABS(V$85)*$L86)^$J86*($K86+$P86*$N86)","v":1592.5920413665599},{"$f":"($Q86-ABS(W$85)*$L86)^$J86*($K86+$Q86*$N86)","v":3682.3999802347703},{"$f":"($R86-ABS(X$85)*$L86)^$J86*($K86+$R86*$N86)","v":4528.9872666190677}]
[null,"A",-56.6,165,{"$f":"IF(OR(C87=\"\",D87=\"\",D87<0),\"\",        IF(AND(C87<=0,D87>=O87, D87>=ABS(C87)*M87),D87,         IF(AND(C87>0, (ABS(D87)-C87)>=O87, (ABS(D87)-C87)>=ABS(C87)*M87),(ABS(D87)-C87),\"---\")))","v":165},{"$f":"IF(OR(#REF!=\"\", E87=\"\"),\"\",(E87-#REF!*L87)^J87*(K87+E87*N87))","v":{"$error":"#REF!"}},{"$f":"IF(E87=\"---\",\"---\", (E87-ABS(C87)*L87)^J87*(K87+E87*N87))","v":3500.923538822678},3500,{"$f":"(H87-G87)/H87","v":-2.6386823505085237E-4},0.503,264.99590000000001,-7.4999999999999997E-2,1,0,12,{"$f":"IF($M87*P$85>$O87, $M87*P$85, $O87)","v":12},50,75,null,null,null,{"$f":"($P87-ABS(V$85)*$L87)^$J87*($K87+$P87*$N87)","v":924.84152546369035},{"$f":"($Q87-ABS(W$85)*$L87)^$J87*($K87+$Q87*$N87)","v":1966.1630234802801},{"$f":"($R87-ABS(X$85)*$L87)^$J87*($K87+$R87*$N87)","v":2410.9789999693917}]
[null,"B",77.7,230.5,152.80000000000001,{"$f":"IF(OR(#REF!=\"\", E88=\"\"),\"\",(E88-#REF!*L88)^J88*(K88+E88*N88))","v":{"$error":"#REF!"}},{"$f":"IF(E88=\"---\",\"---\", (E88-ABS(C88)*L88)^J88*(K88+E88*N88))","v":2161.7615190365768},2161,-3.5239196509802338E-4,0.5,174.88239999999999,0,0.3,0,10,10,15,22.5,null,null,null,553.02670667663062,677.3166227447839,829.54006001494588]
[null,"C8",77.7,230.5,152.80000000000001,{"$f":"IF(OR(#REF!=\"\", E89=\"\"),\"\",(E89-#REF!*L89)^J89*(K89+E89*N89))","v":{"$error":"#REF!"}},1005.6524096889602,1005,-6.4916386961217244E-4,0.5,78.5,-0.02,0.5,1.6E-2,10,10,25,37.5,null,null,null,248.74476074884473,402.31263962247073,493.97934167331329]
[null,"C6",77.7,230.5,152.80000000000001,{"$f":"IF(OR(#REF!=\"\", E90=\"\"),\"\",(E90-#REF!*L90)^J90*(K90+E90*N90))","v":{"$error":"#REF!"}},773.82885389206228,773.6,-2.9582974671957257E-4,0.505,61.3,5.3999999999999999E-2,0.5,4.0000000000000001E-3,10,10,25,37.5,null,null,null,196.22022602847034,294.48442274225471,361.69452002391199]
[null,"C4",77.7,230.5,152.80000000000001,{"$f":"IF(OR(#REF!=\"\", E91=\"\"),\"\",(E91-#REF!*L91)^J91*(K91+E91*N91))","v":{"$error":"#REF!"}},540.17811918549285,540,-3.298503435052714E-4,0.50770000000000004,42,8.9999999999999993E-3,0.5,8.9999999999999998E-4,10,10,25,37.5,null,null,null,135.22043961341475,213.40816455330273,262.25804163385158]
[null,"C2",77.7,230.5,152.80000000000001,{"$f":"IF(OR(#REF!=\"\", E92=\"\"),\"\",(E92-#REF!*L92)^J92*(K92+E92*N92))","v":{"$error":"#REF!"}},289.82824593298938,289.7,-4.4268530545180118E-4,0.52,22,0.11,0.5,-1E-3,10,10,25,37.5,null,null,null,72.815733614021795,102.97857590452337,127.0770800432384]
[null,"C1",77.7,230.5,152.80000000000001,{"$f":"IF(OR(#REF!=\"\", E93=\"\"),\"\",(E93-#REF!*L93)^J93*(K93+E93*N93))","v":{"$error":"#REF!"}},171.43436229901923,171.4,-2.0048015763839911E-4,0.54100000000000004,11.9239,0.13,0.4,-1.4E-3,10,10,20,30,null,null,null,41.39120929172438,48.630403550205621,60.486970434198767]
[null,"L4",77.7,230.5,152.80000000000001,{"$f":"IF(OR(#REF!=\"\", E94=\"\"),\"\",(E94-#REF!*L94)^J94*(K94+E94*N94))","v":{"$error":"#REF!"}},46.474958100145031,46.46,-3.2195652486074198E-4,0.48,4.0994999999999999,3.0000000000000001E-3,1,4.0000000000000002E-4,10,10,50,75,null,null,null,12.392371884669673,26.898235106975161,32.756730893711762]
[null,"L2",77.7,230.5,152.80000000000001,{"$f":"IF(OR(#REF!=\"\", E95=\"\"),\"\",(E95-#REF!*L95)^J95*(K95+E95*N95))","v":{"$error":"#REF!"}},26.009731743228148,26,-3.7429781646722494E-4,0.502,2.0678000000000001,0,0.5,1E-4,10,10,25,37.5,null,null,null,6.5723170773602462,10.418355354386694,12.777889157933513]
[null,"L1",77.7,230.5,152.80000000000001,{"$f":"IF(OR(#REF!=\"\", E96=\"\"),\"\",(E96-#REF!*L96)^J96*(K96+E96*N96))","v":{"$error":"#REF!"}},{"$f":"IF(E96=\"---\",\"---\", (E96-ABS(C96)*L96)^J96*(K96+E96*N96))","v":13.651373889507498},13.65,-1.0065124597054575E-4,0.49249999999999999,1.1614,0.1,0.5,1E-4,10,10,25,37.5,null,null,null,3.6128971733443667,5.0894744801957508,6.2210552366904741]
[null,null,null,null,null,null,null,null,null,null,null,null,null,null,null,null,null,null,null,"min Fan Pressure, Pa",null,null,"max Fan Pressure, Pa",null,null,"min Flow, CFM",null,null,"max Flow, CFM"]
[null,null,null,null,null,null,null,"build 68 reading","Error","N","K","g","f","a","b","c","d","K2 ","MF",0,50,75,0,50,75,0,50,75,0,50,75,null,null,"high","low","delta"]
[5000,"Open",53,435.5,{"$f":"IF(OR(C99=\"\",D99=\"\",D99<0),\"\",        IF(AND(C99<=0,D99>=S99, D99>=ABS(C99)*R99),D99,         IF(AND(C99>0, (ABS(D99)-C99)>=S99, (ABS(D99)-C99)>=ABS(C99)*R99),(ABS(D99)-C99),\"---\")))","v":382.5},{"$f":"IF(OR(#REF!=\"\", E99=\"\"),\"\",E99^J99*K99)","v":{"$error":"#REF!"}},{"$f":"IF(E99=\"---\",\"---\", E99^J99*K99)","v":10590.85483472373},10592,{"$f":"(H99-G99)/H99","v":1.0811605704964462E-4},0.498,548,null,null,null,null,null,null,0.3,10,{"$f":"IF($R99*T$98>$S99, $R99*T$98, $S99)","v":10},{"$f":"IF($R99*U$98>$S99, $R99*U$98, $S99)","v":15},{"$f":"IF($R99*V$98>$S99, $R99*V$98, $S99)","v":22.5},140,110,{"$f":"W99*0.7","v":98},{"$f":"T99^$J99*$K99","v":1724.9660761275211},2110.9308431866061,2583.2560340665477,6420.2556284536058,5693.6939060455761,5375.4044212380686,null,null,{"$f":"IF('Flow charts'!$A$205=$T$98,AC99, IF('Flow charts'!$A$205=$U$98,AD99, IF('Flow charts'!$A$205=$V$98,AE99,\"SELECT BP\")))","v":6420.2556284536058},{"$f":"IF('Flow charts'!$A$205=$T$98,Z99, IF('Flow charts'!$A$205=$U$98,AA99, IF('Flow charts'!$A$205=$V$98,AB99,\"SELECT BP\")))","v":1724.9660761275211},{"$f":"AH99-AI99","v":4695.289552326085}]
[null,"Ring A",-56.6,165,{"$f":"IF(OR(C100=\"\",D100=\"\",D100<0),\"\",        IF(AND(C100<=0,D100>=S100, D100>=ABS(C100)*R100),D100,         IF(AND(C100>0, (ABS(D100)-C100)>=S100, (ABS(D100)-C100)>=ABS(C100)*R100),(ABS(D100)-C100),\"---\")))","v":165},{"$f":"IF(OR(#REF!=\"\", E100=\"\"),\"\",E100^J100*K100)","v":{"$error":"#REF!"}},{"$f":"IF(E100=\"---\",\"---\", E100^J100*K100)","v":3724.4216002542839},3724,{"$f":"(H100-G100)/H100","v":-1.1321166871211884E-4},0.502,287,null,null,null,null,null,null,0.4,20,{"$f":"IF($R100*T$98>$S100, $R100*T$98, $S100)","v":20},20,30,236,218.25,{"$f":"W100*0.7","v":165.2},1291.2161653674448,1291.2161653674448,1582.6933099646403,4457.4216919750024,4285.8496475087759,3726.6871707843916,null,null,{"$f":"IF('Flow charts'!$A$205=$T$98,AC100, IF('Flow charts'!$A$205=$U$98,AD100, IF('Flow charts'!$A$205=$V$98,AE100,\"SELECT BP\")))","v":4457.4216919750024},{"$f":"IF('Flow charts'!$A$205=$T$98,Z100, IF('Flow charts'!$A$205=$U$98,AA100, IF('Flow charts'!$A$205=$V$98,AB100,\"SELECT BP\")))","v":1291.2161653674448},{"$f":"AH100-AI100","v":3166.2055266075577}]
[null,"B8",53,435.5,382.5,{"$f":"IF(OR(#REF!=\"\", E101=\"\"),\"\",E101^J101*K101)","v":{"$error":"#REF!"}},{"$f":"IF(E101=\"---\",\"---\", E101^J101*K101)","v":2809.695060733161},2810,1.0851931204235881E-4,0.54,113.25,null,null,null,null,null,null,0.7,40,40,{"$f":"IF($R101*U$98>$S101, $R101*U$98, $S101)","v":40},{"$f":"IF($R101*V$98>$S101, $R101*V$98, $S101)","v":52.5},372,307.5,{"$f":"W101*0.7","v":260.39999999999998},830.13859566929511,830.13859566929511,961.44453354661653,2767.7789257156091,2497.322186711719,2282.8866048682298,null,null,{"$f":"IF('Flow charts'!$A$205=$T$98,AC101, IF('Flow charts'!$A$205=$U$98,AD101, IF('Flow charts'!$A$205=$V$98,AE101,\"SELECT BP\")))","v":2767.7789257156091},{"$f":"IF('Flow charts'!$A$205=$T$98,Z101, IF('Flow charts'!$A$205=$U$98,AA101, IF('Flow charts'!$A$205=$V$98,AB101,\"SELECT BP\")))","v":830.13859566929511},1937.6403300463139]
[null,"B4",53,435.5,382.5,{"$f":"IF(OR(#REF!=\"\", E102=\"\"),\"\",E102^3*N102+E102^2*O102+E102*P102+Q102+(L102-#REF!)*M102)","v":{"$error":"#REF!"}},{"$f":"IF(E102=\"---\",\"---\", E102^3*N102+E102^2*O102+E102*P102+Q102+(L102-ABS(C102))*M102)","v":1265.2089648067051},1265,-1.6518957051788597E-4,null,null,29,-0.19,7.942601191494451E-6,-8.6400000000000001E-3,4.9000000000000004,206,0.8,40,40,40,60,357,315,300,{"$f":"T102^3*$N102+T102^2*$O102+T102*$P102+$Q102+($L102-ABS(Z$98))*$M102","v":383.17432647625566},392.67432647625566,479.35160185736282,1210.0133787939551,1144.4389500162017,{"$f":"Y102^3*$N102+Y102^2*$O102+Y102*$P102+$Q102+($L102-ABS(Y$98))*$M102","v":1121.5902321703502},null,null,{"$f":"IF('Flow charts'!$A$205=$T$98,AC102, IF('Flow charts'!$A$205=$U$98,AD102, IF('Flow charts'!$A$205=$V$98,AE102,\"SELECT BP\")))","v":1210.0133787939551},{"$f":"IF('Flow charts'!$A$205=$T$98,Z102, IF('Flow charts'!$A$205=$U$98,AA102, IF('Flow charts'!$A$205=$V$98,AB102,\"SELECT BP\")))","v":383.17432647625566},826.8390523176995]
[null,"B2",53,435.5,382.5,{"$f":"IF(OR(#REF!=\"\", E103=\"\"),\"\",E103^3*N103+E103^2*O103+E103*P103+Q103+(L103-#REF!)*M103)","v":{"$error":"#REF!"}},535.03355875000011,535.1,1.2416604372997875E-4,null,null,30,0.1,8.8000000000000004E-7,-2.8999999999999998E-3,2.15,90,1,50,50,50,75,386,322.5,300,193.36,188.36,230.80875,541.42256128000008,509.27384875000001,493.26,null,null,{"$f":"IF('Flow charts'!$A$205=$T$98,AC103, IF('Flow charts'!$A$205=$U$98,AD103, IF('Flow charts'!$A$205=$V$98,AE103,\"SELECT BP\")))","v":541.42256128000008},{"$f":"IF('Flow charts'!$A$205=$T$98,Z103, IF('Flow charts'!$A$205=$U$98,AA103, IF('Flow charts'!$A$205=$V$98,AB103,\"SELECT BP\")))","v":193.36},348.06256128000007]
[null,"B1",53,435.5,{"$f":"IF(OR(C104=\"\",D104=\"\",D104<0),\"\",        IF(AND(C104<=0,D104>=S104, D104>=ABS(C104)*R104),D104,         IF(AND(C104>0, (ABS(D104)-C104)>=S104, (ABS(D104)-C104)>=ABS(C104)*R104),(ABS(D104)-C104),\"---\")))","v":382.5},{"$f":"IF(OR(#REF!=\"\", E104=\"\"),\"\",E104^3*N104+E104^2*O104+E104*P104+Q104+(L104-#REF!)*M104)","v":{"$error":"#REF!"}},{"$f":"IF(E104=\"---\",\"---\", E104^3*N104+E104^2*O104+E104*P104+Q104+(L104-ABS(C104))*M104)","v":284.85907031250002},284.89999999999998,1.4366334678818558E-4,null,null,30,0,4.9999999999999998E-7,-1.2800000000000001E-3,1.02,54,1,60,60,60,75,379,333.75,300,110.7,110.7,123.5109375,283.93948949999992,270.43504980468754,258.3,null,null,{"$f":"IF('Flow charts'!$A$205=$T$98,AC104, IF('Flow charts'!$A$205=$U$98,AD104, IF('Flow charts'!$A$205=$V$98,AE104,\"SELECT BP\")))","v":283.93948949999992},{"$f":"IF('Flow charts'!$A$205=$T$98,Z104, IF('Flow charts'!$A$205=$U$98,AA104, IF('Flow charts'!$A$205=$V$98,AB104,\"SELECT BP\")))","v":110.7},173.23948949999993]
[null,"B74",53,435.5,382.5,{"$f":"IF(OR(#REF!=\"\", E105=\"\"),\"\",E105^3*N105+E105^2*O105+E105*P105+Q105+(L105-#REF!)*M105)","v":{"$error":"#REF!"}},145.15529581249999,145.1,-3.8108761199167354E-4,null,null,25,0.14499999999999999,7.9599999999999998E-7,-9.5009999999999995E-4,0.59,18,0.8,35,35,40,60,379,333.75,300,41.145256000000003,36.505783999999998,42.901575999999999,152.095877344,135.04892700781249,123.733,null,null,{"$f":"IF('Flow charts'!$A$205=$T$98,AC105, IF('Flow charts'!$A$205=$U$98,AD105, IF('Flow charts'!$A$205=$V$98,AE105,\"SELECT BP\")))","v":152.095877344},{"$f":"IF('Flow charts'!$A$205=$T$98,Z105, IF('Flow charts'!$A$205=$U$98,AA105, IF('Flow charts'!$A$205=$V$98,AB105,\"SELECT BP\")))","v":41.145256000000003},110.950621344]
[null,"B47",53,435.5,382.5,{"$f":"IF(OR(#REF!=\"\", E106=\"\"),\"\",E106^3*N106+E106^2*O106+E106*P106+Q106+(L106-#REF!)*M106)","v":{"$error":"#REF!"}},65.192998583812752,65.19,-4.5997604122632589E-5,null,null,25,0.09,2.6904318197461721E-7,-3.5905495356519798E-4,0.24349999999999999,12.05,1,50,50,50,75,379,333.75,300,25.610993013833834,21.110993013833834,23.906318478591302,69.658181830005461,61.075306468703133,55.549220092446845,null,null,{"$f":"IF('Flow charts'!$A$205=$T$98,AC106, IF('Flow charts'!$A$205=$U$98,AD106, IF('Flow charts'!$A$205=$V$98,AE106,\"SELECT BP\")))","v":69.658181830005461},{"$f":"IF('Flow charts'!$A$205=$T$98,Z106, IF('Flow charts'!$A$205=$U$98,AA106, IF('Flow charts'!$A$205=$V$98,AB106,\"SELECT BP\")))","v":25.610993013833834},44.047188816171627]
[null,"B29",53,435.5,382.5,{"$f":"IF(OR(#REF!=\"\", E107=\"\"),\"\",E107^3*N107+E107^2*O107+E107*P107+Q107+(L107-#REF!)*M107)","v":{"$error":"#REF!"}},24.562166359375002,24.57,3.1882949226691654E-4,null,null,25,-0.02,1.11E-7,-1.4899999999999999E-4,9.1999999999999998E-2,4.4000000000000004,0.6,50,50,50,50,379,333.75,300,8.141375,9.141375,9.641375,23.408324229000002,23.134576744140624,22.586999999999996,null,null,{"$f":"IF('Flow charts'!$A$205=$T$98,AC107, IF('Flow charts'!$A$205=$U$98,AD107, IF('Flow charts'!$A$205=$V$98,AE107,\"SELECT BP\")))","v":23.408324229000002},{"$f":"IF('Flow charts'!$A$205=$T$98,Z107, IF('Flow charts'!$A$205=$U$98,AA107, IF('Flow charts'!$A$205=$V$98,AB107,\"SELECT BP\")))","v":8.141375},15.266949229000002]
[null,null,null,null,"",{"$f":"IF(OR(#REF!=\"\", E108=\"\"),\"\",E108^3*N108+E108^2*O108+E108*P108+Q108+(L108-#REF!)*M108)","v":{"$error":"#REF!"}}]
[6000,"Open",53,435.5,382.5,{"$f":"IF(OR(#REF!=\"\", E109=\"\"),\"\",E109^J109*K109)","v":{"$error":"#REF!"}},{"$f":"IF(E109=\"---\",\"---\", E109^J109*K109)","v":10590.85483472373},10592,{"$f":"(H109-G109)/H109","v":1.0811605704964462E-4},0.498,548,null,null,null,null,null,null,0.5,25,{"$f":"IF($R109*T$98>$S109, $R109*T$98, $S109)","v":25},{"$f":"IF($R109*U$98>$S109, $R109*U$98, $S109)","v":25},{"$f":"IF($R109*V$98>$S109, $R109*V$98, $S109)","v":37.5},225,204,188,{"$f":"T109^$J109*$K109","v":2722.4172179976167},2722.4172179976167,3331.5637640798445,8131.4398261250271,7744.1968156881339,7435.516940382834,null,null,{"$f":"IF('Flow charts'!$A$238=$T$98,AC109, IF('Flow charts'!$A$238=$U$98,AD109, IF('Flow charts'!$A$238=$V$98,AE109,\"SELECT BP\")))","v":7744.1968156881339},{"$f":"IF('Flow charts'!$A$238=$T$98,Z109, IF('Flow charts'!$A$238=$U$98,AA109, IF('Flow charts'!$A$238=$V$98,AB109,\"SELECT BP\")))","v":2722.4172179976167},{"$f":"AH109-AI109","v":5021.7795976905172}]
[null,"Ring A",-56.6,165,165,{"$f":"IF(OR(#REF!=\"\", E110=\"\"),\"\",E110^J110*K110)","v":{"$error":"#REF!"}},{"$f":"IF(E110=\"---\",\"---\", E110^J110*K110)","v":3724.4216002542839},3724,{"$f":"(H110-G110)/H110","v":-1.1321166871211884E-4},0.502,287,null,null,null,null,null,null,0.5,25,{"$f":"IF($R110*T$98>$S110, $R110*T$98, $S110)","v":25},25,37.5,350,275,245,1444.2679740660683,1444.2679740660683,1770.2947977731253,5432.5540383226626,4813.1224321731115,4541.9596435444328,null,null,{"$f":"IF('Flow charts'!$A$238=$T$98,AC110, IF('Flow charts'!$A$238=$U$98,AD110, IF('Flow charts'!$A$238=$V$98,AE110,\"SELECT BP\")))","v":4813.1224321731115},{"$f":"IF('Flow charts'!$A$238=$T$98,Z110, IF('Flow charts'!$A$238=$U$98,AA110, IF('Flow charts'!$A$238=$V$98,AB110,\"SELECT BP\")))","v":1444.2679740660683},{"$f":"AH110-AI110","v":3368.8544581070432}]
[null,"B8",53,435.5,382.5,{"$f":"IF(OR(#REF!=\"\", E111=\"\"),\"\",E111^J111*K111)","v":{"$error":"#REF!"}},{"$f":"IF(E111=\"---\",\"---\", E111^J111*K111)","v":2809.695060733161},2810,1.0851931204235881E-4,0.54,113.25,null,null,null,null,null,null,0.8,40,40,{"$f":"IF($R111*U$98>$S111, $R111*U$98, $S111)","v":40},{"$f":"IF($R111*V$98>$S111, $R111*V$98, $S111)","v":60},477,410,365,830.13859566929511,830.13859566929511,1033.33201703072,3165.4695146682052,2917.0340145551158,2739.5318724029053,null,null,{"$f":"IF('Flow charts'!$A$238=$T$98,AC111, IF('Flow charts'!$A$238=$U$98,AD111, IF('Flow charts'!$A$238=$V$98,AE111,\"SELECT BP\")))","v":2917.0340145551158},{"$f":"IF('Flow charts'!$A$238=$T$98,Z111, IF('Flow charts'!$A$238=$U$98,AA111, IF('Flow charts'!$A$238=$V$98,AB111,\"SELECT BP\")))","v":830.13859566929511},2086.8954188858206]
[null,"B4",53,435.5,382.5,{"$f":"IF(OR(#REF!=\"\", E112=\"\"),\"\",E112^3*N112+E112^2*O112+E112*P112+Q112+(L112-#REF!)*M112)","v":{"$error":"#REF!"}},{"$f":"IF(E112=\"---\",\"---\", E112^3*N112+E112^2*O112+E112*P112+Q112+(L112-ABS(C112))*M112)","v":1214.0556209375},1214,-4.5816258237193215E-5,null,null,0,0.7,6.6200000000000001E-6,-7.7999999999999996E-3,4.75,205,0.8,40,40,40,60,485,425,485,{"$f":"T112^3*$N112+T112^2*$O112+T112*$P112+$Q112+($L112-ABS(Z$98))*$M112","v":382.94367999999997},347.94367999999997,410.84992,1429.2319075,1288.0634375,{"$f":"Y112^3*$N112+Y112^2*$O112+Y112*$P112+$Q112+($L112-ABS(Y$98))*$M112","v":1376.7319075},null,null,{"$f":"IF('Flow charts'!$A$238=$T$98,AC112, IF('Flow charts'!$A$238=$U$98,AD112, IF('Flow charts'!$A$238=$V$98,AE112,\"SELECT BP\")))","v":1288.0634375},{"$f":"IF('Flow charts'!$A$238=$T$98,Z112, IF('Flow charts'!$A$238=$U$98,AA112, IF('Flow charts'!$A$238=$V$98,AB112,\"SELECT BP\")))","v":347.94367999999997},940.11975749999999]
[null,"B2",53,435.5,{"$f":"IF(OR(C113=\"\",D113=\"\",D113<0),\"\",        IF(AND(C113<=0,D113>=S113, D113>=ABS(C113)*R113),D113,         IF(AND(C113>0, (ABS(D113)-C113)>=S113, (ABS(D113)-C113)>=ABS(C113)*R113),(ABS(D113)-C113),\"---\")))","v":382.5},{"$f":"IF(OR(#REF!=\"\", E113=\"\"),\"\",E113^3*N113+E113^2*O113+E113*P113+Q113+(L113-#REF!)*M113)","v":{"$error":"#REF!"}},{"$f":"IF(E113=\"---\",\"---\", E113^3*N113+E113^2*O113+E113*P113+Q113+(L113-ABS(C113))*M113)","v":506.0032968750001},506.1,1.9107513337269217E-4,null,null,40,0.85,3.0000000000000001E-6,-3.7000000000000002E-3,2.2000000000000002,49,1,50,50,50,75,466,430,402,184.125,141.625,164.703125,608.30688800000007,540.89100000000008,500.60962400000017,null,null,{"$f":"IF('Flow charts'!$A$238=$T$98,AC113, IF('Flow charts'!$A$238=$U$98,AD113, IF('Flow charts'!$A$238=$V$98,AE113,\"SELECT BP\")))","v":540.89100000000008},{"$f":"IF('Flow charts'!$A$238=$T$98,Z113, IF('Flow charts'!$A$238=$U$98,AA113, IF('Flow charts'!$A$238=$V$98,AB113,\"SELECT BP\")))","v":141.625},399.26600000000008]
[null,"B1",53,435.5,382.5,{"$f":"IF(OR(#REF!=\"\", E114=\"\"),\"\",E114^3*N114+E114^2*O114+E114*P114+Q114+(L114-#REF!)*M114)","v":{"$error":"#REF!"}},267.1792065625001,267.2,7.7819751122342568E-5,null,null,65,0.2,1.06E-6,-1.382E-3,0.96511000000000013,38.5,1,60,60,60,75,475,454,415,104.66036000000001,94.660360000000011,101.55668750000001,311.71568750000012,293.99889184000006,274.76747750000004,null,null,{"$f":"IF('Flow charts'!$A$238=$T$98,AC114, IF('Flow charts'!$A$238=$U$98,AD114, IF('Flow charts'!$A$238=$V$98,AE114,\"SELECT BP\")))","v":293.99889184000006},{"$f":"IF('Flow charts'!$A$238=$T$98,Z114, IF('Flow charts'!$A$238=$U$98,AA114, IF('Flow charts'!$A$238=$V$98,AB114,\"SELECT BP\")))","v":94.660360000000011},199.33853184000003]
[null,"B74",53,435.5,382.5,{"$f":"IF(OR(#REF!=\"\", E115=\"\"),\"\",E115^3*N115+E115^2*O115+E115*P115+Q115+(L115-#REF!)*M115)","v":{"$error":"#REF!"}},145.15529581249999,145.1,-3.8108761199167354E-4,null,null,25,0.14499999999999999,7.9599999999999998E-7,-9.5009999999999995E-4,0.59,18,0.8,35,35,40,60,480,454,427,41.145256000000003,36.505783999999998,42.901575999999999,173.953192,160.89121294400002,151.42138556800001,null,null,{"$f":"IF('Flow charts'!$A$238=$T$98,AC115, IF('Flow charts'!$A$238=$U$98,AD115, IF('Flow charts'!$A$238=$V$98,AE115,\"SELECT BP\")))","v":160.89121294400002},{"$f":"IF('Flow charts'!$A$238=$T$98,Z115, IF('Flow charts'!$A$238=$U$98,AA115, IF('Flow charts'!$A$238=$V$98,AB115,\"SELECT BP\")))","v":36.505783999999998},124.38542894400001]
[null,"B47",53,435.5,382.5,{"$f":"IF(OR(#REF!=\"\", E116=\"\"),\"\",E116^3*N116+E116^2*O116+E116*P116+Q116+(L116-#REF!)*M116)","v":{"$error":"#REF!"}},65.192998583812752,65.19,-4.5997604122632589E-5,null,null,25,0.09,2.6904318197461721E-7,-3.5905495356519798E-4,0.24349999999999999,12.05,1,50,50,50,75,480,462,417,25.610993013833834,21.110993013833834,23.906318478591302,78.207762279515251,72.18952614645616,66.162575175451508,null,null,{"$f":"IF('Flow charts'!$A$238=$T$98,AC116, IF('Flow charts'!$A$238=$U$98,AD116, IF('Flow charts'!$A$238=$V$98,AE116,\"SELECT BP\")))","v":72.18952614645616},{"$f":"IF('Flow charts'!$A$238=$T$98,Z116, IF('Flow charts'!$A$238=$U$98,AA116, IF('Flow charts'!$A$238=$V$98,AB116,\"SELECT BP\")))","v":21.110993013833834},51.078533132622326]
[null,"B29",53,435.5,382.5,{"$f":"IF(OR(#REF!=\"\", E117=\"\"),\"\",E117^3*N117+E117^2*O117+E117*P117+Q117+(L117-#REF!)*M117)","v":{"$error":"#REF!"}},24.562166359375002,24.57,3.1882949226691654E-4,null,null,25,-0.02,1.11E-7,-1.4899999999999999E-4,9.1999999999999998E-2,4.4000000000000004,0.6,50,50,50,50,480,457,434,8.141375,9.141375,9.641375,26.006111999999995,26.419782222999999,26.336817944000003,null,null,{"$f":"IF('Flow charts'!$A$238=$T$98,AC117, IF('Flow charts'!$A$238=$U$98,AD117, IF('Flow charts'!$A$238=$V$98,AE117,\"SELECT BP\")))","v":26.419782222999999},{"$f":"IF('Flow charts'!$A$238=$T$98,Z117, IF('Flow charts'!$A$238=$U$98,AA117, IF('Flow charts'!$A$238=$V$98,AB117,\"SELECT BP\")))","v":9.141375},17.278407222999999]

{"sheet":"Flow charts","index":3,"n_rows":302,"n_cols":2,"rows_kept":302,"cut":false,"hidden":false,"merged":[]}
[null,"Legend"]
[null,"Standard Ranges - included with every system with no extra cost"]
[null,"Optional Ranges - ISO 17025 calibration recommended"]
[null,"Not recommended but available if custom sealing performed - ISO 17025 calibration mandatory"]
[300]
[]
[50]
[]
[]
[]
[]
[]
[]
[]
[]
[]
[]
[]
[]
[]
[]
[]
[]
[]
[]
[]
[]
[]
[]
[]
[]
[]
[]
[]
[]
[]
[]
[340]
[]
[0]
[]
[]
[]
[]
[]
[]
[]
[]
[]
[]
[]
[]
[]
[]
[]
[]
[]
[]
[]
[]
[]
[]
[]
[]
[]
[]
[]
[]
[]
[]
[350]
[]
[0]
[]
[{"$f":"IF(A73='Round B1'!T38, \"No Data for Range 11 to 1, @250 Pa\", \"\")","v":""}]
[]
[]
[]
[]
[]
[]
[]
[]
[]
[]
[]
[]
[]
[]
[]
[]
[]
[]
[]
[]
[]
[]
[]
[]
[]
[]
[]
[]
[400]
[]
[4980]
[]
[]
[]
[]
[]
[]
[]
[]
[]
[]
[]
[]
[]
[]
[]
[]
[]
[]
[]
[]
[]
[]
[]
[]
[]
[]
[]
[]
[]
[]
["3000SR"]
[]
[75]
[]
[]
[]
[]
[]
[]
[]
[]
[]
[]
[]
[]
[]
[]
[]
[]
[]
[]
[]
[]
[]
[]
[]
[]
[]
[]
[]
[]
[]
[]
[4000]
[]
[250]
[]
[]
[]
[]
[]
[]
[]
[]
[]
[]
[]
[]
[]
[]
[]
[]
[]
[]
[]
[]
[]
[]
[]
[]
[]
[]
[]
[]
[]
[]
[5000]
[]
[0]
[]
[]
[]
[]
[]
[]
[]
[]
[]
[]
[]
[]
[]
[]
[]
[]
[]
[]
[]
[]
[]
[]
[]
[]
[]
[]
[]
[]
[]
[]
[6000]
[]
[50]
[]
[]
[]
[]
[]
[]
[]
[]
[]
[]
[]
[]
[]
[]
[]
[]
[]
[]
[]
[]
[]
[]
[]
[]
[]
[]
[]
[]
[]
[]
[7000]
[]
[]
[]
[]
[]
[]
[]
[]
[]
[]
[]
[]
[]
[]
[]
[]
[]
[]
[]
[]
[]
[]
[]
[]
[]
[]
[]
[]
[]
[]
[]
[]
["* Flow will vary depending on the following factors: voltage, frequency, barometric pressure, backpressure, blade pitch, air temperature, bearing tightness, inlet air turbulence"]

{"sheet":"build 63","index":4,"n_rows":100,"n_cols":20,"rows_kept":100,"cut":false,"hidden":true,"merged":[[52,2,52,3],[52,6,52,14],[54,0,61,0],[63,0,80,0],[82,0,99,0],[39,0,48,0],[7,2,7,3],[8,15,8,25],[9,0,16,0],[18,0,26,0],[28,0,37,0]]}
[null,null,"\"Round B\" released: 2015-06-23, DM32 v2.3.62"]
[null,null,"\"Round A\" released: 2014"]
[]
[null,null,"For sample flow calculations: enter pressure data into Columns C & D"]
[null,null,"identifies the same Range but depending on PrA sign (or if 'set to 0 Pa' is implemented), different flow coeffcients are used"]
[null,null,"Changed 2015-07-02"]
[]
[null,null,"Enter Pressures appearing on gauge",null,"Fan Pressure used in flow equations",null,"P conditions: PrB>=MF, PrB>=|PrA|*K2"]
["Device","Range","PrA,           Pa","PrB,          Pa ","P,                  Pa","CFM calculation","CFM displayed on DM32","build 63 reading","Error","N","K","K1","K2","K3","MF","Flow = (P-|PrA|)*K1)N*(K+P*K3)                                                                                                                                        Since K1 and K3 are 0 for 300 & 340 & 350 & 450 systems, this equation can be simplified to:  Flow = PN*K"]
[300,"Open",50.5,214.5,{"$f":"IF(OR(C10=\"\",D10=\"\", D10<0),\"---\",        IF(AND(D10>=O10,D10>=ABS(C10)*M10),D10,\"---\"))","v":214.5},{"$f":"IF(OR(#REF!=\"\", E10=\"\"),\"\",(E10-#REF!*L10)^J10*(K10+E10*N10))","v":{"$error":"#REF!"}},{"$f":"IF(E10=\"---\",\"---\", (E10-ABS(C10)*L10)^J10*(K10+E10*N10))","v":479.46508947976116},425.5,{"$f":"(H10-G10)/H10","v":-0.12682747233786407},{"$f":"'Round B1'!I17","v":0.51149999999999995},{"$f":"'Round B1'!J17","v":30.7774},{"$f":"'Round B1'!K17","v":0},{"$f":"'Round B1'!L17","v":0.2},{"$f":"'Round B1'!M17","v":0},{"$f":"'Round B1'!N17","v":10},"PrB cannot be less than MF and PrA*K2, or \"---\" is displayed"]
[null,102,50.5,214.5,214.5,{"$f":"IF(OR(#REF!=\"\", E11=\"\"),\"\",(E11-#REF!*L11)^J11*(K11+E11*N11))","v":{"$error":"#REF!"}},259.42407211113471,253.9,-2.175688109938834E-2,{"$f":"'Round B1'!I22","v":0.56499999999999995},{"$f":"'Round B1'!J22","v":12.49550606158},{"$f":"'Round B1'!K22","v":0},{"$f":"'Round B1'!L22","v":0.4},{"$f":"'Round B1'!M22","v":0},{"$f":"'Round B1'!N22","v":100}]
[null,74,50.5,214.5,214.5,{"$f":"IF(OR(#REF!=\"\", E12=\"\"),\"\",(E12-#REF!*L12)^J12*(K12+E12*N12))","v":{"$error":"#REF!"}},105.03923514850842,106.1,9.9977837086858579E-3,{"$f":"'Round B1'!I23","v":0.501},{"$f":"'Round B1'!J23","v":7.1335625749575859},{"$f":"'Round B1'!K23","v":0},{"$f":"'Round B1'!L23","v":0.25},{"$f":"'Round B1'!M23","v":0},{"$f":"'Round B1'!N23","v":25},"PrB cannot be negative, so \"---\" is displayed"]
[null,47,50.5,214.5,214.5,{"$f":"IF(OR(#REF!=\"\", E13=\"\"),\"\",(E13-#REF!*L13)^J13*(K13+E13*N13))","v":{"$error":"#REF!"}},45.550957182369693,47.44,3.9819620944989559E-2,{"$f":"'Round B1'!I24","v":0.497},{"$f":"'Round B1'!J24","v":3.1606626260331878},{"$f":"'Round B1'!K24","v":0},{"$f":"'Round B1'!L24","v":0.1},{"$f":"'Round B1'!M24","v":0},{"$f":"'Round B1'!N24","v":30}]
[null,29,50.5,214.5,214.5,{"$f":"IF(OR(#REF!=\"\", E14=\"\"),\"\",(E14-#REF!*L14)^J14*(K14+E14*N14))","v":{"$error":"#REF!"}},17.005566172947859,17.61,3.432332919092225E-2,{"$f":"'Round B1'!I25","v":0.50700000000000001},{"$f":"'Round B1'!J25","v":1.1182977634009417},{"$f":"'Round B1'!K25","v":0},{"$f":"'Round B1'!L25","v":0.2},{"$f":"'Round B1'!M25","v":0},{"$f":"'Round B1'!N25","v":30}]
[null,18,50.5,214.5,214.5,{"$f":"IF(OR(#REF!=\"\", E15=\"\"),\"\",(E15-#REF!*L15)^J15*(K15+E15*N15))","v":{"$error":"#REF!"}},6.8252830094907049,6.6539999999999999,-2.5741360007620222E-2,{"$f":"'Round B1'!I26","v":0.51900000000000002},{"$f":"'Round B1'!J26","v":0.42083310570088067},{"$f":"'Round B1'!K26","v":0},{"$f":"'Round B1'!L26","v":0.25},{"$f":"'Round B1'!M26","v":0},{"$f":"'Round B1'!N26","v":30}]
[null,11,50.5,214.5,214.5,{"$f":"IF(OR(#REF!=\"\", E16=\"\"),\"\",(E16-#REF!*L16)^J16*(K16+E16*N16))","v":{"$error":"#REF!"}},2.741600489407539,6.6539999999999999,0.58797708304665774,{"$f":"'Round B1'!I27","v":0.49199999999999999},{"$f":"'Round B1'!J27","v":0.1954078197100593},{"$f":"'Round B1'!K27","v":0},{"$f":"'Round B1'!L27","v":0.25},{"$f":"'Round B1'!M27","v":0},{"$f":"'Round B1'!N27","v":30}]
[null,7,50.5,214.5,214.5,{"$f":"IF(OR(#REF!=\"\", E17=\"\"),\"\",(E17-#REF!*L17)^J17*(K17+E17*N17))","v":{"$error":"#REF!"}},1.0297708610934646,4.929E-2,{"$f":"(H17-G17)/H17","v":-19.892084826404229},{"$f":"'Round B1'!I28","v":0.48},{"$f":"'Round B1'!J28","v":7.828084343806592E-2},{"$f":"'Round B1'!K28","v":0},{"$f":"'Round B1'!L28","v":0.11},{"$f":"'Round B1'!M28","v":0},{"$f":"'Round B1'!N28","v":30}]
[]
[340,"Open",50.3,223,{"$f":"IF(OR(C19=\"\",D19=\"\", D19<0),\"---\",        IF(AND(C19>0, D19>=O19,D19>=ABS(C19)*M19),D19,\"---\"))","v":223},{"$f":"IF(OR(#REF!=\"\", E19=\"\"),\"\",(E19-#REF!*L19)^J19*(K19+E19*N19))","v":{"$error":"#REF!"}},{"$f":"IF(E19=\"---\",\"---\", (E19-ABS(C19)*L19)^J19*(K19+E19*N19))","v":412.52906312700389},434.2,{"$f":"(H19-G19)/H19","v":4.9910034253791098E-2},{"$f":"'Round B1'!I30","v":0.49199999999999999},{"$f":"'Round B1'!J30","v":28.846196518042184},{"$f":"'Round B1'!K30","v":0},{"$f":"'Round B1'!L30","v":0.4},{"$f":"'Round B1'!M30","v":0},{"$f":"'Round B1'!N30","v":20},"use when PrA is positive or when \"Set Pressure\" value of \"0\" Pa is entered"]
[null,"Open",-50.5,94.8,{"$f":"IF(OR(C20=\"\",D20=\"\", D20<0),\"---\",        IF(AND(C20<0, D20>=O20,D20>=ABS(C20)*M20),D20,\"---\"))","v":{"$error":"#REF!"}},{"$f":"IF(OR(#REF!=\"\", E20=\"\"),\"\",(E20-#REF!*L20)^J20*(K20+E20*N20))","v":{"$error":"#REF!"}},{"$error":"#REF!"},291.2,{"$f":"(H20-G20)/H20","v":{"$error":"#REF!"}},{"$f":"'Round B1'!#REF!","v":{"$error":"#REF!"}},{"$f":"'Round B1'!#REF!","v":{"$error":"#REF!"}},{"$f":"'Round B1'!#REF!","v":{"$error":"#REF!"}},{"$f":"'Round B1'!#REF!","v":{"$error":"#REF!"}},{"$f":"'Round B1'!#REF!","v":{"$error":"#REF!"}},{"$f":"'Round B1'!#REF!","v":{"$error":"#REF!"}},"use when PrA is negative"]
[null,102,50.5,214.5,{"$f":"IF(OR(C21=\"\",D21=\"\", D21<0),\"---\",        IF(AND(D21>=O21,D21>=ABS(C21)*M21),D21,\"---\"))","v":214.5},{"$f":"IF(OR(#REF!=\"\", E21=\"\"),\"\",(E21-#REF!*L21)^J21*(K21+E21*N21))","v":{"$error":"#REF!"}},259.42407211113459,253.9,-2.1756881099387892E-2,{"$f":"'Round B1'!I31","v":0.56499999999999995},{"$f":"'Round B1'!J31","v":12.495506061579997},{"$f":"'Round B1'!K31","v":0},{"$f":"'Round B1'!L31","v":0.4},{"$f":"'Round B1'!M31","v":0},{"$f":"'Round B1'!N31","v":100}]
[null,74,50.5,214.5,214.5,{"$f":"IF(OR(#REF!=\"\", E22=\"\"),\"\",(E22-#REF!*L22)^J22*(K22+E22*N22))","v":{"$error":"#REF!"}},105.03923514850842,106.1,9.9977837086858579E-3,{"$f":"'Round B1'!I32","v":0.501},{"$f":"'Round B1'!J32","v":7.1335625749575859},{"$f":"'Round B1'!K32","v":0},{"$f":"'Round B1'!L32","v":0.25},{"$f":"'Round B1'!M32","v":0},{"$f":"'Round B1'!N32","v":25}]
[null,47,50.5,214.5,214.5,{"$f":"IF(OR(#REF!=\"\", E23=\"\"),\"\",(E23-#REF!*L23)^J23*(K23+E23*N23))","v":{"$error":"#REF!"}},45.550957182369693,47.44,3.9819620944989559E-2,{"$f":"'Round B1'!I33","v":0.497},{"$f":"'Round B1'!J33","v":3.1606626260331878},{"$f":"'Round B1'!K33","v":0},{"$f":"'Round B1'!L33","v":0.1},{"$f":"'Round B1'!M33","v":0},{"$f":"'Round B1'!N33","v":30}]
[null,29,50.5,214.5,214.5,{"$f":"IF(OR(#REF!=\"\", E24=\"\"),\"\",(E24-#REF!*L24)^J24*(K24+E24*N24))","v":{"$error":"#REF!"}},17.005566172947859,17.61,3.432332919092225E-2,{"$f":"'Round B1'!I34","v":0.50700000000000001},{"$f":"'Round B1'!J34","v":1.1182977634009417},{"$f":"'Round B1'!K34","v":0},{"$f":"'Round B1'!L34","v":0.2},{"$f":"'Round B1'!M34","v":0},{"$f":"'Round B1'!N34","v":30}]
[null,18,50.5,214.5,214.5,{"$f":"IF(OR(#REF!=\"\", E25=\"\"),\"\",(E25-#REF!*L25)^J25*(K25+E25*N25))","v":{"$error":"#REF!"}},6.8252830094907049,6.6539999999999999,-2.5741360007620222E-2,{"$f":"'Round B1'!I35","v":0.51900000000000002},{"$f":"'Round B1'!J35","v":0.42083310570088067},{"$f":"'Round B1'!K35","v":0},{"$f":"'Round B1'!L35","v":0.25},{"$f":"'Round B1'!M35","v":0},{"$f":"'Round B1'!N35","v":30}]
[null,11,50.5,214.5,214.5,{"$f":"IF(OR(#REF!=\"\", E26=\"\"),\"\",(E26-#REF!*L26)^J26*(K26+E26*N26))","v":{"$error":"#REF!"}},2.741600489407539,2.7349999999999999,-2.4133416480947353E-3,{"$f":"'Round B1'!I36","v":0.49199999999999999},{"$f":"'Round B1'!J36","v":0.1954078197100593},{"$f":"'Round B1'!K36","v":0},{"$f":"'Round B1'!L36","v":0.25},{"$f":"'Round B1'!M36","v":0},{"$f":"'Round B1'!N36","v":30}]
[null,7,50.5,214.5,214.5,{"$f":"IF(OR(#REF!=\"\", E27=\"\"),\"\",(E27-#REF!*L27)^J27*(K27+E27*N27))","v":{"$error":"#REF!"}},1.0297708610934646,1.0509999999999999,2.0198990396322863E-2,{"$f":"'Round B1'!I37","v":0.48},{"$f":"'Round B1'!J37","v":7.828084343806592E-2},{"$f":"'Round B1'!K37","v":0},{"$f":"'Round B1'!L37","v":0.11},{"$f":"'Round B1'!M37","v":0},{"$f":"'Round B1'!N37","v":30}]
[]
[350,102,50.5,214.5,{"$f":"IF(OR(C29=\"\",D29=\"\", D29<0),\"---\",        IF(AND(D29>=O29,D29>=ABS(C29)*M29),D29,\"---\"))","v":214.5},{"$f":"IF(OR(#REF!=\"\", E29=\"\"),\"\",(E29-#REF!*L29)^J29*(K29+E29*N29))","v":{"$error":"#REF!"}},{"$f":"IF(E29=\"---\",\"---\", (E29-ABS(C29)*L29)^J29*(K29+E29*N29))","v":259.42407211113459},253.9,{"$f":"(H29-G29)/H29","v":-2.1756881099387892E-2},{"$f":"'Round B1'!I39","v":0.56499999999999995},{"$f":"'Round B1'!J39","v":12.495506061579997},{"$f":"'Round B1'!K39","v":0},{"$f":"'Round B1'!L39","v":0.4},{"$f":"'Round B1'!M39","v":0},{"$f":"'Round B1'!N39","v":100}]
[null,74,50.5,214.5,214.5,{"$f":"IF(OR(#REF!=\"\", E30=\"\"),\"\",(E30-#REF!*L30)^J30*(K30+E30*N30))","v":{"$error":"#REF!"}},105.03923514850842,106.1,{"$f":"(H30-G30)/H30","v":9.9977837086858579E-3},{"$f":"'Round B1'!I40","v":0.501},{"$f":"'Round B1'!J40","v":7.1335625749575859},{"$f":"'Round B1'!K40","v":0},{"$f":"'Round B1'!L40","v":0.25},{"$f":"'Round B1'!M40","v":0},{"$f":"'Round B1'!N40","v":25}]
[null,47,50.5,214.5,214.5,{"$f":"IF(OR(#REF!=\"\", E31=\"\"),\"\",(E31-#REF!*L31)^J31*(K31+E31*N31))","v":{"$error":"#REF!"}},45.550957182369693,47.44,{"$f":"(H31-G31)/H31","v":3.9819620944989559E-2},{"$f":"'Round B1'!I41","v":0.497},{"$f":"'Round B1'!J41","v":3.1606626260331878},{"$f":"'Round B1'!K41","v":0},{"$f":"'Round B1'!L41","v":0.1},{"$f":"'Round B1'!M41","v":0},{"$f":"'Round B1'!N41","v":30}]
[null,29,50.5,214.5,214.5,{"$f":"IF(OR(#REF!=\"\", E32=\"\"),\"\",(E32-#REF!*L32)^J32*(K32+E32*N32))","v":{"$error":"#REF!"}},17.005566172947859,17.61,3.432332919092225E-2,{"$f":"'Round B1'!I42","v":0.50700000000000001},{"$f":"'Round B1'!J42","v":1.1182977634009417},{"$f":"'Round B1'!K42","v":0},{"$f":"'Round B1'!L42","v":0.2},{"$f":"'Round B1'!M42","v":0},{"$f":"'Round B1'!N42","v":30}]
[null,18,50.5,214.5,214.5,{"$f":"IF(OR(#REF!=\"\", E33=\"\"),\"\",(E33-#REF!*L33)^J33*(K33+E33*N33))","v":{"$error":"#REF!"}},6.8252830094907049,6.6539999999999999,-2.5741360007620222E-2,{"$f":"'Round B1'!I43","v":0.51900000000000002},{"$f":"'Round B1'!J43","v":0.42083310570088067},{"$f":"'Round B1'!K43","v":0},{"$f":"'Round B1'!L43","v":0.25},{"$f":"'Round B1'!M43","v":0},{"$f":"'Round B1'!N43","v":30}]
[null,11,50.5,214.5,214.5,{"$f":"IF(OR(#REF!=\"\", E34=\"\"),\"\",(E34-#REF!*L34)^J34*(K34+E34*N34))","v":{"$error":"#REF!"}},2.741600489407539,2.7349999999999999,-2.4133416480947353E-3,{"$f":"'Round B1'!I44","v":0.49199999999999999},{"$f":"'Round B1'!J44","v":0.1954078197100593},{"$f":"'Round B1'!K44","v":0},{"$f":"'Round B1'!L44","v":0.25},{"$f":"'Round B1'!M44","v":0},{"$f":"'Round B1'!N44","v":30}]
[null,7,50.5,214.5,214.5,{"$f":"IF(OR(#REF!=\"\", E35=\"\"),\"\",(E35-#REF!*L35)^J35*(K35+E35*N35))","v":{"$error":"#REF!"}},1.0297708610934646,1.0509999999999999,2.0198990396322863E-2,{"$f":"'Round B1'!I45","v":0.48},{"$f":"'Round B1'!J45","v":7.828084343806592E-2},{"$f":"'Round B1'!K45","v":0},{"$f":"'Round B1'!L45","v":0.11},{"$f":"'Round B1'!M45","v":0},{"$f":"'Round B1'!N45","v":30}]
[null,3,50.5,214.5,{"$error":"#REF!"},{"$f":"IF(OR(#REF!=\"\", E36=\"\"),\"\",(E36-#REF!*L36)^J36*(K36+E36*N36))","v":{"$error":"#REF!"}},{"$error":"#REF!"},0.29170000000000001,{"$error":"#REF!"},{"$f":"'Round B1'!#REF!","v":{"$error":"#REF!"}},{"$f":"'Round B1'!#REF!","v":{"$error":"#REF!"}},{"$f":"'Round B1'!#REF!","v":{"$error":"#REF!"}},{"$f":"'Round B1'!#REF!","v":{"$error":"#REF!"}},{"$f":"'Round B1'!#REF!","v":{"$error":"#REF!"}},{"$f":"'Round B1'!#REF!","v":{"$error":"#REF!"}}]
[null,2,50.5,214.5,{"$error":"#REF!"},{"$f":"IF(OR(#REF!=\"\", E37=\"\"),\"\",(E37-#REF!*L37)^J37*(K37+E37*N37))","v":{"$error":"#REF!"}},{"$error":"#REF!"},0.1118,{"$error":"#REF!"},{"$f":"'Round B1'!#REF!","v":{"$error":"#REF!"}},{"$f":"'Round B1'!#REF!","v":{"$error":"#REF!"}},{"$f":"'Round B1'!#REF!","v":{"$error":"#REF!"}},{"$f":"'Round B1'!#REF!","v":{"$error":"#REF!"}},{"$f":"'Round B1'!#REF!","v":{"$error":"#REF!"}},{"$f":"'Round B1'!#REF!","v":{"$error":"#REF!"}}]
[null,1,50.5,214.5,214.5,{"$f":"IF(OR(#REF!=\"\", E38=\"\"),\"\",(E38-#REF!*L38)^J38*(K38+E38*N38))","v":{"$error":"#REF!"}},0.29187438979960378,4.929E-2,-4.921574148906549,{"$f":"'Round B1'!I46","v":0.48499999999999999},{"$f":"'Round B1'!J46","v":2.1600000000000001E-2},{"$f":"'Round B1'!K46","v":0},{"$f":"'Round B1'!L46","v":0.3},{"$f":"'Round B1'!M46","v":0},{"$f":"'Round B1'!N46","v":30}]
[]
[450,74,50.9,822,{"$f":"IF(OR(C40=\"\",D40=\"\", D40<0),\"---\",        IF(AND(C40>0, D40>=O40,D40>=ABS(C40)*M40),D40,\"---\"))","v":822},{"$f":"IF(OR(#REF!=\"\", E40=\"\"),\"\",(E40-#REF!*L40)^J40*(K40+E40*N40))","v":{"$error":"#REF!"}},{"$f":"IF(E40=\"---\",\"---\", (E40-ABS(C40)*L40)^J40*(K40+E40*N40))","v":208.47623841651799},209.2,{"$f":"(H40-G40)/H40","v":3.4596634009655927E-3},{"$f":"'Round B1'!I48","v":0.504},{"$f":"'Round B1'!J48","v":7.0788248423279603},{"$f":"'Round B1'!K48","v":0},{"$f":"'Round B1'!L48","v":0.15},{"$f":"'Round B1'!M48","v":0},{"$f":"'Round B1'!N48","v":250},"use when PrA is positive or when \"Set Pressure\" value of \"0\" Pa is entered"]
[null,74,-49.4,753,{"$f":"IF(OR(C41=\"\",D41=\"\", D41<0),\"---\",        IF(AND(C41<0, D41>=O41,D41>=ABS(C41)*M41),D41,\"---\"))","v":{"$error":"#REF!"}},{"$f":"IF(OR(#REF!=\"\", E41=\"\"),\"\",(E41-#REF!*L41)^J41*(K41+E41*N41))","v":{"$error":"#REF!"}},{"$error":"#REF!"},197.1,{"$f":"(H41-G41)/H41","v":{"$error":"#REF!"}},{"$f":"'Round B1'!#REF!","v":{"$error":"#REF!"}},{"$f":"'Round B1'!#REF!","v":{"$error":"#REF!"}},{"$f":"'Round B1'!#REF!","v":{"$error":"#REF!"}},{"$f":"'Round B1'!#REF!","v":{"$error":"#REF!"}},{"$f":"'Round B1'!#REF!","v":{"$error":"#REF!"}},{"$f":"'Round B1'!#REF!","v":{"$error":"#REF!"}},"use when PrA is negative"]
[null,47,50.9,822,{"$f":"IF(OR(C42=\"\",D42=\"\", D42<0),\"---\",        IF(AND(D42>=O42,D42>=ABS(C42)*M42),D42,\"---\"))","v":822},{"$f":"IF(OR(#REF!=\"\", E42=\"\"),\"\",(E42-#REF!*L42)^J42*(K42+E42*N42))","v":{"$error":"#REF!"}},87.450681807244166,85.64,-2.1142944970156067E-2,{"$f":"'Round B1'!I49","v":0.4975},{"$f":"'Round B1'!J49","v":3.1018048490120855},{"$f":"'Round B1'!K49","v":0},{"$f":"'Round B1'!L49","v":0.12},{"$f":"'Round B1'!M49","v":0},{"$f":"'Round B1'!N49","v":250}]
[null,29,50.9,822,822,{"$f":"IF(OR(#REF!=\"\", E43=\"\"),\"\",(E43-#REF!*L43)^J43*(K43+E43*N43))","v":{"$error":"#REF!"}},31.243252321728917,31.13,-3.6380443857667302E-3,{"$f":"'Round B1'!I50","v":0.49},{"$f":"'Round B1'!J50","v":1.1653839850178234},{"$f":"'Round B1'!K50","v":0},{"$f":"'Round B1'!L50","v":0.15},{"$f":"'Round B1'!M50","v":0},{"$f":"'Round B1'!N50","v":250}]
[null,18,50.9,822,822,{"$f":"IF(OR(#REF!=\"\", E44=\"\"),\"\",(E44-#REF!*L44)^J44*(K44+E44*N44))","v":{"$error":"#REF!"}},12.149887608742413,12.29,1.1400520037232431E-2,{"$f":"'Round B1'!I51","v":0.5},{"$f":"'Round B1'!J51","v":0.42377599455193576},{"$f":"'Round B1'!K51","v":0},{"$f":"'Round B1'!L51","v":0.15},{"$f":"'Round B1'!M51","v":0},{"$f":"'Round B1'!N51","v":250}]
[null,11,50.9,822,822,{"$f":"IF(OR(#REF!=\"\", E45=\"\"),\"\",(E45-#REF!*L45)^J45*(K45+E45*N45))","v":{"$error":"#REF!"}},5.0287034825072769,4.891,-2.8154463812569398E-2,{"$f":"'Round B1'!I52","v":0.5},{"$f":"'Round B1'!J52","v":0.17539617552288453},{"$f":"'Round B1'!K52","v":0},{"$f":"'Round B1'!L52","v":0.14000000000000001},{"$f":"'Round B1'!M52","v":0},{"$f":"'Round B1'!N52","v":250}]
[null,7,50.9,822,822,{"$f":"IF(OR(#REF!=\"\", E46=\"\"),\"\",(E46-#REF!*L46)^J46*(K46+E46*N46))","v":{"$error":"#REF!"}},1.7718586096082687,1.9179999999999999,7.6194676950850498E-2,{"$f":"'Round B1'!I53","v":0.5},{"$f":"'Round B1'!J53","v":6.1800665872157302E-2},{"$f":"'Round B1'!K53","v":0},{"$f":"'Round B1'!L53","v":0.08},{"$f":"'Round B1'!M53","v":0},{"$f":"'Round B1'!N53","v":250}]
[null,3,50.9,822,822,{"$f":"IF(OR(#REF!=\"\", E47=\"\"),\"\",(E47-#REF!*L47)^J47*(K47+E47*N47))","v":{"$error":"#REF!"}},0.4603340568256658,0.56840000000000002,0.19012305273457814,{"$f":"'Round B1'!I54","v":0.51300000000000001},{"$f":"'Round B1'!J54","v":1.4714444255275549E-2},{"$f":"'Round B1'!K54","v":0},{"$f":"'Round B1'!L54","v":0.1},{"$f":"'Round B1'!M54","v":0},{"$f":"'Round B1'!N54","v":250}]
[null,2,50.9,822,{"$error":"#REF!"},{"$f":"IF(OR(#REF!=\"\", E48=\"\"),\"\",(E48-#REF!*L48)^J48*(K48+E48*N48))","v":{"$error":"#REF!"}},{"$error":"#REF!"},0.22789999999999999,{"$error":"#REF!"},{"$f":"'Round B1'!#REF!","v":{"$error":"#REF!"}},{"$f":"'Round B1'!#REF!","v":{"$error":"#REF!"}},{"$f":"'Round B1'!#REF!","v":{"$error":"#REF!"}},{"$f":"'Round B1'!#REF!","v":{"$error":"#REF!"}},{"$f":"'Round B1'!#REF!","v":{"$error":"#REF!"}},{"$f":"'Round B1'!#REF!","v":{"$error":"#REF!"}}]
[null,1,50.9,822,{"$error":"#REF!"},{"$f":"IF(OR(#REF!=\"\", E49=\"\"),\"\",(E49-#REF!*L49)^J49*(K49+E49*N49))","v":{"$error":"#REF!"}},{"$error":"#REF!"},8.7480000000000002E-2,{"$error":"#REF!"},{"$f":"'Round B1'!#REF!","v":{"$error":"#REF!"}},{"$f":"'Round B1'!#REF!","v":{"$error":"#REF!"}},{"$f":"'Round B1'!#REF!","v":{"$error":"#REF!"}},{"$f":"'Round B1'!#REF!","v":{"$error":"#REF!"}},{"$f":"'Round B1'!#REF!","v":{"$error":"#REF!"}},{"$f":"'Round B1'!#REF!","v":{"$error":"#REF!"}}]
[]
[]
[]
[null,null,"Enter Pressures appearing on gauge",null,"Fan Pressure used in flow equations"]
[null,null,"PrA,          Pa","PrB,          Pa ","P,                Pa","CFM calculation","CFM displayed on DM32","build 55 reading","Error","N","K","g","f","a","b","c","d","K2 ","MF"]
[4000,"Open",59.2,267.5,{"$f":"IF(OR(C55=\"\",D55=\"\",D55<0),\"\",        IF(AND(C55>=0,D55>=S55, D55>=ABS(C55)*R55),D55,         IF(AND(C55<0, (ABS(D55)-ABS(C55))>=S55, (ABS(D55)-ABS(C55))>=ABS(C55)*R55),(ABS(D55)-ABS(C55)),\"---\")))","v":267.5},{"$f":"IF(OR(#REF!=\"\", E55=\"\"),\"\",E55^J55*K55)","v":{"$error":"#REF!"}},{"$f":"IF(E55=\"---\",\"---\", E55^J55*K55)","v":8703.5037453754721},8703,{"$f":"(H55-G55)/H55","v":-5.7881808051492069E-5},{"$f":"'Round B1'!I70","v":0.53},{"$f":"'Round B1'!J70","v":450},null,null,null,null,null,null,{"$f":"'Round B1'!Q70","v":0.2},{"$f":"'Round B1'!R70","v":10},"Flow = PN*K"]
[null,"Open",-53.8,149,95.2,null,5033.7320786299133,5038,{"$f":"(H56-G56)/H56","v":8.4714596468572778E-4},{"$f":"'Round B1'!I70","v":0.53},{"$f":"'Round B1'!J70","v":450},null,null,null,null,null,null,{"$f":"'Round B1'!Q70","v":0.2},{"$f":"'Round B1'!R70","v":10},"Flow = PN*K"]
[null,"Ring A",59.2,267.5,267.5,{"$f":"IF(OR(#REF!=\"\", E57=\"\"),\"\",E57^J57*K57)","v":{"$error":"#REF!"}},4512.0436364456527,4512,-9.6711980613335924E-6,{"$f":"'Round B1'!I71","v":0.48499999999999999},{"$f":"'Round B1'!J71","v":300},null,null,null,null,null,null,{"$f":"'Round B1'!Q71","v":0.2},{"$f":"'Round B1'!R71","v":20},"Flow = PN*K"]
[null,"Ring A",-49.6,176.5,126.9,null,3142.6798533477213,3144,4.1989397337109056E-4,{"$f":"'Round B1'!I71","v":0.48499999999999999},{"$f":"'Round B1'!J71","v":300},null,null,null,null,null,null,{"$f":"'Round B1'!Q71","v":0.2},{"$f":"'Round B1'!R71","v":20},"Flow = PN*K"]
[null,"B8",59.2,267.5,267.5,{"$f":"IF(OR(#REF!=\"\", E59=\"\"),\"\",E59^J59*K59)","v":{"$error":"#REF!"}},2322.8014574539729,2323,8.5468164454178318E-5,{"$f":"'Round B1'!I72","v":0.52},{"$f":"'Round B1'!J72","v":127},null,null,null,null,null,null,{"$f":"'Round B1'!Q72","v":0.2},{"$f":"'Round B1'!R72","v":15},"Flow = PN*K"]
[null,"B8",-49.6,176.5,126.9,null,1576.1725670981534,1577,5.2468795297817231E-4,{"$f":"'Round B1'!I72","v":0.52},{"$f":"'Round B1'!J72","v":127},null,null,null,null,null,null,{"$f":"'Round B1'!Q72","v":0.2},{"$f":"'Round B1'!R72","v":15},"Flow = PN*K"]
[null,"B4",59.2,267.5,267.5,null,{"$f":"IF(E61=\"---\",\"---\", E61^3*N61+E61^2*O61+E61*P61+Q61+(L61-ABS(C61))*M61)","v":1002.7616353124999},1003,2.3765173230314281E-4,null,null,{"$f":"'Round B1'!K73","v":0},{"$f":"'Round B1'!L73","v":0.7},{"$f":"'Round B1'!M73","v":6.6200000000000001E-6},{"$f":"'Round B1'!N73","v":-7.7999999999999996E-3},{"$f":"'Round B1'!O73","v":4.75},{"$f":"'Round B1'!P73","v":205},{"$f":"'Round B1'!Q73","v":0.2},{"$f":"'Round B1'!R73","v":25},"Flow = P3*a+P2*b+P*c+d+(g-|PrA|)*f"]
[null,"B4",-49.6,176.5,126.9,{"$f":"IF(OR(#REF!=\"\", E62=\"\"),\"\",E62^3*N62+E62^2*O62+E62*P62+Q62+(L62-#REF!)*M62)","v":{"$error":"#REF!"}},{"$f":"IF(E62=\"---\",\"---\", E62^3*N62+E62^2*O62+E62*P62+Q62+(L62-ABS(C62))*M62)","v":660.97513048157998},661.4,{"$f":"(H62-G62)/H62","v":6.4237907230117329E-4},null,null,{"$f":"'Round B1'!K73","v":0},{"$f":"'Round B1'!L73","v":0.7},{"$f":"'Round B1'!M73","v":6.6200000000000001E-6},{"$f":"'Round B1'!N73","v":-7.7999999999999996E-3},{"$f":"'Round B1'!O73","v":4.75},{"$f":"'Round B1'!P73","v":205},{"$f":"'Round B1'!Q73","v":0.2},{"$f":"'Round B1'!R73","v":25},"Flow = P3*a+P2*b+P*c+d+(g-|PrA|)*f"]
[null,null,null,null,{"$f":"IF(OR(C63=\"\",D63=\"\",D63<0),\"\",        IF(AND(C63<=0,D63>=S63, D63>=ABS(C63)*R63),D63,         IF(AND(C63>0, (ABS(D63)-C63)>=S63, (ABS(D63)-C63)>=ABS(C63)*R63),(ABS(D63)-C63),\"---\")))","v":""},{"$f":"IF(OR(#REF!=\"\", E63=\"\"),\"\",E63^3*N63+E63^2*O63+E63*P63+Q63+(L63-#REF!)*M63)","v":{"$error":"#REF!"}},null,null,null,null,null,null," "]
[5000,"Open",56.2,98.2,{"$f":"IF(OR(C64=\"\",D64=\"\",D64<0),\"\",        IF(AND(C64<=0,D64>=S64, D64>=ABS(C64)*R64),D64,         IF(AND(C64>0, (ABS(D64)-C64)>=S64, (ABS(D64)-C64)>=ABS(C64)*R64),(ABS(D64)-C64),\"---\")))","v":42},{"$f":"IF(OR(#REF!=\"\", E64=\"\"),\"\",E64^J64*K64)","v":{"$error":"#REF!"}},{"$f":"IF(E64=\"---\",\"---\", E64^J64*K64)","v":3647.9310219134336},3527,{"$f":"(H64-G64)/H64","v":-3.4287219141886476E-2},{"$f":"'Round B1'!I79","v":0.52139999999999997},{"$f":"'Round B1'!J79","v":519.61829999999998},null,null,null,null,null,null,{"$f":"'Round B1'!Q92","v":0.3},{"$f":"'Round B1'!R92","v":10},"Flow = PN*K"]
[null,"Open",-56.2,98.2,{"$f":"IF(OR(C65=\"\",D65=\"\",D65<0),\"\",        IF(AND(C65<=0,D65>=S65, D65>=ABS(C65)*R65),D65,         IF(AND(C65>0, (ABS(D65)-C65)>=S65, (ABS(D65)-C65)>=ABS(C65)*R65),(ABS(D65)-C65),\"---\")))","v":98.2},null,5680.3012328687746,5406,{"$f":"(H65-G65)/H65","v":-5.0740146664590195E-2},{"$f":"'Round B1'!I79","v":0.52139999999999997},{"$f":"'Round B1'!J79","v":519.61829999999998},null,null,null,null,null,null,{"$f":"'Round B1'!Q92","v":0.3},{"$f":"'Round B1'!R92","v":10},"Flow = PN*K"]
[null,"Ring A",56.2,98.2,42,{"$f":"IF(OR(#REF!=\"\", E66=\"\"),\"\",E66^J66*K66)","v":{"$error":"#REF!"}},1906.3427605224826,1875,-1.6716138945324081E-2,{"$f":"'Round B1'!I93","v":0.503},{"$f":"'Round B1'!J93","v":290.87513403828706},null,null,null,null,null,null,{"$f":"'Round B1'!Q93","v":0.4},{"$f":"'Round B1'!R93","v":20},"Flow = PN*K"]
[null,"Ring A",-54.2,99.1,99.1,null,2935.8350063996368,2884,-1.7973303189887921E-2,{"$f":"'Round B1'!I93","v":0.503},{"$f":"'Round B1'!J93","v":290.87513403828706},null,null,null,null,null,null,{"$f":"'Round B1'!Q93","v":0.4},{"$f":"'Round B1'!R93","v":20},"Flow = PN*K"]
[null,"B8",56.2,98.2,42,{"$f":"IF(OR(#REF!=\"\", E68=\"\"),\"\",E68^J68*K68)","v":{"$error":"#REF!"}},871.31720039645779,852.8,-2.1713415099035929E-2,{"$f":"'Round B1'!I94","v":0.52700000000000002},{"$f":"'Round B1'!J94","v":121.54130954857604},null,null,null,null,null,null,{"$f":"'Round B1'!Q94","v":0.7},{"$f":"'Round B1'!R94","v":35},"Flow = PN*K"]
[null,"B8",-54.2,99.1,99.1,null,1369.7923210593985,1355,{"$f":"(H69-G69)/H69","v":-1.091684211025723E-2},{"$f":"'Round B1'!I94","v":0.52700000000000002},{"$f":"'Round B1'!J94","v":121.54130954857604},null,null,null,null,null,null,{"$f":"'Round B1'!Q94","v":0.7},{"$f":"'Round B1'!R94","v":35},"Flow = PN*K"]
[null,"B4",53.2,152,98.8,{"$f":"IF(OR(#REF!=\"\", E70=\"\"),\"\",E70^3*N70+E70^2*O70+E70*P70+Q70+(L70-#REF!)*M70)","v":{"$error":"#REF!"}},{"$f":"IF(E70=\"---\",\"---\", E70^3*N70+E70^2*O70+E70*P70+Q70+(L70-ABS(C70))*M70)","v":624.08282259203031},618.1,-9.6793764634044467E-3,null,null,{"$f":"'Round B1'!K95","v":50},{"$f":"'Round B1'!L95","v":0.58857777021102198},{"$f":"'Round B1'!M95","v":1.765733310633066E-5},{"$f":"'Round B1'!N95","v":-1.5303022025486571E-2},{"$f":"'Round B1'!O95","v":6.2742390304494942},{"$f":"'Round B1'!P95","v":138.42171999822816},{"$f":"'Round B1'!Q95","v":0.8},{"$f":"'Round B1'!R95","v":40},"Flow = P3*a+P2*b+P*c+d+(g-|PrA|)*f"]
[null,"B4",-54.2,99.1,99.1,null,624.62357251497656,619.29999999999995,-8.5961125706064991E-3,null,null,{"$f":"'Round B1'!K95","v":50},{"$f":"'Round B1'!L95","v":0.58857777021102198},{"$f":"'Round B1'!M95","v":1.765733310633066E-5},{"$f":"'Round B1'!N95","v":-1.5303022025486571E-2},{"$f":"'Round B1'!O95","v":6.2742390304494942},{"$f":"'Round B1'!P95","v":138.42171999822816},{"$f":"'Round B1'!Q95","v":0.8},{"$f":"'Round B1'!R95","v":40},"Flow = P3*a+P2*b+P*c+d+(g-|PrA|)*f"]
[null,"B2",53.2,152,98.8,{"$f":"IF(OR(#REF!=\"\", E72=\"\"),\"\",E72^3*N72+E72^2*O72+E72*P72+Q72+(L72-#REF!)*M72)","v":{"$error":"#REF!"}},251.857398630104,272.7,7.6430514741092734E-2,null,null,{"$f":"'Round B1'!K96","v":50},{"$f":"'Round B1'!L96","v":0.91818132152919429},{"$f":"'Round B1'!M96","v":2.5308844119073947E-6},{"$f":"'Round B1'!N96","v":-4.6615359400712939E-3},{"$f":"'Round B1'!O96","v":2.7545439645875827},{"$f":"'Round B1'!P96","v":25.709077002817438},{"$f":"'Round B1'!Q96","v":1},{"$f":"'Round B1'!R96","v":50},"Flow = P3*a+P2*b+P*c+d+(g-|PrA|)*f"]
[null,"B2",-54.2,99.1,99.1,null,251.51112726009598,273,7.8713819560088008E-2,null,null,{"$f":"'Round B1'!K96","v":50},{"$f":"'Round B1'!L96","v":0.91818132152919429},{"$f":"'Round B1'!M96","v":2.5308844119073947E-6},{"$f":"'Round B1'!N96","v":-4.6615359400712939E-3},{"$f":"'Round B1'!O96","v":2.7545439645875827},{"$f":"'Round B1'!P96","v":25.709077002817438},{"$f":"'Round B1'!Q96","v":1},{"$f":"'Round B1'!R96","v":50},"Flow = P3*a+P2*b+P*c+d+(g-|PrA|)*f"]
[null,"B1",53.2,152,98.8,{"$f":"IF(OR(#REF!=\"\", E74=\"\"),\"\",E74^3*N74+E74^2*O74+E74*P74+Q74+(L74-#REF!)*M74)","v":{"$error":"#REF!"}},128.42068043145247,142.80000000000001,0.10069551518590716,null,null,{"$f":"'Round B1'!K97","v":50},{"$f":"'Round B1'!L97","v":0.44731910536037667},{"$f":"'Round B1'!M97","v":2.7368866314812523E-6},{"$f":"'Round B1'!N97","v":-3.1371195152247468E-3},{"$f":"'Round B1'!O97","v":1.4891017586338855},{"$f":"'Round B1'!P97","v":10.712115417840598},{"$f":"'Round B1'!Q97","v":1},{"$f":"'Round B1'!R97","v":60},"Flow = P3*a+P2*b+P*c+d+(g-|PrA|)*f"]
[null,"B1",-54.2,99.1,99.1,null,128.25795851032311,143,0.10309119922850975,null,null,{"$f":"'Round B1'!K97","v":50},{"$f":"'Round B1'!L97","v":0.44731910536037667},{"$f":"'Round B1'!M97","v":2.7368866314812523E-6},{"$f":"'Round B1'!N97","v":-3.1371195152247468E-3},{"$f":"'Round B1'!O97","v":1.4891017586338855},{"$f":"'Round B1'!P97","v":10.712115417840598},{"$f":"'Round B1'!Q97","v":1},{"$f":"'Round B1'!R97","v":60},"Flow = P3*a+P2*b+P*c+d+(g-|PrA|)*f"]
[null,"B74",53.2,152,98.8,{"$f":"IF(OR(#REF!=\"\", E76=\"\"),\"\",E76^3*N76+E76^2*O76+E76*P76+Q76+(L76-#REF!)*M76)","v":{"$error":"#REF!"}},65.072185450590595,63.57,-2.3630414512987179E-2,null,null,{"$f":"'Round B1'!K98","v":30},{"$f":"'Round B1'!L98","v":0.12948710944642483},{"$f":"'Round B1'!M98","v":1.6480177565908614E-6},{"$f":"'Round B1'!N98","v":-1.4949875363359959E-3},{"$f":"'Round B1'!O98","v":0.65920710263634463},{"$f":"'Round B1'!P98","v":15.950457572718696},{"$f":"'Round B1'!Q98","v":0.8},{"$f":"'Round B1'!R98","v":55},"Flow = P3*a+P2*b+P*c+d+(g-|PrA|)*f"]
[null,"B74",-54.2,99.1,99.1,null,65.066225392725855,63.54,-2.4019914899682963E-2,null,null,{"$f":"'Round B1'!K98","v":30},{"$f":"'Round B1'!L98","v":0.12948710944642483},{"$f":"'Round B1'!M98","v":1.6480177565908614E-6},{"$f":"'Round B1'!N98","v":-1.4949875363359959E-3},{"$f":"'Round B1'!O98","v":0.65920710263634463},{"$f":"'Round B1'!P98","v":15.950457572718696},{"$f":"'Round B1'!Q98","v":0.8},{"$f":"'Round B1'!R98","v":55},"Flow = P3*a+P2*b+P*c+d+(g-|PrA|)*f"]
[null,"B47",53.2,152,98.8,{"$f":"IF(OR(#REF!=\"\", E78=\"\"),\"\",E78^3*N78+E78^2*O78+E78*P78+Q78+(L78-#REF!)*M78)","v":{"$error":"#REF!"}},31.430795174994827,30.33,-3.6293939168968975E-2,null,null,{"$f":"'Round B1'!K99","v":30},{"$f":"'Round B1'!L99","v":2.3543110808440879E-2},{"$f":"'Round B1'!M99","v":8.2989465599754093E-7},{"$f":"'Round B1'!N99","v":-7.2983643506166723E-4},{"$f":"'Round B1'!O99","v":0.30723759605015349},{"$f":"'Round B1'!P99","v":7.9457998978487963},{"$f":"'Round B1'!Q99","v":0.8},{"$f":"'Round B1'!R99","v":25},"Flow = P3*a+P2*b+P*c+d+(g-|PrA|)*f"]
[null,"B47",-54.2,99.1,99.1,null,31.463405984730574,30.29,-3.8739055289883632E-2,null,null,{"$f":"'Round B1'!K99","v":30},{"$f":"'Round B1'!L99","v":2.3543110808440879E-2},{"$f":"'Round B1'!M99","v":8.2989465599754093E-7},{"$f":"'Round B1'!N99","v":-7.2983643506166723E-4},{"$f":"'Round B1'!O99","v":0.30723759605015349},{"$f":"'Round B1'!P99","v":7.9457998978487963},{"$f":"'Round B1'!Q99","v":0.8},{"$f":"'Round B1'!R99","v":25},"Flow = P3*a+P2*b+P*c+d+(g-|PrA|)*f"]
[null,"B29",53.2,152,98.8,null,10.783587485711243,12.71,0.15156668090391487,null,null,{"$f":"'Round B1'!K100","v":30},{"$f":"'Round B1'!L100","v":1.7657333106330657E-2},{"$f":"'Round B1'!M100","v":1.4420155370170036E-7},{"$f":"'Round B1'!N100","v":-1.8540199761647193E-4},{"$f":"'Round B1'!O100","v":0.10005822093587374},{"$f":"'Round B1'!P100","v":2.978203517267771},{"$f":"'Round B1'!Q100","v":0.6},{"$f":"'Round B1'!R100","v":50},"Flow = P3*a+P2*b+P*c+d+(g-|PrA|)*f"]
[null,"B29",-54.2,99.1,99.1,{"$f":"IF(OR(#REF!=\"\", E81=\"\"),\"\",E81^3*N81+E81^2*O81+E81*P81+Q81+(L81-#REF!)*M81)","v":{"$error":"#REF!"}},10.786211006234204,12.75,0.15402266617770949,null,null,{"$f":"'Round B1'!K100","v":30},{"$f":"'Round B1'!L100","v":1.7657333106330657E-2},{"$f":"'Round B1'!M100","v":1.4420155370170036E-7},{"$f":"'Round B1'!N100","v":-1.8540199761647193E-4},{"$f":"'Round B1'!O100","v":0.10005822093587374},{"$f":"'Round B1'!P100","v":2.978203517267771},{"$f":"'Round B1'!Q100","v":0.6},{"$f":"'Round B1'!R100","v":50},"Flow = P3*a+P2*b+P*c+d+(g-|PrA|)*f"]
[null,null,null,null,"",{"$f":"IF(OR(#REF!=\"\", E82=\"\"),\"\",E82^3*N82+E82^2*O82+E82*P82+Q82+(L82-#REF!)*M82)","v":{"$error":"#REF!"}}]
[6000,"Open",53.2,152,{"$f":"IF(OR(C83=\"\",D83=\"\",D83<0),\"\",        IF(AND(C83<=0,D83>=S83, D83>=ABS(C83)*R83),D83,         IF(AND(C83>0, (ABS(D83)-C83)>=S83, (ABS(D83)-C83)>=ABS(C83)*R83),(ABS(D83)-C83),\"---\")))","v":98.8},{"$f":"IF(OR(#REF!=\"\", E83=\"\"),\"\",E83^J83*K83)","v":{"$error":"#REF!"}},{"$f":"IF(E83=\"---\",\"---\", E83^J83*K83)","v":5493.425418488051},5397,{"$f":"(H83-G83)/H83","v":-1.7866484804159911E-2},{"$f":"'Round B1'!I102","v":0.49249999999999999},{"$f":"'Round B1'!J102","v":572.03873486809221},null,null,null,null,null,null,{"$f":"'Round B1'!Q102","v":0.5},{"$f":"'Round B1'!R102","v":25},"Flow = PN*K"]
[null,"Open",-54.2,99.1,99.1,{"$f":"IF(OR(#REF!=\"\", E84=\"\"),\"\",E84^J84*K84)","v":{"$error":"#REF!"}},5501.6342158782982,5406,{"$f":"(H84-G84)/H84","v":-1.7690383995245685E-2},{"$f":"'Round B1'!I102","v":0.49249999999999999},{"$f":"'Round B1'!J102","v":572.03873486809221},null,null,null,null,null,null,{"$f":"'Round B1'!Q102","v":0.5},{"$f":"'Round B1'!R102","v":25},"Flow = PN*K"]
[null,"Ring A",53.2,152,98.8,{"$f":"IF(OR(#REF!=\"\", E85=\"\"),\"\",E85^J85*K85)","v":{"$error":"#REF!"}},2924.6595417172803,2879,-1.5859514316526664E-2,{"$f":"'Round B1'!I103","v":0.49509999999999998},{"$f":"'Round B1'!J103","v":300.93392813119345},null,null,null,null,null,null,{"$f":"'Round B1'!Q103","v":0.5},{"$f":"'Round B1'!R103","v":25},"Flow = PN*K"]
[null,"Ring A",-54.2,99.1,99.1,{"$f":"IF(OR(#REF!=\"\", E86=\"\"),\"\",E86^J86*K86)","v":{"$error":"#REF!"}},2929.0529344248616,2884,-1.5621683226373658E-2,{"$f":"'Round B1'!I103","v":0.49509999999999998},{"$f":"'Round B1'!J103","v":300.93392813119345},null,null,null,null,null,null,{"$f":"'Round B1'!Q103","v":0.5},{"$f":"'Round B1'!R103","v":25},"Flow = PN*K"]
[null,"B8",53.2,152,98.8,{"$f":"IF(OR(#REF!=\"\", E87=\"\"),\"\",E87^J87*K87)","v":{"$error":"#REF!"}},1364.5532869491103,1353,-8.5390147443535225E-3,{"$f":"'Round B1'!I104","v":0.53400000000000003},{"$f":"'Round B1'!J104","v":117.43303671250311},null,null,null,null,null,null,{"$f":"'Round B1'!Q104","v":0.8},{"$f":"'Round B1'!R104","v":40},"Flow = PN*K"]
[null,"B8",-54.2,99.1,99.1,{"$f":"IF(OR(#REF!=\"\", E88=\"\"),\"\",E88^J88*K88)","v":{"$error":"#REF!"}},1366.7642890474867,1355,-8.6821321383665877E-3,{"$f":"'Round B1'!I104","v":0.53400000000000003},{"$f":"'Round B1'!J104","v":117.43303671250311},null,null,null,null,null,null,{"$f":"'Round B1'!Q104","v":0.8},{"$f":"'Round B1'!R104","v":40},"Flow = PN*K"]
[null,"B4",53.2,152,98.8,{"$f":"IF(OR(#REF!=\"\", E89=\"\"),\"\",E89^3*N89+E89^2*O89+E89*P89+Q89+(L89-#REF!)*M89)","v":{"$error":"#REF!"}},{"$f":"IF(E89=\"---\",\"---\", E89^3*N89+E89^2*O89+E89*P89+Q89+(L89-ABS(C89))*M89)","v":592.97675113805326},567.4,-4.5077108103724506E-2,null,null,{"$f":"'Round B1'!K105","v":50},{"$f":"'Round B1'!L105","v":0.92406709923130448},{"$f":"'Round B1'!M105","v":1.3831577599959015E-5},{"$f":"'Round B1'!N105","v":-1.446724159178692E-2},{"$f":"'Round B1'!O105","v":6.5626421378528947},{"$f":"'Round B1'!P105","v":75.426241252542468},{"$f":"'Round B1'!Q105","v":0.8},{"$f":"'Round B1'!R105","v":55},"Flow = P3*a+P2*b+P*c+d+(g-|PrA|)*f"]
[null,"B4",-54.2,99.1,99.1,{"$f":"IF(OR(#REF!=\"\", E90=\"\"),\"\",E90^3*N90+E90^2*O90+E90*P90+Q90+(L90-#REF!)*M90)","v":{"$error":"#REF!"}},593.28444039485271,567.70000000000005,-4.5066831768280184E-2,null,null,{"$f":"'Round B1'!K105","v":50},{"$f":"'Round B1'!L105","v":0.92406709923130448},{"$f":"'Round B1'!M105","v":1.3831577599959015E-5},{"$f":"'Round B1'!N105","v":-1.446724159178692E-2},{"$f":"'Round B1'!O105","v":6.5626421378528947},{"$f":"'Round B1'!P105","v":75.426241252542468},{"$f":"'Round B1'!Q105","v":0.8},{"$f":"'Round B1'!R105","v":55},"Flow = P3*a+P2*b+P*c+d+(g-|PrA|)*f"]
[null,"B2",53.2,152,98.8,{"$f":"IF(OR(#REF!=\"\", E91=\"\"),\"\",E91^3*N91+E91^2*O91+E91*P91+Q91+(L91-#REF!)*M91)","v":{"$error":"#REF!"}},231.16161442503346,222,-4.1268533446096677E-2,null,null,{"$f":"'Round B1'!K106","v":50},{"$f":"'Round B1'!L106","v":1.1182977634009417},{"$f":"'Round B1'!M106","v":4.0611866144560511E-6},{"$f":"'Round B1'!N106","v":-5.1029692677295605E-3},{"$f":"'Round B1'!O106","v":2.7156978317536553},{"$f":"'Round B1'!P106","v":12.324818508218801},{"$f":"'Round B1'!Q106","v":1},{"$f":"'Round B1'!R106","v":65},"Flow = P3*a+P2*b+P*c+d+(g-|PrA|)*f"]
[null,"B2",-54.2,99.1,99.1,{"$f":"IF(OR(#REF!=\"\", E92=\"\"),\"\",E92^3*N92+E92^2*O92+E92*P92+Q92+(L92-#REF!)*M92)","v":{"$error":"#REF!"}},230.59084989811896,221.5,-4.1042211729656705E-2,null,null,{"$f":"'Round B1'!K106","v":50},{"$f":"'Round B1'!L106","v":1.1182977634009417},{"$f":"'Round B1'!M106","v":4.0611866144560511E-6},{"$f":"'Round B1'!N106","v":-5.1029692677295605E-3},{"$f":"'Round B1'!O106","v":2.7156978317536553},{"$f":"'Round B1'!P106","v":12.324818508218801},{"$f":"'Round B1'!Q106","v":1},{"$f":"'Round B1'!R106","v":65},"Flow = P3*a+P2*b+P*c+d+(g-|PrA|)*f"]
[null,"B1",53.2,152,98.8,{"$f":"IF(OR(#REF!=\"\", E93=\"\"),\"\",E93^3*N93+E93^2*O93+E93*P93+Q93+(L93-#REF!)*M93)","v":{"$error":"#REF!"}},117.8444134452304,121,2.6079227725368585E-2,null,null,{"$f":"'Round B1'!K107","v":50},{"$f":"'Round B1'!L107","v":0.51206266008358914},{"$f":"'Round B1'!M107","v":2.2071666382913324E-6},{"$f":"'Round B1'!N107","v":-2.6485999659495987E-3},{"$f":"'Round B1'!O107","v":1.3866892266171675},{"$f":"'Round B1'!P107","v":6.2036096980241711},{"$f":"'Round B1'!Q107","v":1},{"$f":"'Round B1'!R107","v":70},"Flow = P3*a+P2*b+P*c+d+(g-|PrA|)*f"]
[null,"B1",-54.2,99.1,99.1,{"$f":"IF(OR(#REF!=\"\", E94=\"\"),\"\",E94^3*N94+E94^2*O94+E94*P94+Q94+(L94-#REF!)*M94)","v":{"$error":"#REF!"}},117.610559723363,121,2.8011903112702508E-2,null,null,{"$f":"'Round B1'!K107","v":50},{"$f":"'Round B1'!L107","v":0.51206266008358914},{"$f":"'Round B1'!M107","v":2.2071666382913324E-6},{"$f":"'Round B1'!N107","v":-2.6485999659495987E-3},{"$f":"'Round B1'!O107","v":1.3866892266171675},{"$f":"'Round B1'!P107","v":6.2036096980241711},{"$f":"'Round B1'!Q107","v":1},{"$f":"'Round B1'!R107","v":70},"Flow = P3*a+P2*b+P*c+d+(g-|PrA|)*f"]
[null,"B74",53.2,152,98.8,{"$f":"IF(OR(#REF!=\"\", E95=\"\"),\"\",E95^3*N95+E95^2*O95+E95*P95+Q95+(L95-#REF!)*M95)","v":{"$error":"#REF!"}},61.681789288287163,63.57,2.9702858450728915E-2,null,null,{"$f":"'Round B1'!K108","v":30},{"$f":"'Round B1'!L108","v":0.16480177565908616},{"$f":"'Round B1'!M108","v":1.0770973194861702E-6},{"$f":"'Round B1'!N108","v":-1.177155540422044E-3},{"$f":"'Round B1'!O108","v":0.61212088101946283},{"$f":"'Round B1'!P108","v":15.479595356549877},{"$f":"'Round B1'!Q108","v":0.8},{"$f":"'Round B1'!R108","v":65},"Flow = P3*a+P2*b+P*c+d+(g-|PrA|)*f"]
[null,"B74",-54.2,99.1,99.1,{"$f":"IF(OR(#REF!=\"\", E96=\"\"),\"\",E96^3*N96+E96^2*O96+E96*P96+Q96+(L96-#REF!)*M96)","v":{"$error":"#REF!"}},61.640227433001272,63.54,2.989884430278136E-2,null,null,{"$f":"'Round B1'!K108","v":30},{"$f":"'Round B1'!L108","v":0.16480177565908616},{"$f":"'Round B1'!M108","v":1.0770973194861702E-6},{"$f":"'Round B1'!N108","v":-1.177155540422044E-3},{"$f":"'Round B1'!O108","v":0.61212088101946283},{"$f":"'Round B1'!P108","v":15.479595356549877},{"$f":"'Round B1'!Q108","v":0.8},{"$f":"'Round B1'!R108","v":65},"Flow = P3*a+P2*b+P*c+d+(g-|PrA|)*f"]
[null,"B47",53.2,152,98.8,{"$f":"IF(OR(#REF!=\"\", E97=\"\"),\"\",E97^3*N97+E97^2*O97+E97*P97+Q97+(L97-#REF!)*M97)","v":{"$error":"#REF!"}},29.633940937751063,30.33,2.2949523977874545E-2,null,null,{"$f":"'Round B1'!K109","v":30},{"$f":"'Round B1'!L109","v":2.9428888510551098E-2},{"$f":"'Round B1'!M109","v":2.0011644187174744E-7},{"$f":"'Round B1'!N109","v":-2.9428888510551099E-4},{"$f":"'Round B1'!O109","v":0.2201280860589222},{"$f":"'Round B1'!P109","v":11.24772118873263},{"$f":"'Round B1'!Q109","v":1},{"$f":"'Round B1'!R109","v":50},"Flow = P3*a+P2*b+P*c+d+(g-|PrA|)*f"]
[null,"B47",-54.2,99.1,99.1,{"$f":"IF(OR(#REF!=\"\", E98=\"\"),\"\",E98^3*N98+E98^2*O98+E98*P98+Q98+(L98-#REF!)*M98)","v":{"$error":"#REF!"}},29.654841969835129,30.29,2.0969231765099711E-2,null,null,{"$f":"'Round B1'!K109","v":30},{"$f":"'Round B1'!L109","v":2.9428888510551098E-2},{"$f":"'Round B1'!M109","v":2.0011644187174744E-7},{"$f":"'Round B1'!N109","v":-2.9428888510551099E-4},{"$f":"'Round B1'!O109","v":0.2201280860589222},{"$f":"'Round B1'!P109","v":11.24772118873263},{"$f":"'Round B1'!Q109","v":1},{"$f":"'Round B1'!R109","v":50},"Flow = P3*a+P2*b+P*c+d+(g-|PrA|)*f"]
[null,"B29",53.2,152,98.8,{"$f":"IF(OR(#REF!=\"\", E99=\"\"),\"\",E99^3*N99+E99^2*O99+E99*P99+Q99+(L99-#REF!)*M99)","v":{"$error":"#REF!"}},9.7284393190365215,12.71,0.23458384586652078,null,null,{"$f":"'Round B1'!K110","v":30},{"$f":"'Round B1'!L110","v":2.3543110808440879E-2},{"$f":"'Round B1'!M110","v":6.61208267055062E-8},{"$f":"'Round B1'!N110","v":-1.0317768311799215E-4},{"$f":"'Round B1'!O110","v":7.8692847877213645E-2},{"$f":"'Round B1'!P110","v":3.443179955734478},{"$f":"'Round B1'!Q110","v":0.6},{"$f":"'Round B1'!R110","v":50},"Flow = P3*a+P2*b+P*c+d+(g-|PrA|)*f"]
[null,"B29",-54.2,99.1,99.1,{"$f":"IF(OR(#REF!=\"\", E100=\"\"),\"\",E100^3*N100+E100^2*O100+E100*P100+Q100+(L100-#REF!)*M100)","v":{"$error":"#REF!"}},9.7229610602033372,12.75,0.23741481880758139,null,null,{"$f":"'Round B1'!K110","v":30},{"$f":"'Round B1'!L110","v":2.3543110808440879E-2},{"$f":"'Round B1'!M110","v":6.61208267055062E-8},{"$f":"'Round B1'!N110","v":-1.0317768311799215E-4},{"$f":"'Round B1'!O110","v":7.8692847877213645E-2},{"$f":"'Round B1'!P110","v":3.443179955734478},{"$f":"'Round B1'!Q110","v":0.6},{"$f":"'Round B1'!R110","v":50},"Flow = P3*a+P2*b+P*c+d+(g-|PrA|)*f"]

{"sheet":"340 table","index":5,"n_rows":163,"n_cols":14,"rows_kept":163,"cut":false,"hidden":true,"merged":[[1,2,1,3],[2,13,2,23],[3,0,11,0]]}
[]
[null,null,"Enter Pressures appearing on gauge",null,"Fan Pressure used in flow equations",null,"P conditions: PrB>=MF, PrB>=|PrA|*K2"]
["Device","Range","PrA,           Pa","PrB,          Pa ","P,                  Pa","CFM calculation","CFM displayed on DM32","N","K","K1","K2","K3","MF","Flow = (P-|PrA|)*K1)N*(K+P*K3)                                                                                                                                        Since K1 and K3 are 0 for 300 & 340 & 350 & 450 systems, this equation can be simplified to:  Flow = PN*K"]
[340,"Open",25,300,{"$f":"IF(OR(C4=\"\",D4=\"\", D4<0),\"---\",        IF(AND(C4>0, D4>=M4,D4>=ABS(C4)*K4),D4,\"---\"))","v":300},{"$f":"IF(OR(#REF!=\"\", E4=\"\"),\"\",(E4-#REF!*J4)^H4*(I4+E4*L4))","v":{"$error":"#REF!"}},{"$f":"IF(E4=\"---\",\"---\", (E4-ABS(C4)*J4)^H4*(I4+E4*L4))","v":503.60013781560741},0.501,28.91,0,0.4,0,20,"use when PrA is positive or when \"Set Pressure\" value of \"0\" Pa is entered"]
[null,"Open",-25,300,{"$f":"IF(OR(C5=\"\",D5=\"\", D5<0),\"---\",        IF(AND(C5<0, D5>=M5,D5>=ABS(C5)*K5),D5,\"---\"))","v":300},{"$f":"IF(OR(#REF!=\"\", E5=\"\"),\"\",(E5-#REF!*J5)^H5*(I5+E5*L5))","v":{"$error":"#REF!"}},518.70814195007563,0.501,29.7773,0,0.4,0,20,"use when PrA is negative"]
[null,102,25,300,{"$f":"IF(OR(C6=\"\",D6=\"\", D6<0),\"---\",        IF(AND(D6>=M6,D6>=ABS(C6)*K6),D6,\"---\"))","v":300},{"$f":"IF(OR(#REF!=\"\", E6=\"\"),\"\",(E6-#REF!*J6)^H6*(I6+E6*L6))","v":{"$error":"#REF!"}},309.66014867595442,0.59,10.7,0,0.4,0,100]
[null,74,25,300,300,{"$f":"IF(OR(#REF!=\"\", E7=\"\"),\"\",(E7-#REF!*J7)^H7*(I7+E7*L7))","v":{"$error":"#REF!"}},125.76982512573395,0.50449999999999995,7.0773192087114243,0,0.25,0,15]
[null,47,25,15,15,{"$f":"IF(OR(#REF!=\"\", E8=\"\"),\"\",(E8-#REF!*J8)^H8*(I8+E8*L8))","v":{"$error":"#REF!"}},12.552090929597904,0.5,3.2409359420275905,0,0.1,0,10]
[null,29,25,25,25,{"$f":"IF(OR(#REF!=\"\", E9=\"\"),\"\",(E9-#REF!*J9)^H9*(I9+E9*L9))","v":{"$error":"#REF!"}},5.9896857939955401,0.502,1.1902499077349771,0,0.2,0,20]
[null,18,25,35,35,{"$f":"IF(OR(#REF!=\"\", E10=\"\"),\"\",(E10-#REF!*J10)^H10*(I10+E10*L10))","v":{"$error":"#REF!"}},2.6940531170632043,0.499,0.45700000000000002,0,0.25,0,25]
[null,11,25,300,300,{"$f":"IF(OR(#REF!=\"\", E11=\"\"),\"\",(E11-#REF!*J11)^H11*(I11+E11*L11))","v":{"$error":"#REF!"}},3.2142639484993598,0.48,0.20799999999999999,0,0.25,0,25]
[null,7,25,250,250,{"$f":"IF(OR(#REF!=\"\", E12=\"\"),\"\",(E12-#REF!*J12)^H12*(I12+E12*L12))","v":{"$error":"#REF!"}},1.1352576800004481,0.5,7.1800000000000003E-2,0,0.11,0,25]
[]
[]
[null,null,"Flow in CFM, induced pressure of:",null,null,null,25]
[]
[null,null,"P (Pa)","Open",74,47,29]
[null,null,10,{"$f":"IF($G$15=\"\",\"\", IF(AND(C18>=$M$4,C18>=$G$15*$K$4,C18>0),(C18-$G$15*$J$4)^$H$4*($I$4+C18*$L$4),\"---\"))","v":"---"},{"$f":"IF($G$15=\"\",\"\", IF(AND(C18>=$M$7,C18>=$G$15*$K$7,C18>0),(C18-$G$15*$J$7)^$H$7*($I$7+C18*$L$7),\"---\"))","v":"---"},{"$f":"IF($G$15=\"\",\"\", IF(AND(C18>=$M$8,C18>=$G$15*$K$8,C18>0),(C18-$G$15*$J$8)^$H$8*($I$8+C18*$L$8),\"---\"))","v":10.248739327510611},{"$f":"IF($G$15=\"\",\"\", IF(AND(C18>=$M$9,C18>=$G$15*$K$9,C18>0),(C18-$G$15*$J$9)^$H$9*($I$9+C18*$L$9),\"---\"))","v":"---"}]
[null,null,12,"---","---",11.226931431335776,"---"]
[null,null,14,"---","---",12.126471907548696,"---"]
[null,null,16,"---",28.664694351738955,12.963743768110362,"---"]
[null,null,18,"---",30.419618480606118,13.750126691993524,"---"]
[null,null,20,129.67734776655371,32.080299698362168,14.49390615419202,5.3549474623502169]
[null,null,22,136.01971319033652,33.660535942878688,15.201337019064404,5.6173869662722371]
[null,null,24,142.08031908201897,35.17105174255709,15.877278694027838,5.8681904439197359]
[null,null,26,147.89372205337745,36.62037928813703,16.525595610702897,6.1087841117199142]
[null,null,28,153.48794283347257,38.015439070765694,17.149421035391704,6.340324535369259]
[null,null,30,158.88607631403406,39.361936560798732,17.751337228777668,6.563765038878671]
[null,null,32,164.10742491101223,40.664641519625661,18.333502255991366,6.779902455677564]
[null,null,34,169.16831716843757,41.927589792456416,18.897741572238019,6.989410898445751]
[null,null,36,174.0827122793022,43.15423236328995,19.445615652165543,7.192866699083817]
[null,null,38,178.86265522022171,44.347547601122585,19.978470903760329,7.3907671868345064]
[null,null,40,183.51862528587574,45.51012723416369,20.497478655021222,7.583545069109678]
[null,null,42,188.05980703912215,46.644243199223745,21.003665460431023,7.7715796117515046]
[null,null,44,192.49430379627086,47.751900323074565,21.497936978565075,7.9552054485812498]
[null,null,46,196.82930787694326,48.834878342119573,21.981097013002064,8.1347196071777716]
[null,null,48,201.07123786222127,49.894765785023104,22.453862862671553,8.310387173444429]
[null,null,50,205.22585035430458,50.932987565380941,22.916877819989207,8.4824459040790625]
[null,null,52,209.29833179891332,51.950827655501485,23.370721438949328,8.6511100163729946]
[null,null,54,213.29337455263041,52.949447872536823,23.815918041041758,8.8165733278810059]
[null,null,56,217.21524037848209,53.929903562012946,24.252943815097392,8.9790118772989871]
[null,null,58,221.06781381973374,54.893156783045534,24.682232785121435,9.1385861276346159]
[null,null,60,224.85464735683641,55.840087465158142,25.104181859195808,9.2954428302713055]
[null,null,62,228.57899984271643,56.771502905590317,25.519155126693136,9.4497166116213194]
[null,null,64,232.24386940030968,57.68814589921999,25.927487536220724,9.6015313312210324]
[null,null,66,235.85202172741782,58.590701734323474,26.329488059997171,9.7510012502676826]
[null,null,68,239.40601456906049,59.47980424178931,26.725442429680861,9.8982320419679208]
[null,null,70,242.90821897312651,60.35604104978669,27.115615512520431,10.043321669111387]
[null,null,72,246.36083783149391,61.219958167855218,27.500253383987047,10.186361149593827]
[null,null,74,{"$f":"IF($G$15=\"\",\"\", IF(AND(C50>=$M$4,C50>=$G$15*$K$4,C50>0),(C50-$G$15*$J$4)^$H$4*($I$4+C50*$L$4),\"---\"))","v":249.76592211868518},{"$f":"IF($G$15=\"\",\"\", IF(AND(C50>=$M$7,C50>=$G$15*$K$7,C50>0),(C50-$G$15*$J$7)^$H$7*($I$7+C50*$L$7),\"---\"))","v":62.072064002150334},{"$f":"IF($G$15=\"\",\"\", IF(AND(C50>=$M$8,C50>=$G$15*$K$8,C50>0),(C50-$G$15*$J$8)^$H$8*($I$8+C50*$L$8),\"---\"))","v":27.879585142970541},{"$f":"IF($G$15=\"\",\"\", IF(AND(C50>=$M$9,C50>=$G$15*$K$9,C50>0),(C50-$G$15*$J$9)^$H$9*($I$9+C50*$L$9),\"---\"))","v":10.327435226896155}]
[null,null,76,253.12538516817784,62.912832885824336,28.253824507574127,10.466622959557032]
[null,null,78,256.44101526866029,63.742708194251612,28.623171223074653,10.60399824129002]
[null,null,80,259.71448681574708,64.56210510326089,28.98781230838404,10.739630261466141]
[null,null,82,262.94737021661973,65.371413039146304,29.347923163092034,10.873583914112318]
[null,null,84,266.14114071392339,66.170997861541892,29.703668553688889,11.005920162291401]
[null,null,86,269.29718626965723,66.96120381392673,30.055203494703857,11.136696363673057]
[null,null,88,272.41681462862783,67.742355271299942,30.402674038128808,11.265966562231281]
[null,null,90,275.50125966347093,68.514758310229325,30.746217982531835,11.393781750279276]
[null,null,92,278.55168708858753,69.278702122855591,31.085965511626242,11.520190104447423]
[null,null,94,281.56919961805727,70.034460293401708,31.422039770687533,11.645237198703152]
[null,null,96,284.55484163226754,70.782291953186714,31.754557388055677,11.76896619708519]
[null,null,98,287.50960340927031,71.522442827987064,32.083628947984892,11.891418028464702]
[null,null,100,290.43442496948416,72.255146189762868,32.409359420275905,12.012631545340334]
[null,null,102,293.33019957606882,72.980623723211892,32.7318485514228,12.132643668414877]
[null,null,104,296.19777692793298,73.699086316288003,33.051191221405794,12.251489518479254]
[null,null,106,299.03796607772881,74.410734782683576,33.36747776974736,12.369202536939902]
[null,null,108,301.85153810324869,75.115760523300096,33.680794294007327,12.485814596162539]
[null,null,110,304.63922855722217,75.814346132889739,33.991222923512019,12.60135610066463]
[null,null,112,307.40173971757849,76.50666595732244,34.298842070783408,12.715856080067482]
[null,null,114,310.13974265768718,77.192886606304938,34.603726662849397,12.829342274613747]
[null,null,116,312.85387915386758,77.873167425828015,34.905948354368583,12.941841213964306]
[null,null,118,315.54476344554212,78.547660934143565,35.205575724286902,13.053378289909254]
[null,null,120,318.2129838617044,79.216513224654179,35.502674457555337,13.163977823557708]
[null,null,122,320.85910432591419,79.879864338734777,35.797307513272621,13.273663127510495]
[null,null,124,323.48366575071992,80.537848611184174,36.089535280472326,13.382456563466079]
[null,null,126,326.08718733128597,81.190594990723767,36.379415722646087,13.490379595663269]
[null,null,128,328.67016774698476,81.838227337712112,36.667004511982732,13.597452840522621]
[null,null,130,331.23308627883489,82.480864701023791,36.952355154203829,13.703696112811869]
[null,null,132,333.77640384987728,83.118621575849275,37.235519104788466,13.809128468628403]
[null,null,134,336.3005639948891,83.751608143997117,37.516545877302185,13.913768245462954]
[null,null,136,338.80599376521275,84.379930498130008,37.795483144476037,14.017633099583161]
[null,null,138,{"$f":"IF($G$15=\"\",\"\", IF(AND(C82>=$M$4,C82>=$G$15*$K$4,C82>0),(C82-$G$15*$J$4)^$H$4*($I$4+C82*$L$4),\"---\"))","v":341.29310457392972},{"$f":"IF($G$15=\"\",\"\", IF(AND(C82>=$M$7,C82>=$G$15*$K$7,C82>0),(C82-$G$15*$J$7)^$H$7*($I$7+C82*$L$7),\"---\"))","v":85.003690851227816},{"$f":"IF($G$15=\"\",\"\", IF(AND(C82>=$M$8,C82>=$G$15*$K$8,C82>0),(C82-$G$15*$J$8)^$H$8*($I$8+C82*$L$8),\"---\"))","v":38.072376832620058},{"$f":"IF($G$15=\"\",\"\", IF(AND(C82>=$M$9,C82>=$G$15*$K$9,C82>0),(C82-$G$15*$J$9)^$H$9*($I$9+C82*$L$9),\"---\"))","v":14.12074004095294}]
[null,null,140,343.76229298611719,85.622987732450454,38.347271209900676,14.223105465883439]
[null,null,142,346.21394145848694,86.237916170465013,38.620208968962473,14.324745187593011]
[null,null,144,348.64841903231257,86.848567865203364,38.891231304331086,14.425674464837639]
[null,null,146,351.0660819832039,87.455031348931499,39.160377984994412,14.525908028758726]
[null,null,148,353.46727443096563,88.057392137431805,39.427687422524379,14.62546010808197]
[null,null,150,355.85232891249785,88.655732872030683,39.693196735069598,14.724344452789552]
[null,null,152,358.22156692044092,89.250133453139782,39.956941807520657,14.82257435637708]
[null,null,154,360.5752994100331,89.840671165922885,40.218957348124341,14.920162676797471]
[null,null,156,362.91382727644685,90.427420798648726,40.479276941799462,15.017121856185147]
[null,null,158,365.23744180467583,91.010454754243256,40.737933100386307,15.113463939446321]
[null,null,160,367.54642509387963,91.589843155513321,40.994957310042444,15.209200591793991]
[null,null,162,369.84105045793615,92.16565394447484,41.250380075980573,15.304343115299989]
[null,null,164,372.12158280381152,92.737952976184474,41.504230964728251,15.398902464530623]
[null,null,166,374.38827898923097,93.306804107442403,41.756538644075377,15.492889261327097]
[null,null,168,376.64138816101917,93.87226928070416,42.007330920862046,15.586313808787304]
[null,null,170,378.88115207537152,94.434408603514868,42.256634776747966,15.679186104501097]
[null,null,172,381.10780540121857,94.993280423753504,42.504476402093431,15.771515853087012]
[null,null,174,383.32157600776975,95.548941400955655,42.7508812280726,15.863312478075326]
[null,null,176,385.52268523722302,96.101446573960047,42.995873957130151,15.954585133178279]
[null,null,178,387.71134816357539,96.650849425109783,43.239478591884932,16.045342712985885]
[null,null,180,389.88777383838175,97.197201941218268,43.481718462576062,16.135593863122622]
[null,null,182,392.05216552426435,97.740554671498998,43.722616253140437,16.22534698989789]
[null,null,184,394.20472091690704,98.280956782640388,43.962194026004127,16.314610269480685]
[null,null,186,396.34563235622159,98.818456111196838,44.200473245664298,16.403391656626919]
[null,null,188,398.47508702732512,99.353099213453447,44.437474801133085,16.491698892985738]
[null,null,190,400.59326715192532,99.884931412912437,44.673219027309756,16.579539515009337]
[null,null,192,402.70035017066141,100.41399684553788,44.907725725343106,16.66692086148927]
[null,null,194,404.79650891692398,100.94033850288702,45.141014182041765,16.753850080740538]
[null,null,196,406.88191178263213,101.46399827324773,45.373103188386267,16.840334137453311]
[null,null,198,408.95672287641867,101.98501698089341,45.604011057193212,16.926379819231062]
[null,null,200,411.02110217464406,102.50343442355958,45.833755639978413,17.011993742832189]
[null,null,202,{"$f":"IF($G$15=\"\",\"\", IF(AND(C114>=$M$4,C114>=$G$15*$K$4,C114>0),(C114-$G$15*$J$4)^$H$4*($I$4+C114*$L$4),\"---\"))","v":413.07520566563403},{"$f":"IF($G$15=\"\",\"\", IF(AND(C114>=$M$7,C114>=$G$15*$K$7,C114>0),(C114-$G$15*$J$7)^$H$7*($I$7+C114*$L$7),\"---\"))","v":103.0192894082401},{"$f":"IF($G$15=\"\",\"\", IF(AND(C114>=$M$8,C114>=$G$15*$K$8,C114>0),(C114-$G$15*$J$8)^$H$8*($I$8+C114*$L$8),\"---\"))","v":46.062354343063113},{"$f":"IF($G$15=\"\",\"\", IF(AND(C114>=$M$9,C114>=$G$15*$K$9,C114>0),(C114-$G$15*$J$9)^$H$9*($I$9+C114*$L$9),\"---\"))","v":17.097182360131793}]
[null,null,204,415.11918548750515,103.53261978539331,46.289824142964278,17.181951963818342]
[null,null,206,417.15319005992836,104.04346248164507,46.516181601107483,17.266308692839974]
[null,null,208,419.17736421014826,104.55185353106654,46.741442877898656,17.35025853761325]
[null,null,210,421.1918492935655,105.05782810510433,46.965623746188186,17.433807345007381]
[null,null,212,423.19678330916247,105.56142054123114,47.188739604159466,17.516960823115316]
[null,null,214,425.19230101004399,106.06266437038468,47.410805487671489,17.599724545822824]
[null,null,216,427.17853400933677,106.56159234325632,47.631836082083517,17.68210395718604]
[null,null,218,429.15561088169056,107.05823645548742,47.851845733588227,17.764104375626932]
[null,null,220,431.12365726059824,107.55262797182944,48.070848460077947,17.845730997956249]
[null,null,222,433.08279593174296,108.04479744931831,48.288857961567395,17.926988903232083]
[null,null,224,435.03314692257197,108.5347747595128,48.505887630194785,18.007883056462635]
[null,null,226,436.9748275882792,109.02258910984155,48.721950559821963,18.088418312160446]
[null,null,228,438.90795269437081,109.50826906410306,48.9370595552531,18.168599417755498]
[null,null,230,440.83263449598223,109.99184256215916,49.151227141090189,18.248431016873962]
[null,null,232,442.74898281409492,110.47333693885976,49.364465570242871,18.327917652488939]
[null,null,234,444.65710510880649,110.95277894223615,49.576786832108695,18.407063769949339]
[null,null,236,446.55710654978725,111.43019475099626,49.788202660439538,18.485873719892446]
[null,null,238,448.44909008405727,111.90560999135533,49.998724540908555,18.564351761045806]
[null,null,240,450.33315650120471,112.37904975323158,50.208363718391617,18.64250206292337]
[null,null,242,452.20940449616631,112.85053860583648,50.417131203976254,18.720328708420791]
[null,null,244,454.07793072967513,113.32010061268704,50.625037781710432,18.797835696314404]
[null,null,246,455.93882988648687,113.78775934606598,50.832094015102918,18.875026943668331]
[null,null,248,457.79219473147867,114.25353790095464,51.038310253386271,18.951906288153669]
[null,null,250,459.63811616371618,114.71745890846091,51.243696637553057,19.028477490283713]
[null,null,252,461.47668326858025,115.17954454876671,51.448263106175112,19.104744235568976]
[null,null,254,463.30798336803429,115.63981656361271,51.652019401015401,19.180710136595319]
[null,null,256,465.13210206911543,116.09829626834319,51.854975072441448,19.256378735028711]
[null,null,258,466.94912331072351,116.55500456352803,52.057139484648751,19.331753503549674]
[null,null,260,468.75912940878271,117.00996194618084,52.258521820702398,19.406837847720293]
[null,null,262,470.5622010998411,117.46318852058955,52.45913108740443,19.481635107786865]
[null,null,264,472.35841758317792,117.9147040087761,52.658976119994342,19.556148560420766]
[null,null,266,{"$f":"IF($G$15=\"\",\"\", IF(AND(C146>=$M$4,C146>=$G$15*$K$4,C146>0),(C146-$G$15*$J$4)^$H$4*($I$4+C146*$L$4),\"---\"))","v":474.14785656147745},{"$f":"IF($G$15=\"\",\"\", IF(AND(C146>=$M$7,C146>=$G$15*$K$7,C146>0),(C146-$G$15*$J$7)^$H$7*($I$7+C146*$L$7),\"---\"))","v":118.36452776060081},{"$f":"IF($G$15=\"\",\"\", IF(AND(C146>=$M$8,C146>=$G$15*$K$8,C146>0),(C146-$G$15*$J$8)^$H$8*($I$8+C146*$L$8),\"---\"))","v":52.858065586689669},{"$f":"IF($G$15=\"\",\"\", IF(AND(C146>=$M$9,C146>=$G$15*$K$9,C146>0),(C146-$G$15*$J$9)^$H$9*($I$9+C146*$L$9),\"---\"))","v":19.630381420400006}]
[null,null,268,475.93059428012793,118.81267876352553,53.056407993073179,19.704336842234106]
[null,null,270,477.70670556520668,119.2591756520499,53.254011686332994,19.778017921734552]
[null,null,272,479.47626386019863,119.7040367168341,53.450884859361722,19.851427697532873]
[null,null,274,481.2393412615034,120.14727991352042,53.647035554720048,19.924569152548809]
[null,null,276,482.99600855277981,120.58892287126599,53.842471668470509,19.997445215410181]
[null,null,278,484.74633523817073,121.02898290099797,54.037200953886398,20.070058761826669]
[null,null,280,486.49038957445401,121.46747700340221,54.231231025040863,20.142412615919149]
[null,null,282,488.22823860216528,121.90442187665582,54.424569360280714,20.214509551506492]
[null,null,284,489.95994817572546,122.33983392391367,54.617223305589782,20.286352293351211]
[null,null,286,491.68558299261804,122.77372926055835,54.809200077845617,20.357943518365925]
[null,null,288,493.40520662164971,123.2061237212225,55.000506767974095,20.429285856781799]
[null,null,290,495.11888153032709,123.63703286659208,55.191150344005493,20.500381893280569]
[null,null,292,496.82666911138932,124.06647198999974,55.381137654035861,20.571234168091554]
[null,null,294,498.52862970852101,124.49445612381459,55.570475429097442,20.64184517805489]
[null,null,296,500.22482264128212,124.92100004563756,55.759170285941082,20.712217377652319]
[null,null,298,501.9153062292786,125.34611828430891,55.947228729734476,20.782353180006659]
[null,null,300,503.60013781560741,125.76982512573395,56.134657156678891,20.852254957851137]

{"sheet":"450 table","index":6,"n_rows":209,"n_cols":15,"rows_kept":209,"cut":false,"hidden":true,"merged":[[1,2,1,3],[2,13,2,23],[3,0,12,0]]}
[]
[null,null,"Enter Pressures appearing on gauge",null,"Fan Pressure used in flow equations",null,"P conditions: PrB>=MF, PrB>=|PrA|*K2"]
["Device","Range","PrA,           Pa","PrB,          Pa ","P,                  Pa","CFM calculation","CFM displayed on DM32","N","K","K1","K2","K3","MF","Flow = (P-|PrA|)*K1)N*(K+P*K3)                                                                                                                                        Since K1 and K3 are 0 for 300 & 340 & 350 & 450 systems, this equation can be simplified to:  Flow = PN*K"]
[450,{"$f":"'Round B1'!B48","v":74},25,300,{"$f":"IF(OR(C4=\"\",D4=\"\", D4<0),\"---\",        IF(AND(C4>0, D4>=M4,D4>=ABS(C4)*K4),D4,\"---\"))","v":300},{"$f":"IF(OR(#REF!=\"\", E4=\"\"),\"\",(E4-#REF!*J4)^H4*(I4+E4*L4))","v":{"$error":"#REF!"}},{"$f":"IF(E4=\"---\",\"---\", (E4-ABS(C4)*J4)^H4*(I4+E4*L4))","v":125.43833439760898},{"$f":"'Round B1'!I48","v":0.504},{"$f":"'Round B1'!J48","v":7.0788248423279603},{"$f":"'Round B1'!K48","v":0},{"$f":"'Round B1'!L48","v":0.15},{"$f":"'Round B1'!M48","v":0},{"$f":"'Round B1'!N48","v":250},"use when PrA is positive or when \"Set Pressure\" value of \"0\" Pa is entered"]
[null,{"$f":"'Round B1'!#REF!","v":{"$error":"#REF!"}},-25,300,{"$f":"IF(OR(C5=\"\",D5=\"\", D5<0),\"---\",        IF(AND(C5<0, D5>=M5,D5>=ABS(C5)*K5),D5,\"---\"))","v":{"$error":"#REF!"}},{"$f":"IF(OR(#REF!=\"\", E5=\"\"),\"\",(E5-#REF!*J5)^H5*(I5+E5*L5))","v":{"$error":"#REF!"}},{"$f":"IF(E5=\"---\",\"---\", (E5-ABS(C5)*J5)^H5*(I5+E5*L5))","v":{"$error":"#REF!"}},{"$f":"'Round B1'!#REF!","v":{"$error":"#REF!"}},{"$f":"'Round B1'!#REF!","v":{"$error":"#REF!"}},{"$f":"'Round B1'!#REF!","v":{"$error":"#REF!"}},{"$f":"'Round B1'!#REF!","v":{"$error":"#REF!"}},{"$f":"'Round B1'!#REF!","v":{"$error":"#REF!"}},{"$f":"'Round B1'!#REF!","v":{"$error":"#REF!"}},"use when PrA is negative"]
[null,{"$f":"'Round B1'!B49","v":47},25,300,{"$f":"IF(OR(C6=\"\",D6=\"\", D6<0),\"---\",        IF(AND(D6>=M6,D6>=ABS(C6)*K6),D6,\"---\"))","v":300},{"$f":"IF(OR(#REF!=\"\", E6=\"\"),\"\",(E6-#REF!*J6)^H6*(I6+E6*L6))","v":{"$error":"#REF!"}},52.964185114570739,{"$f":"'Round B1'!I49","v":0.4975},{"$f":"'Round B1'!J49","v":3.1018048490120855},{"$f":"'Round B1'!K49","v":0},{"$f":"'Round B1'!L49","v":0.12},{"$f":"'Round B1'!M49","v":0},{"$f":"'Round B1'!N49","v":250}]
[null,{"$f":"'Round B1'!B50","v":29},25,300,300,{"$f":"IF(OR(#REF!=\"\", E7=\"\"),\"\",(E7-#REF!*J7)^H7*(I7+E7*L7))","v":{"$error":"#REF!"}},19.065950468408541,{"$f":"'Round B1'!I50","v":0.49},{"$f":"'Round B1'!J50","v":1.1653839850178234},{"$f":"'Round B1'!K50","v":0},{"$f":"'Round B1'!L50","v":0.15},{"$f":"'Round B1'!M50","v":0},{"$f":"'Round B1'!N50","v":250}]
[null,{"$f":"'Round B1'!B51","v":18},25,15,"---",{"$f":"IF(OR(#REF!=\"\", E8=\"\"),\"\",(E8-#REF!*J8)^H8*(I8+E8*L8))","v":{"$error":"#REF!"}},"---",{"$f":"'Round B1'!I51","v":0.5},{"$f":"'Round B1'!J51","v":0.42377599455193576},{"$f":"'Round B1'!K51","v":0},{"$f":"'Round B1'!L51","v":0.15},{"$f":"'Round B1'!M51","v":0},{"$f":"'Round B1'!N51","v":250}]
[null,{"$f":"'Round B1'!B52","v":11},25,25,"---",{"$f":"IF(OR(#REF!=\"\", E9=\"\"),\"\",(E9-#REF!*J9)^H9*(I9+E9*L9))","v":{"$error":"#REF!"}},"---",{"$f":"'Round B1'!I52","v":0.5},{"$f":"'Round B1'!J52","v":0.17539617552288453},{"$f":"'Round B1'!K52","v":0},{"$f":"'Round B1'!L52","v":0.14000000000000001},{"$f":"'Round B1'!M52","v":0},{"$f":"'Round B1'!N52","v":250}]
[null,{"$f":"'Round B1'!B53","v":7},25,35,"---",{"$f":"IF(OR(#REF!=\"\", E10=\"\"),\"\",(E10-#REF!*J10)^H10*(I10+E10*L10))","v":{"$error":"#REF!"}},"---",{"$f":"'Round B1'!I53","v":0.5},{"$f":"'Round B1'!J53","v":6.1800665872157302E-2},{"$f":"'Round B1'!K53","v":0},{"$f":"'Round B1'!L53","v":0.08},{"$f":"'Round B1'!M53","v":0},{"$f":"'Round B1'!N53","v":250}]
[null,{"$f":"'Round B1'!B54","v":3},25,300,300,{"$f":"IF(OR(#REF!=\"\", E11=\"\"),\"\",(E11-#REF!*J11)^H11*(I11+E11*L11))","v":{"$error":"#REF!"}},0.27447770115593517,{"$f":"'Round B1'!I54","v":0.51300000000000001},{"$f":"'Round B1'!J54","v":1.4714444255275549E-2},{"$f":"'Round B1'!K54","v":0},{"$f":"'Round B1'!L54","v":0.1},{"$f":"'Round B1'!M54","v":0},{"$f":"'Round B1'!N54","v":250}]
[null,{"$f":"'Round B1'!#REF!","v":{"$error":"#REF!"}},25,250,{"$error":"#REF!"},{"$f":"IF(OR(#REF!=\"\", E12=\"\"),\"\",(E12-#REF!*J12)^H12*(I12+E12*L12))","v":{"$error":"#REF!"}},{"$error":"#REF!"},{"$f":"'Round B1'!#REF!","v":{"$error":"#REF!"}},{"$f":"'Round B1'!#REF!","v":{"$error":"#REF!"}},{"$f":"'Round B1'!#REF!","v":{"$error":"#REF!"}},{"$f":"'Round B1'!#REF!","v":{"$error":"#REF!"}},{"$f":"'Round B1'!#REF!","v":{"$error":"#REF!"}},{"$f":"'Round B1'!#REF!","v":{"$error":"#REF!"}}]
[null,{"$f":"'Round B1'!#REF!","v":{"$error":"#REF!"}},null,null,null,null,null,{"$f":"'Round B1'!#REF!","v":{"$error":"#REF!"}},{"$f":"'Round B1'!#REF!","v":{"$error":"#REF!"}},{"$f":"'Round B1'!#REF!","v":{"$error":"#REF!"}},{"$f":"'Round B1'!#REF!","v":{"$error":"#REF!"}},{"$f":"'Round B1'!#REF!","v":{"$error":"#REF!"}},{"$f":"'Round B1'!#REF!","v":{"$error":"#REF!"}}]
[]
[null,null,"Flow in CFM, induced pressure of:",null,null,null,250]
[]
[null,null,"P (Pa)","P (in WC)",{"$f":"B4","v":74},{"$f":"B5","v":{"$error":"#REF!"}},{"$f":"B5&\"*\"","v":{"$error":"#REF!"}},{"$f":"B6","v":47},{"$f":"B7","v":29},{"$f":"B8","v":18},{"$f":"B9","v":11},{"$f":"B10","v":7},{"$f":"B11","v":3},{"$f":"B12","v":{"$error":"#REF!"}},{"$f":"B13","v":{"$error":"#REF!"}}]
[null,null,246,{"$f":"C18/249.174","v":0.98726191336174718},{"$f":"IF($G$15=\"\",\"\", IF(AND(C18>=$M$4,C18>=$G$15*$K$4,C18>0),(C18-$G$15*$J$4)^$H$4*($I$4+C18*$L$4),\"---\"))","v":"---"},{"$f":"IF($G$15=\"\",\"\", IF(AND(C18>=$M$5,C18>=$G$15*$K$5,C18>0),(C18-$G$15*$J$5)^$H$5*($I$5+C18*$L$5),\"---\"))","v":{"$error":"#REF!"}},{"$f":"IF($G$15=\"\",\"\", IF(AND(C18>=$M$5,C18>=$G$15*$K$5,C18>0),(C18-$G$15*$J$5)^$H$5*($I$5+C18*$L$5),\"---\"))","v":{"$error":"#REF!"}},{"$f":"IF($G$15=\"\",\"\", IF(AND(C18>=$M$6,C18>=$G$15*$K$6,C18>0),(C18-$G$15*$J$6)^$H$6*($I$6+C18*$L$6),\"---\"))","v":"---"},{"$f":"IF($G$15=\"\",\"\", IF(AND(C18>=$M$7,C18>=$G$15*$K$7,C18>0),(C18-$G$15*$J$7)^$H$7*($I$7+C18*$L$7),\"---\"))","v":"---"},{"$f":"IF($G$15=\"\",\"\", IF(AND(C18>=$M$8,C18>=$G$15*$K$8,C18>0),(C18-$G$15*$J$8)^$H$8*($I$8+C18*$L$8),\"---\"))","v":"---"},{"$f":"IF($G$15=\"\",\"\", IF(AND(C18>=$M$9,C18>=$G$15*$K$9,C18>0),(C18-$G$15*$J$9)^$H$9*($I$9+C18*$L$9),\"---\"))","v":"---"},{"$f":"IF($G$15=\"\",\"\", IF(AND(C18>=$M$10,C18>=$G$15*$K$10,C18>0),(C18-$G$15*$J$10)^$H$10*($I$10+C18*$L$10),\"---\"))","v":"---"},{"$f":"IF($G$15=\"\",\"\", IF(AND(C18>=$M$11,C18>=$G$15*$K$11,C18>0),(C18-$G$15*$J$11)^$H$11*($I$11+C18*$L$11),\"---\"))","v":"---"},{"$f":"IF($G$15=\"\",\"\", IF(AND(C18>=$M$12,C18>=$G$15*$K$12,C18>0),(C18-$G$15*$J$12)^$H$12*($I$12+C18*$L$12),\"---\"))","v":{"$error":"#REF!"}},{"$f":"IF($G$15=\"\",\"\", IF(AND(C18>=$M$13,C18>=$G$15*$K$13,C18>0),(C18-$G$15*$J$13)^$H$13*($I$13+C18*$L$13),\"---\"))","v":{"$error":"#REF!"}}]
[null,null,248,{"$f":"C19/249.174","v":0.99528843298257441},{"$f":"IF($G$15=\"\",\"\", IF(AND(C19>=$M$4,C19>=$G$15*$K$4,C19>0),(C19-$G$15*$J$4)^$H$4*($I$4+C19*$L$4),\"---\"))","v":"---"},{"$error":"#REF!"},{"$f":"IF($G$15=\"\",\"\", IF(AND(C19>=$M$5,C19>=$G$15*$K$5,C19>0),(C19-$G$15*$J$5)^$H$5*($I$5+C19*$L$5),\"---\"))","v":{"$error":"#REF!"}},{"$f":"IF($G$15=\"\",\"\", IF(AND(C19>=$M$6,C19>=$G$15*$K$6,C19>0),(C19-$G$15*$J$6)^$H$6*($I$6+C19*$L$6),\"---\"))","v":"---"},{"$f":"IF($G$15=\"\",\"\", IF(AND(C19>=$M$7,C19>=$G$15*$K$7,C19>0),(C19-$G$15*$J$7)^$H$7*($I$7+C19*$L$7),\"---\"))","v":"---"},{"$f":"IF($G$15=\"\",\"\", IF(AND(C19>=$M$8,C19>=$G$15*$K$8,C19>0),(C19-$G$15*$J$8)^$H$8*($I$8+C19*$L$8),\"---\"))","v":"---"},{"$f":"IF($G$15=\"\",\"\", IF(AND(C19>=$M$9,C19>=$G$15*$K$9,C19>0),(C19-$G$15*$J$9)^$H$9*($I$9+C19*$L$9),\"---\"))","v":"---"},{"$f":"IF($G$15=\"\",\"\", IF(AND(C19>=$M$10,C19>=$G$15*$K$10,C19>0),(C19-$G$15*$J$10)^$H$10*($I$10+C19*$L$10),\"---\"))","v":"---"},{"$f":"IF($G$15=\"\",\"\", IF(AND(C19>=$M$11,C19>=$G$15*$K$11,C19>0),(C19-$G$15*$J$11)^$H$11*($I$11+C19*$L$11),\"---\"))","v":"---"},{"$f":"IF($G$15=\"\",\"\", IF(AND(C19>=$M$12,C19>=$G$15*$K$12,C19>0),(C19-$G$15*$J$12)^$H$12*($I$12+C19*$L$12),\"---\"))","v":{"$error":"#REF!"}},{"$f":"IF($G$15=\"\",\"\", IF(AND(C19>=$M$13,C19>=$G$15*$K$13,C19>0),(C19-$G$15*$J$13)^$H$13*($I$13+C19*$L$13),\"---\"))","v":{"$error":"#REF!"}}]
[null,null,250,1.0033149526034015,114.4255294765717,{"$error":"#REF!"},{"$error":"#REF!"},48.371507776054202,17.436513479649058,6.7004868024361164,2.7732570376749481,0.97715432535526703,0.24996953854288642,{"$error":"#REF!"},{"$error":"#REF!"}]
[null,null,275,1.1036464478637418,120.05626938642064,{"$error":"#REF!"},{"$error":"#REF!"},50.72037849392801,18.270148006812263,7.0275298454423254,2.9086165193636293,1.0248481024603393,0.2624953025567367,{"$error":"#REF!"},{"$error":"#REF!"}]
[null,null,300,1.203977943124082,125.43833439760898,{"$error":"#REF!"},{"$error":"#REF!"},52.964185114570739,19.065950468408541,7.3400155359198456,3.0379508745890473,1.0704189323216442,0.27447770115593517,{"$error":"#REF!"},{"$error":"#REF!"}]
[null,null,325,1.304309438384422,130.6021661833623,{"$error":"#REF!"},{"$error":"#REF!"},55.115841514672063,19.8285927226657,7.6397303883387631,3.1619995218402104,1.114127348299403,0.28598287525082711,{"$error":"#REF!"},{"$error":"#REF!"}]
[null,null,350,1.4046409336447623,135.57245505601034,{"$error":"#REF!"},{"$error":"#REF!"},57.185816010271225,20.56185950364992,7.9281229017636203,3.2813619787854984,1.1561845898405281,0.29706451041364396,{"$error":"#REF!"},{"$error":"#REF!"}]
[null,null,375,1.5049724289051025,140.36955569453048,{"$error":"#REF!"},{"$error":"#REF!"},59.182734320010383,21.268867553627459,8.2063868471106609,3.3965323339430236,1.1967647485369715,0.30776689594030093,{"$error":"#REF!"},{"$error":"#REF!"}]
[null,null,400,1.6053039241654425,145.01048395566642,{"$error":"#REF!"},{"$error":"#REF!"},61.113803892681453,21.952219743349186,8.4755198910387151,3.5079235104576907,1.236013317443146,0.31812708026061709,{"$error":"#REF!"},{"$error":"#REF!"}]
[null,null,425,1.7056354194257828,149.50963700795268,{"$error":"#REF!"},{"$error":"#REF!"},62.985120312005769,22.61411630059154,8.7363659356940282,3.6158847900511391,1.2740533656220459,0.32817642911184097,{"$error":"#REF!"},{"$error":"#REF!"}]
[null,null,450,1.8059669146861228,153.87932524323108,{"$error":"#REF!"},{"$error":"#REF!"},64.801893515984673,23.256436888595466,8.989646383552417,3.720714753192528,1.3109900976013942,0.33794177715417356,{"$error":"#REF!"},{"$error":"#REF!"}]
[null,null,475,1.906298409946463,158.13017282118841,{"$error":"#REF!"},{"$error":"#REF!"},66.568618076153669,23.880802358493938,9.2359836747516564,3.8226710209388797,1.3469142859012833,0.34744629566631491,{"$error":"#REF!"},{"$error":"#REF!"}]
[null,null,500,2.0066299052068031,162.27142445454638,{"$error":"#REF!"},{"$error":"#REF!"},68.289203567313223,24.488622007229637,9.4759193105070896,3.9219777146265455,1.3819048994489507,0.35671015748830326,{"$error":"#REF!"},{"$error":"#REF!"}]
[null,null,525,2.1069614004671435,166.3111839436605,{"$error":"#REF!"},{"$error":"#REF!"},69.967075896780202,25.081130293039998,9.709927863697196,4.0188312546968952,1.4160311467891744,0.3657510542963483,{"$error":"#REF!"},{"$error":"#REF!"}]
[null,null,550,2.2072928957274836,170.25660215120115,{"$error":"#REF!"},{"$error":"#REF!"},71.605257128198744,25.659415747142258,9.9384280174062383,4.113404929426471,1.4493540858717431,0.3745846044312664,{"$error":"#REF!"},{"$error":"#REF!"}]
[null,null,575,2.3076243909878236,174.1140269306014,{"$error":"#REF!"},{"$error":"#REF!"},73.206429128032823,26.224444017358792,10.161791367476864,4.2058525382057024,1.4819279077570429,0.38322467833008483,{"$error":"#REF!"},{"$error":"#REF!"}]
[null,null,600,2.407955886248164,177.88912401819704,{"$error":"#REF!"},{"$error":"#REF!"},74.772984869747702,26.777076436430836,10.380349518927066,4.296311328667036,1.5138009715101972,0.39168366104561658,{"$error":"#REF!"},{"$error":"#REF!"}]
[null,null,625,2.5082873815085041,181.586975480738,{"$error":"#REF!"},{"$error":"#REF!"},76.307070200492007,27.318085133265814,10.594399863798394,4.3849043880721128,1.5450166468039326,0.39997266611534726,{"$error":"#REF!"},{"$error":"#REF!"}]
[null,null,650,2.6086188767688441,185.21216061108797,{"$error":"#REF!"},{"$error":"#REF!"},77.810618151589864,27.848165442443594,10.804210328062551,4.4717426080036669,1.5756140061757888,0.40810171136983692,{"$error":"#REF!"},{"$error":"#REF!"}]
[null,null,675,2.7089503720291845,188.76882295212826,{"$error":"#REF!"},{"$error":"#REF!"},79.285377357798183,28.367946179730669,11.010023303879768,4.5569263118835703,1.6056283984824662,0.4160798646489669,{"$error":"#REF!"},{"$error":"#REF!"}]
[null,null,700,2.8092818672895246,192.26072625028226,{"$error":"#REF!"},{"$error":"#REF!"},80.732935776327949,28.877998215545777,11.212058931834848,4.6405466134538678,1.6350919275592488,0.42391536549424974,{"$error":"#REF!"},{"$error":"#REF!"}]
[null,null,725,2.9096133625498646,195.69130149499145,{"$error":"#REF!"},{"$error":"#REF!"},82.154740622132934,29.37884167866785,11.410517859847539,4.7226865586591202,1.6640338545610995,0.43161572748977522,{"$error":"#REF!"},{"$error":"#REF!"}]
[null,null,750,3.009944857810205,199.06368672095118,{"$error":"#REF!"},{"$error":"#REF!"},83.552115231978107,29.870952048442227,11.605583577264081,4.8034220917009671,1.6924809383510118,0.43918782488657432,{"$error":"#REF!"},{"$error":"#REF!"}]
[null,null,775,3.1102763530705451,202.38076088939602,{"$error":"#REF!"},{"$error":"#REF!"},84.926273416471631,30.35476533810812,11.797424401445587,4.8828228772649789,1.7204577252108149,0.44663796636463954,{"$error":"#REF!"},{"$error":"#REF!"}]
[null,null,800,3.2106078483308851,205.64517289078441,{"$error":"#REF!"},{"$error":"#REF!"},86.2783317427659,30.830682529621249,11.986195178069888,4.9609530042567043,1.7479867968018588,0.45397195819357639,{"$error":"#REF!"},{"$error":"#REF!"}]
[null,null,825,3.3109393435912251,208.85936650105489,{"$error":"#REF!"},{"$error":"#REF!"},87.609320101286798,31.299073387945175,12.172038744012767,5.0378715912719505,1.775088983501862,0.46119515859752391,{"$error":"#REF!"},{"$error":"#REF!"}]
[null,null,850,3.4112708388515656,212.02560196088089,{"$error":"#REF!"},{"$error":"#REF!"},88.920190840682096,31.760279757708897,12.355087192112808,5.113633310068912,1.8017835488497846,0.46831252477729213,{"$error":"#REF!"},{"$error":"#REF!"}]
[null,null,875,3.5116023341119056,215.14597472026296,{"$error":"#REF!"},{"$error":"#REF!"},90.211826701180101,32.214618425556075,12.535462969658202,5.1882888402196441,1.828088349741821,0.47532865376718852,{"$error":"#REF!"},{"$error":"#REF!"}]
[null,null,900,3.6119338293722456,218.22243179076682,{"$error":"#REF!"},{"$error":"#REF!"},91.485047734052998,32.662383616112038,12.713279836558073,5.2618852656865363,1.8540199761647191,0.48224781808708467,{"$error":"#REF!"},{"$error":"#REF!"}]
[null,null,925,3.7122653246325861,221.25678606838304,{"$error":"#REF!"},{"$error":"#REF!"},92.740617361183979,33.103849177288026,12.888643704501888,5.3344664221410589,1.8795938735731921,0.48907399697821563,{"$error":"#REF!"},{"$error":"#REF!"}]
[null,null,950,3.8125968198929261,224.25072892663906,{"$error":"#REF!"},{"$error":"#REF!"},93.979247701838133,33.539270500898681,13.061653374690287,5.4060732023023688,1.9048244504756671,0.49581090387377424,{"$error":"#REF!"},{"$error":"#REF!"}]
[null,null,975,3.9129283151532661,227.20584132866495,{"$error":"#REF!"},{"$error":"#REF!"},95.201604272112462,33.968886216739193,13.232401188730647,5.4767438253357401,1.9297251733565526,0.50246201064483098,{"$error":"#REF!"},{"$error":"#REF!"}]
[null,null,1000,4.0132598104136061,{"$f":"IF($G$15=\"\",\"\", IF(AND(C50>=$M$4,C50>=$G$15*$K$4,C50>0),(C50-$G$15*$J$4)^$H$4*($I$4+C50*$L$4),\"---\"))","v":230.12360366572696},{"$f":"IF($G$15=\"\",\"\", IF(AND(C50>=$M$5,C50>=$G$15*$K$5,C50>0),(C50-$G$15*$J$5)^$H$5*($I$5+C50*$L$5),\"---\"))","v":{"$error":"#REF!"}},{"$error":"#REF!"},96.408310145058607,34.392919691938403,13.400973604872233,5.5465140753498963,1.9543086507105341,0.50903056907271782,{"$error":"#REF!"},{"$error":"#REF!"}]
[null,null,1025,4.113591305673947,233.00540449622829,{"$error":"#REF!"},{"$error":"#REF!"},97.599949645245019,34.811580362255519,13.567451709788553,5.6154175132180404,1.9785867076774974,0.51551962992623479,{"$error":"#REF!"},{"$error":"#REF!"}]
[null,null,1050,4.2139228009342871,235.85254833175577,{"$error":"#REF!"},{"$error":"#REF!"},98.777071639891616,35.225064917777068,13.731911674504987,5.6834856652812311,2.0025704525319776,0.52193205996249659,{"$error":"#REF!"},{"$error":"#REF!"}]
[null,null,1075,4.3142542961946271,238.66626259420462,{"$error":"#REF!"},{"$error":"#REF!"},99.940192479142823,35.633558362009943,13.894425161746291,5.750748191944993,2.0262703360880008,0.52827055712125359,{"$error":"#REF!"},{"$error":"#REF!"}]
[null,null,1100,4.4145857914549671,241.44770384936788,{"$error":"#REF!"},{"$error":"#REF!"},101.08979863013592,36.037234960504804,14.055059690884651,5.8172330387272586,2.0496962049206786,0.53453766414201087,{"$error":"#REF!"},{"$error":"#REF!"}]
[null,null,1125,4.5149172867153071,244.19796340690087,{"$error":"#REF!"},{"$error":"#REF!"},102.22634904295757,36.436259092770278,14.213878965760633,5.8829665719398179,2.0728573491734257,0.54073578079964013,{"$error":"#REF!"},{"$error":"#REF!"}]
[null,null,1150,4.6152487819756471,246.91807236365736,{"$error":"#REF!"},{"$error":"#REF!"},103.35027728110492,36.830786019257523,14.370943169891621,5.9479737008718105,2.0957625456091948,0.54686717492609893,{"$error":"#REF!"},{"$error":"#REF!"}]
[null,null,1175,4.7155802772359872,249.60900615657053,{"$error":"#REF!"},{"$error":"#REF!"},104.46199344447835,37.220962573536546,14.526309232947531,6.0122779880810615,2.1184200964715152,0.55293399236235063,{"$error":"#REF!"},{"$error":"#REF!"}]
[null,null,1200,4.8159117724963281,252.27168868215367,{"$error":"#REF!"},{"$error":"#REF!"},105.56188590907635,37.60692778838996,14.680031071839691,6.0759017491780947,2.1408378646432884,0.55893826596477969,{"$error":"#REF!"},{"$error":"#REF!"}]
[null,null,1225,4.9162432677566681,254.90699603200366,{"$error":"#REF!"},{"$error":"#REF!"},106.6503229043025,37.988813463372928,14.832159809317751,6.1388661433009588,2.1630233055255057,0.56488192377368651,{"$error":"#REF!"},{"$error":"#REF!"}]
[null,null,1250,5.0165747630170081,257.51575988717883,{"$error":"#REF!"},{"$error":"#REF!"},107.72765394603405,38.366744680389523,14.982743972587361,6.2011912553208797,2.1849834960023236,0.57076679643725459,{"$error":"#REF!"},{"$error":"#REF!"}]
[null,null,1275,5.1169062582773481,260.09877060877295,{"$error":"#REF!"},{"$error":"#REF!"},108.79421114125107,38.740840272986794,15.131829674136069,6.2628961706840949,2.2067251608115099,0.57659462397232975,{"$error":"#REF!"},{"$error":"#REF!"}]
[null,null,1300,5.2172377535376881,262.6567800572779,{"$error":"#REF!"},{"$error":"#REF!"},109.85031037802079,39.111213254343888,15.279460776677526,6.3239990436804208,2.2282546965988059,0.5823670619330481,{"$error":"#REF!"},{"$error":"#REF!"}]
[null,null,1325,5.3175692487980282,265.19050416927411,{"$error":"#REF!"},{"$error":"#REF!"},110.89625241291357,39.477971208312646,15.425679043886174,6.3845171598306667,2.2495781939000672,0.58808568704952047,{"$error":"#REF!"},{"$error":"#REF!"}]
[null,null,1350,5.4179007440583691,267.70062531650052,{"$error":"#REF!"},{"$error":"#REF!"},111.93232386645253,39.841216647334036,15.5705242783906,6.444466993000554,2.2707014572652962,0.59375200239120729,{"$error":"#REF!"},{"$error":"#REF!"}]
[null,null,1375,5.5182322393187091,270.18779446936242,{"$error":"#REF!"},{"$error":"#REF!"},112.95879813592731,40.201047340594933,15.71403444831763,6.5038642577759083,2.2916300237129876,0.59936744210307724,{"$error":"#REF!"},{"$error":"#REF!"}]
[null,null,1400,5.6185637345790491,272.65263318433398,{"$error":"#REF!"},{"$error":"#REF!"},113.97593623380355,40.557556615394283,15.856245803527241,6.5627239575709968,2.3123691796810562,0.60493337575699069,{"$error":"#REF!"},{"$error":"#REF!"}]
[null,null,1425,5.7188952298393891,275.095735432467,{"$error":"#REF!"},{"$error":"#REF!"},114.98398755900919,40.910833634342808,15.99719298254657,6.6210604288873309,2.332923976621375,0.61045111235586158,{"$error":"#REF!"},{"$error":"#REF!"}]
[null,null,1450,5.8192267250997292,277.51766928426696,{"$error":"#REF!"},{"$error":"#REF!"},115.98319060754946,41.260963650722957,16.136909111096813,6.6788873820928476,2.3532992453682855,0.61592190402388425,{"$error":"#REF!"},{"$error":"#REF!"}]
[null,null,1475,5.9195582203600692,279.91897846449075,{"$error":"#REF!"},{"$error":"#REF!"},116.97377362818423,41.608028244075285,16.275425893006958,6.7362179390501025,2.3734996093968483,0.62134694941241175,{"$error":"#REF!"},{"$error":"#REF!"}]
[null,null,1500,6.0198897156204101,282.30018378893425,{"$error":"#REF!"},{"$error":"#REF!"},117.95595522827003,41.95210553785013,16.412773694221322,6.7930646678860471,2.3935294970739429,0.62672739684782497,{"$error":"#REF!"},{"$error":"#REF!"}]
[null,null,1525,6.1202212108807501,284.66178449397933,{"$error":"#REF!"},{"$error":"#REF!"},118.92994493431934,42.293270400765223,16.548981620531382,6.8494396151643775,2.4133931529941601,0.6320643472448978,{"$error":"#REF!"},{"$error":"#REF!"}]
[null,null,1550,6.2205527061410901,287.0042594685242,null,{"$error":"#REF!"},119.89594371134606,42.631594633335332,16.684077589595642,6.9053543356937519,2.4330946484826979,0.63735885680667459,{"$error":"#REF!"},{"$error":"#REF!"}]
[null,null,1575,6.3208842014014301,289.32806839691995,null,{"$error":"#REF!"},120.85414444464118,42.967147140886354,16.818088397752273,6.9608199201808016,2.4526378913388731,0.64261193952968509,{"$error":"#REF!"},{"$error":"#REF!"}]
[null,null,1600,6.4212156966617702,291.63365282064541,null,{"$error":"#REF!"},121.80473238724709,43.299994094231572,16.95103978207743,7.0158470209153814,2.472026634886292,0.64782456953138412,{"$error":"#REF!"},{"$error":"#REF!"}]
[null,null,1625,6.5215471919221102,293.92143712567412,null,{"$error":"#REF!"},122.74788557606934,43.630199079068234,17.082956478096339,7.0704458756565405,2.4912644863890496,0.65299768321500862,{"$error":"#REF!"},{"$error":"#REF!"}]
[null,null,1650,6.6218786871824502,296.19182946179512,null,{"$error":"#REF!"},123.6837752192705,43.95782323504713,17.21386227351363,7.1246263298709192,2.5103549148874045,0.65813218128552409,{"$error":"#REF!"},{"$error":"#REF!"}]
[null,null,1675,6.7222101824427911,298.44522259953203,null,{"$error":"#REF!"},124.61256605733267,44.282925385374135,17.343780058293458,7.1783978574603475,2.5293012585011292,0.66322893062900035,{"$error":"#REF!"},{"$error":"#REF!"}]
[null,null,1700,6.8225416777031311,300.68199472976227,null,{"$error":"#REF!"},125.53441669994216,44.60556215771949,17.472731871388056,7.2317695801022781,2.5481067312440917,0.66828876606655918,{"$error":"#REF!"},{"$error":"#REF!"}]
[null,null,1725,6.9228731729634712,302.9025102106516,null,{"$error":"#REF!"},126.44947994064744,44.925788097136731,17.600738944384748,7.2847502853147983,2.5667744293894423,0.67331249199298349,{"$error":"#REF!"},{"$error":"#REF!"}]
[null,null,1750,7.0232046682238112,305.10712026608564,null,{"$error":"#REF!"},127.35790305105519,45.243655771627083,17.727821742316344,7.3373484433475973,2.5853073374211335,0.67830088390912935,{"$error":"#REF!"},{"$error":"#REF!"}]
[null,null,1775,7.1235361634841512,307.29616363939397,null,{"$error":"#REF!"},128.259828056169,45.559215870926167,17.854000001856896,7.389572222990771,2.6037083336041307,0.68325468985643401,{"$error":"#REF!"},{"$error":"#REF!"}]
[null,null,1800,7.2238676587444912,309.46996720581626,null,{"$error":"#REF!"},129.1553919923258,45.872517299037284,17.979292767104834,7.441429506385056,2.6219801952027884,0.68817463176106641,{"$error":"#REF!"},{"$error":"#REF!"}]
[null,null,1825,{"$f":"C83/249.174","v":7.3241991540048321},311.62884654685018,null,{"$f":"IF($G$15=\"\",\"\", IF(AND(C83>=$M$5,C83>=$G$15*$K$5,C83>0),(C83-$G$15*$J$5)^$H$5*($I$5+C83*$L$5),\"---\"))","v":{"$error":"#REF!"}},{"$f":"IF($G$15=\"\",\"\", IF(AND(C83>=$M$6,C83>=$G$15*$K$6,C83>0),(C83-$G$15*$J$6)^$H$6*($I$6+C83*$L$6),\"---\"))","v":130.04472714905651},{"$f":"IF($G$15=\"\",\"\", IF(AND(C83>=$M$7,C83>=$G$15*$K$7,C83>0),(C83-$G$15*$J$7)^$H$7*($I$7+C83*$L$7),\"---\"))","v":46.183607260988126},{"$f":"IF($G$15=\"\",\"\", IF(AND(C83>=$M$8,C83>=$G$15*$K$8,C83>0),(C83-$G$15*$J$8)^$H$8*($I$8+C83*$L$8),\"---\"))","v":18.103718423137003},{"$f":"IF($G$15=\"\",\"\", IF(AND(C83>=$M$9,C83>=$G$15*$K$9,C83>0),(C83-$G$15*$J$9)^$H$9*($I$9+C83*$L$9),\"---\"))","v":7.4929279029094822},{"$f":"IF($G$15=\"\",\"\", IF(AND(C83>=$M$10,C83>=$G$15*$K$10,C83>0),(C83-$G$15*$J$10)^$H$10*($I$10+C83*$L$10),\"---\"))","v":2.6401256033741465},{"$f":"IF($G$15=\"\",\"\", IF(AND(C83>=$M$11,C83>=$G$15*$K$11,C83>0),(C83-$G$15*$J$11)^$H$11*($I$11+C83*$L$11),\"---\"))","v":0.69306140669458194},{"$f":"IF($G$15=\"\",\"\", IF(AND(C83>=$M$12,C83>=$G$15*$K$12,C83>0),(C83-$G$15*$J$12)^$H$12*($I$12+C83*$L$12),\"---\"))","v":{"$error":"#REF!"}},{"$f":"IF($G$15=\"\",\"\", IF(AND(C83>=$M$13,C83>=$G$15*$K$13,C83>0),(C83-$G$15*$J$13)^$H$13*($I$13+C83*$L$13),\"---\"))","v":{"$error":"#REF!"}}]
[null,null,1850,7.4245306492651721,313.773106489339,null,{"$f":"IF($G$15=\"\",\"\", IF(AND(C84>=$M$5,C84>=$G$15*$K$5,C84>0),(C84-$G$15*$J$5)^$H$5*($I$5+C84*$L$5),\"---\"))","v":{"$error":"#REF!"}},130.92796129607879,46.492531344245691,18.227294727501178,7.5440747622157662,2.6581471477605887,0.69791568805733584,{"$error":"#REF!"},{"$error":"#REF!"}]
[null,null,1875,7.5248621445255122,null,null,{"$f":"IF($G$15=\"\",\"\", IF(AND(C85>=$M$5,C85>=$G$15*$K$5,C85>0),(C85-$G$15*$J$5)^$H$5*($I$5+C85*$L$5),\"---\"))","v":{"$error":"#REF!"}},131.80521789652241,46.799333595185537,18.350038839799613,7.5948771864726172,2.6760473308041104,0.70273812669036684,{"$error":"#REF!"},{"$error":"#REF!"}]
[null,null,1900,7.6251936397858522,null,null,{"$f":"IF($G$15=\"\",\"\", IF(AND(C86>=$M$5,C86>=$G$15*$K$5,C86>0),(C86-$G$15*$J$5)^$H$5*($I$5+C86*$L$5),\"---\"))","v":{"$error":"#REF!"}},132.67661630739624,47.104056590977734,18.471967349503313,7.6453420418777593,2.6938285718025665,0.70752935192096889,{"$error":"#REF!"},{"$error":"#REF!"}]
[null,null,1925,7.7255251350461922,null,null,{"$f":"IF($G$15=\"\",\"\", IF(AND(C87>=$M$5,C87>=$G$15*$K$5,C87>0),(C87-$G$15*$J$5)^$H$5*($I$5+C87*$L$5),\"---\"))","v":{"$error":"#REF!"}},133.54227196821606,47.406741507220701,18.593096302124572,7.6954759694904471,2.7114932107265002,0.71228997254671977,{"$error":"#REF!"},{"$error":"#REF!"}]
[null,null,1950,7.8258566303065322,null,null,null,134.40229657863705,47.707428181626419,18.713441223864745,7.7452853954329086,2.7290435118136087,0.71702057776234518,{"$error":"#REF!"},{"$error":"#REF!"}]
[null,null,1975,7.9261881255668731,null,null,null,135.25679826586446,48.006155174034561,18.833017144844383,7.7947765405050369,2.7464816669564729,0.72172173803341977,{"$error":"#REF!"},{"$error":"#REF!"}]
[null,null,2000,8.0265196208272123,null,null,null,136.10588174255216,48.302959823011356,18.951838621014179,7.8439554292530911,2.7638097988979013,0.72639400592059478,{"$error":"#REF!"},{"$error":"#REF!"}]
[null,null,2025,8.1268511160875523,null,null,null,136.94964845584133,48.597878299267627,19.069919754837109,7.8928278985298039,2.7810299642470788,0.7310379168577309,{"$error":"#REF!"},{"$error":"#REF!"}]
[null,null,2050,8.2271826113478941,null,null,null,137.78819672813887,48.890945656111249,19.18727421482501,7.9413996055803517,2.7981441563286475,0.73565398988704911,{"$error":"#REF!"},{"$error":"#REF!"}]
[null,null,2075,8.3275141066082341,null,null,null,138.62162189018952,49.182195877133204,19.303915254006135,7.9896760356858731,2.8151543078758952,0.74024272835417237,{"$error":"#REF!"},{"$error":"#REF!"}]
[null,null,2100,8.4278456018685741,null,null,null,139.45001640694946,49.471661921310307,19.419855727394392,8.0376625093937903,2.8320622935783488,0.74480462056569618,{"$error":"#REF!"},{"$error":"#REF!"}]
[null,null,2125,8.5281770971289141,null,null,null,140.27346999673301,49.759375765693093,19.535108108525403,8.0853641893619024,2.848869932493288,0.74934014041173513,{"$error":"#REF!"},{"$error":"#REF!"}]
[null,null,2150,8.6285085923892542,null,null,null,141.09206974406564,50.045368445835742,19.649684505119591,8.1327860868411648,2.8655789903299405,0.75384974795569415,{"$error":"#REF!"},{"$error":"#REF!"}]
[null,null,2175,8.7288400876495942,null,null,null,141.9059002066455,50.329670094111393,19.763596673928028,8.1799330678202118,2.882191181614504,0.75833388999335427,{"$error":"#REF!"},{"$error":"#REF!"}]
[null,null,2200,8.8291715829099342,null,null,null,142.71504351678445,50.612309976047193,19.876856034812477,8.2268098588529419,2.8987081717434862,0.76279300058320099,{"$error":"#REF!"},{"$error":"#REF!"}]
[null,null,2225,8.9295030781702742,null,null,null,143.51957947767394,50.893316524802259,19.98947368410742,8.2734210525889047,2.9151315789323324,0.76722750154978481,{"$error":"#REF!"},{"$error":"#REF!"}]
[null,null,2250,9.0298345734306142,null,null,null,144.31958565479317,51.172717373903232,20.101460407308348,8.319771113024844,2.9314629760658009,0.77163780296176943,{"$error":"#REF!"},{"$error":"#REF!"}]
[null,null,2275,9.1301660686909543,null,null,null,145.11513746275702,51.450539388344112,20.212826691127276,8.3658643804943456,2.9477038924560612,0.77602430358621244,{"$error":"#REF!"},{"$error":"#REF!"}]
[null,null,2300,9.2304975639512943,null,null,null,145.90630824787908,51.726808694148907,20.323582734953728,8.4117050764114047,2.9638558155140857,0.78038739132050017,{"$error":"#REF!"},{"$error":"#REF!"}]
[null,null,2325,9.3308290592116343,null,null,null,146.69316936670307,52.001550706488679,20.433738461756608,8.4572973077825964,2.9799201923395056,0.78472744360327218,{"$error":"#REF!"},{"$error":"#REF!"}]
[null,null,2350,9.4311605544719743,null,null,null,147.47579026074419,52.274790156439195,20.543303528459909,8.5026450715014636,2.9958984312337371,0.78904482780557295,{"$error":"#REF!"},{"$error":"#REF!"}]
[null,null,2375,9.5314920497323161,null,null,null,148.25423852765772,52.546551116457593,20.652287335823008,8.5477522584378569,3.0117919031408555,0.79333990160337176,{"$error":"#REF!"},{"$error":"#REF!"}]
[null,null,2400,9.6318235449926561,null,null,null,149.02857998904511,52.816857024653167,20.760699037854131,8.592622657334072,3.0276019430203944,0.79761301333253842,{"$error":"#REF!"},{"$error":"#REF!"}]
[null,null,2425,9.7321550402529962,null,null,null,149.79887875508618,53.085730707920689,20.868547550783681,8.6372599585188006,3.0433298511559537,0.80186450232726492,{"$error":"#REF!"},{"$error":"#REF!"}]
[null,null,2450,9.8324865355133362,null,null,null,150.56519728618025,53.35319440400076,20.975841561622303,8.6816677574492314,3.0589768944032527,0.80609469924287147,{"$error":"#REF!"},{"$error":"#REF!"}]
[null,null,2475,9.9328180307736762,null,null,null,151.32759645176145,53.619269782527773,21.082589536326974,8.7258495580908875,3.0745443073810175,0.81030392636386872,{"$error":"#REF!"},{"$error":"#REF!"}]
[null,null,2500,10.033149526034016,null,null,null,152.08613558644572,53.883977965121147,21.188799727596788,8.7698087761442256,3.0900332936078652,0.81449249789808575,{"$error":"#REF!"},{"$error":"#REF!"}]
[null,null,2525,10.133481021294356,null,null,null,152.84087254365659,54.147339544572922,21.294480182318793,8.8135487421263896,3.1054450265881575,0.81866072025764358,{"$error":"#REF!"},{"$error":"#REF!"}]
[null,null,2550,10.233812516554696,null,null,null,153.5918637468653,54.409374603180552,21.399638748682882,8.8570727043159714,3.120780650849587,0.82280889232746024,{"$error":"#REF!"},{"$error":"#REF!"}]
[null,null,2575,10.334144011815036,null,null,null,154.33916423857499,54.670102730270948,21.504283082983537,8.9003838315681865,3.136041282935099,0.82693730572198432,{"$error":"#REF!"},{"$error":"#REF!"}]
[null,null,2600,10.434475507075376,null,null,null,155.08282772716854,54.929543038959302,21.608420656125102,8.9434852160073337,3.1512280123515777,0.83104624503076185,{"$error":"#REF!"},{"$error":"#REF!"}]
[null,null,2625,10.534807002335716,null,null,null,155.82290663173296,55.187714182182745,21.712058759846244,8.9863798756030295,3.1663419024775776,0.83513598805343703,{"$error":"#REF!"},{"$error":"#REF!"}]
[null,null,2650,10.635138497596056,null,null,null,156.55945212496655,55.444634368046898,21.815204512678264,9.0290707566362816,3.1813839914322473,0.8392068060247303,{"$error":"#REF!"},{"$error":"#REF!"}]
[null,null,2675,10.735469992856398,null,null,null,157.29251417426676,55.700321374521081,21.917864865651037,9.071560736061123,3.1963552929074428,0.8432589638299175,{"$error":"#REF!"},{"$error":"#REF!"}]
[null,null,2700,10.835801488116738,null,null,null,158.02214158109368,55.954792563515646,22.020046607759536,9.1138526237671407,3.2112567969649324,0.84729272021128932,{"$error":"#REF!"},{"$error":"#REF!"}]
[null,null,2725,10.936132983377078,null,null,null,158.74838201869676,56.208064894372562,22.121756371203084,9.155949164747943,3.2260894708004497,0.85130832796605449,{"$error":"#REF!"},{"$error":"#REF!"}]
[null,null,2750,11.036464478637418,null,null,null,159.47128206828503,56.460154936799199,22.223000636408809,9.1978530411803128,3.240854259476285,0.85530603413611239,{"$error":"#REF!"},{"$error":"#REF!"}]
[null,null,2775,11.136795973897758,null,null,null,160.19088725372197,56.711078883273238,22.323785736850017,9.2395668744184807,3.2555520866239611,0.85928608019010244,{"$error":"#REF!"},{"$error":"#REF!"}]
[null,null,2800,11.237127469158098,null,null,null,160.90724207481452,56.960852560944225,22.424117863669697,9.2810932269077355,3.2701838551184976,0.86324870219811001,{"$error":"#REF!"},{"$error":"#REF!"}]
[null,null,2825,11.337458964418438,null,null,null,161.62039003926782,57.209491443057438,22.524003070118606,9.3224346040213124,3.2847504477256306,0.86719413099938725,{"$error":"#REF!"},{"$error":"#REF!"}]
[null,null,2850,11.437790459678778,null,null,null,162.33037369336915,57.457010659922432,22.623447275817064,9.3635934558242848,3.2992527277233217,0.87112259236342859,{"$error":"#REF!"},{"$error":"#REF!"}]
[null,null,2875,11.538121954939118,null,null,null,163.03723465146248,57.70342500944885,22.722456270848813,9.4045721787679817,3.3136915394987856,0.87503430714471997,{"$error":"#REF!"},{"$error":"#REF!"}]
[null,null,2900,11.638453450199458,null,null,null,163.74101362427132,57.948748967269637,22.821035719695079,9.4453731173182405,3.3280677091221991,0.8789294914314576,{"$error":"#REF!"},{"$error":"#REF!"}]
[null,null,2925,11.738784945459798,null,null,null,164.44175044612541,58.192996696471965,22.919191165016287,9.4859985655206298,3.3423820448982089,0.8828083566885393,{"$error":"#REF!"},{"$error":"#REF!"}]
[null,null,2950,11.839116440720138,null,null,null,165.13948410114031,58.436182056953399,23.016928031288685,9.5264507685055939,3.3566353378962668,0.88667110989506481,{"$error":"#REF!"},{"$error":"#REF!"}]
[null,null,2975,11.939447935980478,null,null,null,165.83425274840221,58.678318614421578,23.114251628302501,9.5667319239363131,3.3708283624607818,0.89051795367663267,{"$error":"#REF!"},{"$error":"#REF!"}]
[null,null,3000,12.03977943124082,null,null,null,166.52609374619945,58.919419649053225,23.211167154528162,9.6068441834019342,3.3849618767020235,0.89434908643265165,{"$error":"#REF!"},{"$error":"#REF!"}]
[null,null,3025,12.14011092650116,null,null,null,167.21504367534877,59.159498163828729,23.307679700356466,9.6467896537586491,3.3990366229686515,0.89816470245890501,{"$error":"#REF!"},{"$error":"#REF!"}]
[null,null,3050,12.2404424217615,null,null,null,167.90113836165375,59.398566892556211,23.403794251218564,9.6865703984210167,3.4130533283027074,0.90196499206557057,{"$error":"#REF!"},{"$error":"#REF!"}]
[null,null,3075,12.34077391702184,null,null,null,168.58441289753762,59.636638307600286,23.499515690591007,9.7261884386057229,3.4270127048778556,0.90575014169092638,{"$error":"#REF!"},{"$error":"#REF!"}]
[null,null,3100,12.44110541228218,null,null,null,169.26490166288391,59.873724627327299,23.594848802891175,9.7656457545299578,3.4409154504216297,0.90952033401088839,{"$error":"#REF!"},{"$error":"#REF!"}]
[null,null,3125,12.54143690754252,null,null,null,169.94263834512398,60.109837823280799,23.689798276267723,9.8049442865663625,3.4547622486223761,0.91327574804462541,{"$error":"#REF!"},{"$error":"#REF!"}]
[null,null,3150,12.64176840280286,null,null,null,170.61765595860038,60.344989627098343,23.784368705290863,9.8440859363564961,3.4685537695215842,0.91701655925636072,{"$error":"#REF!"},{"$error":"#REF!"}]
[null,null,3175,12.7420998980632,null,null,null,171.28998686324096,60.579191537181522,23.878564593546685,9.8830725678846001,3.4822906698922251,0.92074293965357246,{"$error":"#REF!"},{"$error":"#REF!"}]
[null,null,3200,12.84243139332354,null,null,null,171.95966278257194,60.81245482512908,23.972390356139776,9.9219060085134085,3.4959735936037175,0.92445505788172588,{"$error":"#REF!"},{"$error":"#REF!"}]
[null,null,3225,12.94276288858388,null,null,null,172.62671482109761,61.044790541944387,24.065850322107991,9.9605880499835866,3.5096031719740823,0.92815307931569013,{"$error":"#REF!"},{"$error":"#REF!"}]
[null,null,3250,13.04309438384422,null,null,null,173.29117348107684,61.276209524026022,24.158948736753167,9.9991204493783936,3.5231800241098368,0.93183716614798517,{"$error":"#REF!"},{"$error":"#REF!"}]
[null,null,3275,13.14342587910456,null,null,null,173.95306867871716,61.506722398950885,24.251689763891289,10.037504930055006,3.5367047572341463,0.93550747747398133,{"$error":"#REF!"},{"$error":"#REF!"}]
[null,null,3300,13.2437573743649,null,null,null,174.61242975981435,61.736339591058623,24.344077488025533,10.075743182543901,3.5501779670037239,0.93916416937419178,{"$error":"#REF!"},{"$error":"#REF!"}]
[null,null,3325,13.344088869625242,null,null,null,175.26928551485969,61.965071326845674,24.436115916445345,10.113836865417658,3.5636002378149465,0.94280739499377197,{"$error":"#REF!"},{"$error":"#REF!"}]
[null,null,3350,13.444420364885582,null,null,null,175.92366419363685,62.192927640176762,24.527808981254637,10.151787606130391,3.5769721430996348,0.94643730461934017,{"$error":"#REF!"},{"$error":"#REF!"}]
[null,null,3375,13.544751860145922,null,null,null,176.57559351932886,62.419918377321345,24.619160541331983,10.189597001829071,3.5902942456109144,0.95005404575323027,{"$error":"#REF!"},{"$error":"#REF!"}]
[null,null,3400,13.645083355406262,null,null,null,177.225100702155,62.646053201821871,24.710174384225617,10.227266620137824,3.6035670976995693,0.95365776318528239,{"$error":"#REF!"},{"$error":"#REF!"}]
[null,null,3425,{"$f":"C147/249.174","v":13.745414850666602},null,null,null,{"$f":"IF($G$15=\"\",\"\", IF(AND(C147>=$M$6,C147>=$G$15*$K$6,C147>0),(C147-$G$15*$J$6)^$H$6*($I$6+C147*$L$6),\"---\"))","v":177.87221245255796},{"$f":"IF($G$15=\"\",\"\", IF(AND(C147>=$M$7,C147>=$G$15*$K$7,C147>0),(C147-$G$15*$J$7)^$H$7*($I$7+C147*$L$7),\"---\"))","v":62.871341599201074},{"$f":"IF($G$15=\"\",\"\", IF(AND(C147>=$M$8,C147>=$G$15*$K$8,C147>0),(C147-$G$15*$J$8)^$H$8*($I$8+C147*$L$8),\"---\"))","v":24.800854227985816},{"$f":"IF($G$15=\"\",\"\", IF(AND(C147>=$M$9,C147>=$G$15*$K$9,C147>0),(C147-$G$15*$J$9)^$H$9*($I$9+C147*$L$9),\"---\"))","v":10.264797999916352},{"$f":"IF($G$15=\"\",\"\", IF(AND(C147>=$M$10,C147>=$G$15*$K$10,C147>0),(C147-$G$15*$J$10)^$H$10*($I$10+C147*$L$10),\"---\"))","v":3.6167912415812649},{"$f":"IF($G$15=\"\",\"\", IF(AND(C147>=$M$11,C147>=$G$15*$K$11,C147>0),(C147-$G$15*$J$11)^$H$11*($I$11+C147*$L$11),\"---\"))","v":0.95724859906226589},{"$f":"IF($G$15=\"\",\"\", IF(AND(C147>=$M$12,C147>=$G$15*$K$12,C147>0),(C147-$G$15*$J$12)^$H$12*($I$12+C147*$L$12),\"---\"))","v":{"$error":"#REF!"}},{"$f":"IF($G$15=\"\",\"\", IF(AND(C147>=$M$13,C147>=$G$15*$K$13,C147>0),(C147-$G$15*$J$13)^$H$13*($I$13+C147*$L$13),\"---\"))","v":{"$error":"#REF!"}}]
[null,null,3450,13.845746345926942,null,null,null,178.51695499395814,63.095792881514804,24.891203722937224,10.302192651993462,3.6299672095950117,0.96082669295504031,{"$f":"IF($G$15=\"\",\"\", IF(AND(C148>=$M$12,C148>=$G$15*$K$12,C148>0),(C148-$G$15*$J$12)^$H$12*($I$12+C148*$L$12),\"---\"))","v":{"$error":"#REF!"}},{"$f":"IF($G$15=\"\",\"\", IF(AND(C148>=$M$13,C148>=$G$15*$K$13,C148>0),(C148-$G$15*$J$13)^$H$13*($I$13+C148*$L$13),\"---\"))","v":{"$error":"#REF!"}}]
[null,null,3475,13.946077841187282,null,null,null,179.15935407509201,63.319416191755835,24.981226453393475,10.339452059876745,3.6430955244532157,0.96439218192352605,{"$f":"IF($G$15=\"\",\"\", IF(AND(C149>=$M$12,C149>=$G$15*$K$12,C149>0),(C149-$G$15*$J$12)^$H$12*($I$12+C149*$L$12),\"---\"))","v":{"$error":"#REF!"}},{"$f":"IF($G$15=\"\",\"\", IF(AND(C149>=$M$13,C149>=$G$15*$K$13,C149>0),(C149-$G$15*$J$13)^$H$13*($I$13+C149*$L$13),\"---\"))","v":{"$error":"#REF!"}}]
[null,null,3500,14.046409336447622,null,null,null,179.7994349819522,63.542220508115527,25.070925939316403,10.376577680439288,3.656176699483642,0.96794520057958633,{"$f":"IF($G$15=\"\",\"\", IF(AND(C150>=$M$12,C150>=$G$15*$K$12,C150>0),(C150-$G$15*$J$12)^$H$12*($I$12+C150*$L$12),\"---\"))","v":{"$error":"#REF!"}},{"$f":"IF($G$15=\"\",\"\", IF(AND(C150>=$M$13,C150>=$G$15*$K$13,C150>0),(C150-$G$15*$J$13)^$H$13*($I$13+C150*$L$13),\"---\"))","v":{"$error":"#REF!"}}]
[null,null,3525,14.146740831707962,null,null,null,180.43722254934363,63.764214648108116,25.160305637922008,10.413570944584388,3.6692112388636264,0.97148588114790191]
[null,null,3550,14.247072326968302,null,null,null,181.07274117207174,63.985407272563478,25.24936894523529,10.450433257889051,3.6821996378468129,0.97501435352490151]
[null,null,3575,14.347403822228642,null,null,null,181.70601481577671,64.205806889493346,25.338119197595827,10.487166001227163,3.6951423829827252,0.97853074533584339]
[null,null,3600,14.447735317488982,null,null,null,182.3370670274264,64.425421857835531,25.426559673116145,10.523770531373073,3.7080399523294383,0.98203518199010098]
[null,null,3625,14.548066812749324,null,null,null,182.96592094548257,64.64426039108146,25.514693593094513,10.56024818158634,3.7208928156596168,0.9855277867347354]
[null,null,3650,14.648398308009664,null,null,null,183.59259930975114,64.862330560790923,25.602524123384015,10.596600262178384,3.7337014346601691,0.98900868070640657]
[null,null,3675,14.748729803270004,null,null,null,184.21712447093046,65.079640299998118,25.690054375719455,10.632828061061664,3.7464662631257544,0.99247798298169554]
[null,null,3700,14.849061298530344,null,null,null,184.83951839986611,65.296197406514096,25.777287409003776,10.668932844282118,3.7591877471463842,0.99593581062589209]
[null,null,3725,14.949392793790684,null,null,null,185.45980269652546,65.512009546127786,25.864226230555332,10.704915856535402,3.7718663252893196,0.99938227874030727]
[null,null,3750,15.049724289051024,null,null,null,186.07799859870164,65.727084255711446,25.950873797317666,10.740778321667589,3.7845024287754931,1.0028175005081621]
[null,null,3775,15.150055784311364,null,null,null,186.69412699045597,65.941428946231539,26.037233017032946,10.77652144316086,3.7970964816506383]
[null,null,3800,15.250387279571704,null,null,null,187.30820841031013,66.155050905671303,26.123306749380575,10.812146404604738,3.8096489009513341]
[null,null,3825,15.350718774832044,null,null,null,187.9202630591943,66.367957301865374,26.209097807082081,10.847654370153418,3.8221600968661371]
[null,null,3850,15.451050270092384,null,null,null,188.53031080816405,66.580155185251968,26.294608956973612,10.883046484969634,3.8346304728919853]
[null,null,3875,15.551381765352724,null,null,null,189.13837120588977,66.791651491544201,26.379842921047103,10.918323875655606,3.8470604259860357]
[null,null,3900,15.651713260613064,null,null,null,189.74446348593113,67.002453044323744,26.464802377461293,10.95348765067148,3.8594503467131052]
[null,null,3925,15.752044755873404,null,null,null,190.34860657379963,67.212566557559839,26.549489961523612,10.988538900741718,3.8718006193888601]
[null,null,3950,15.852376251133746,null,null,null,190.95081909382009,67.421998638055925,26.633908266643953,11.023478699249859,3.88411162221891]
[null,null,3975,15.952707746394086,null,null,null,191.55111937579761,67.630755787826516,26.718059845261351,11.05830810262206,3.8963837274339475]
[null,null,4000,16.053039241654425,null,null,null,192.14952546149468,67.83884440640665,26.801947209744466,11.093028150699793,3.9086173014210681]
[null,null,4025,16.153370736914766,null,null,null,192.74605511092645,68.046270793097037,26.885572833266753,11.127639867102072,3.9208127048514019]
[null,null,4050,16.253702232175105,null,null,null,193.34072580848175,68.253041149145247,26.968939150657249,11.162144259577584,3.9329702928041823]
[null,null,4075,16.354033727435446,null,null,null,193.93355476887194,68.459161579867356,27.052048559227735,11.196542320347035,3.9450904148873782]
[null,null,4100,16.454365222695788,null,null,null,194.52455894291828,68.66463809671032,27.134903419577107,11.230835026436081,3.9571734153549949]
[null,null,4125,16.554696717956126,null,null,null,195.11375502317733,68.869476619257981,27.217506056373711,11.26502333999912,3.9692196332211664]
[null,null,4150,16.655028213216468,null,null,null,195.70115944941665,69.073682977182187,27.299858759116347,11.299108208634266,3.9812294023711341]
[null,null,4175,16.755359708476806,null,null,null,196.28678841393986,69.277262912141268,27.381963782874731,11.333090565689821,3.9932030516692318]
[null,null,4200,16.855691203737148,null,null,null,196.87065786676953,69.480222079626841,27.463823349009974,11.366971330562462,4.0051409050639553]
[null,null,4225,16.956022698997486,null,null,null,197.45278352068937,69.68256605076165,27.545439645875824,11.400751408987494,4.0170432816902251]
[null,null,4250,17.056354194257828,null,null,null,198.03318085615629,69.884300314049156,27.626814829501239,11.434431693321347,4.0289104959689315]
[null,null,4275,17.156685689518167,null,null,null,198.61186512607722,70.08543027707664,27.707951024254964,11.468013062816638,4.0407428577038491]
[null,null,4300,17.257017184778508,null,null,null,199.18885136046535,70.285961268174049,27.788850323492582,11.501496383889986,4.0525406721760016]
[null,null,4325,17.357348680038847,null,null,null,199.76415437097157,70.485898538028749,27.869514790186713,11.534882510382834,4.0643042402355629]
[null,null,4350,17.457680175299188,null,null,null,200.33778875529902,70.685247261258652,27.949946457540808,11.568172283815501,4.0760338583913676]
[null,null,4375,17.558011670559527,null,null,null,200.90976890150358,70.884012537944486,28.030147329587123,11.601366533634671,4.0877298188981221]
[null,null,4400,17.658343165819868,null,null,null,201.48010899218372,71.082199395122643,28.110119381769302,11.634466077454517,4.0993924098413572]
[null,null,4425,17.75867466108021,null,null,null,202.04882300856437,71.279812788239767,28.18986456151012,11.66747172129169,4.1110219152202268]
[null,null,4450,17.859006156340548,null,null,null,202.61592473447499,71.476857602570448,28.269384788764793,11.700384259794317,4.1226186150281992]
[null,null,4475,17.95933765160089,null,null,null,203.1814277602289,71.673338654599263,28.348681956560316,11.733204476465241,4.1341827853317126]
[null,null,4500,18.059669146861228,null,null,null,203.74534548640466,71.869260693367195,28.427757931521267,11.765933143879636,4.1457146983468514]
[null,null,4525,18.16000064212157,null,null,null,204.30769112753231,72.064628401785441,28.506614554382505,11.798571023897203,4.1572146225141156]
[null,null,4550,18.260332137381909,null,null,null,204.86847771568949,72.259446397915923,28.585253640489086,11.831118867869094,4.1686828225713253]
[null,null,4575,18.36066363264225,null,null,null,205.42771810400731,72.453719236220024,28.663676980283888,11.863577416839721,4.1801195596247336]
[null,null,4600,18.460995127902589,null,null,null,205.98542497009072,72.64745140877713,28.741886339783242,11.895947401743621,4.1915250912183897]
[null,null,4625,18.56132662316293,null,null,null,206.5416108193551,72.84064734647265,28.819883461040931,11.928229543597496,4.2028996714018021]
[null,null,4650,18.661658118423269,null,null,null,207.09628798828211,73.033311420157702,28.897670062600941,11.960424553687613,4.2142435507959712]
[null,null,4675,18.76198961368361,null,null,null,207.64946864759662,73.225447941780388,28.975247839939261,11.992533133752639,4.2255569766578089]
[null,null,4700,18.862321108943949,null,null,null,208.20116480536691,73.417061165490111,29.052618465895062,12.024555976162123,4.2368401929430304]
[null,null,4725,18.96265260420429,null,null,null,208.75138831003133,73.608155288714912,29.129783591091591,12.056493764090686,4.2480934403675237]
[null,null,4750,19.062984099464632,null,null,null,209.30015085335191,73.798734453213555,29.206744844347018,12.088347171688071,4.2593169564672735]
[null,null,4775,19.16331559472497,null,null,null,209.84746397330039,73.988802746103005,29.283503833075589,12.120116864245174,4.2705109756568573]
[null,null,4800,19.263647089985312,null,null,null,210.39333905687266,74.178364200860599,29.360062143679382,12.151803498356189,4.2816757292865768]
[null,null,4825,19.363978585245651,null,null,null,210.93778734284103,74.367422798303778,29.436421341930767,12.1834077220769,4.2928114456982369]
[null,null,4850,19.464310080505992,null,null,null,211.48081992443971,74.555982467546499,29.51258297334612,12.214930175079367,4.303918350279643]
[null,null,4875,19.564641575766331,null,null,null,212.02244775198955,74.74404708693325,29.588548563550752,12.24637148880295,4.3149966655178185]
[null,null,4900,19.664973071026672,null,null,null,212.56268163546119,74.931620484952106,29.664319618635503,12.277732286601918,4.3260466110510114]
[null,null,4925,19.765304566287011,null,null,null,213.10153224698055,75.118706441125951,29.739897625505126,12.309013183889622,4.3370684037194973]
[null,null,4950,19.865636061547352,null,null,null,213.63901012327599,75.305308686884317,29.815284052218708,12.340214788279409,4.3480622576152284]
[null,null,4975,19.965967556807691,null,null,null,214.17512566807076,75.49143090641445,29.890480348322431,12.371337699722339,4.3590283841303545]